Workbook
Name OLE_LINK1: 'PHEP NH 2015-2016'!$A$1

Sheet T09-2013
A1: TRƯỜNG CĐKT LÝ TƯ TRỌNG TP.HCM | J1: BẢNG CHẤM CÔNG
A2: ĐƠN VỊ : PHÒNG KT&KĐCLGD | M2: THÁNG | P2: 9 | R2: NĂM | T2: 2013
A4: STT | B4: HỌ VÀ TÊN | D4: 41518 | E4: =D4+1 -> 41519 | F4: =E4+1 -> 41520 | G4: =F4+1 -> 41521 | H4: =G4+1 -> 41522 | I4: =H4+1 -> 41523 | J4: =I4+1 -> 41524 | K4: =J4+1 -> 41525 | L4: =K4+1 -> 41526 | ... AH4: =AG4+1 -> 41548 | AI4: TS.NGÀY LV
C5: THỨ | D5: =IF(WEEKDAY(D4)=1,"CN",IF(WEEKDAY(D4)=2,"T2",IF(WEEKDAY(D4)=3,"T3",IF(WEEKDAY(D4)=4,"T4",IF(WEEKDAY(D4)=5,"T5",IF(WEEKDAY(D4)=6,"T6","T7")))))) -> CN | E5: =IF(WEEKDAY(E4)=1,"CN",IF(WEEKDAY(E4)=2,"T2",IF(WEEKDAY(E4)=3,"T3",IF(WEEKDAY(E4)=4,"T4",IF(WEEKDAY(E4)=5,"T5",IF(WEEKDAY(E4)=6,"T6","T7")))))) -> T2 | F5: =IF(WEEKDAY(F4)=1,"CN",IF(WEEKDAY(F4)=2,"T2",IF(WEEKDAY(F4)=3,"T3",IF(WEEKDAY(F4)=4,"T4",IF(WEEKDAY(F4)=5,"T5",IF(WEEKDAY(F4)=6,"T6","T7")))))) -> T3 | G5: =IF(WEEKDAY(G4)=1,"CN",IF(WEEKDAY(G4)=2,"T2",IF(WEEKDAY(G4)=3,"T3",IF(WEEKDAY(G4)=4,"T4",IF(WEEKDAY(G4)=5,"T5",IF(WEEKDAY(G4)=6,"T6","T7")))))) -> T4 | H5: =IF(WEEKDAY(H4)=1,"CN",IF(WEEKDAY(H4)=2,"T2",IF(WEEKDAY(H4)=3,"T3",IF(WEEKDAY(H4)=4,"T4",IF(WEEKDAY(H4)=5,"T5",IF(WEEKDAY(H4)=6,"T6","T7")))))) -> T5 | I5: =IF(WEEKDAY(I4)=1,"CN",IF(WEEKDAY(I4)=2,"T2",IF(WEEKDAY(I4)=3,"T3",IF(WEEKDAY(I4)=4,"T4",IF(WEEKDAY(I4)=5,"T5",IF(WEEKDAY(I4)=6,"T6","T7")))))) -> T6 | J5: =IF(WEEKDAY(J4)=1,"CN",IF(WEEKDAY(J4)=2,"T2",IF(WEEKDAY(J4)=3,"T3",IF(WEEKDAY(J4)=4,"T4",IF(WEEKDAY(J4)=5,"T5",IF(WEEKDAY(J4)=6,"T6","T7")))))) -> T7 | K5: =IF(WEEKDAY(K4)=1,"CN",IF(WEEKDAY(K4)=2,"T2",IF(WEEKDAY(K4)=3,"T3",IF(WEEKDAY(K4)=4,"T4",IF(WEEKDAY(K4)=5,"T5",IF(WEEKDAY(K4)=6,"T6","T7")))))) -> CN | ... AH5: =IF(WEEKDAY(AH4)=1,"CN",IF(WEEKDAY(AH4)=2,"T2",IF(WEEKDAY(AH4)=3,"T3",IF(WEEKDAY(AH4)=4,"T4",IF(WEEKDAY(AH4)=5,"T5",IF(WEEKDAY(AH4)=6,"T6","T7")))))) -> T3
A6: 1 | B6: HÀ PHƯỚC | C6: TUẤN | F6: X | G6: X | H6: X | I6: X | J6: X | L6: X | M6: X | N6: X | O6: X | P6: X | Q6: X | S6: X | T6: X | U6: X | V6: X | W6: X | X6: X | Z6: X | AA6: X | AB6: X | AC6: X | AD6: X | AE6: X | AG6: X | AI6: =COUNTIF(D6:AH6,"X")+COUNTIF(D6:AH6,"Tr")+COUNTIF(D6:AH6,"BL") -> 24
A7: 2 | B7: TRẦN THỊ DIỄM | C7: THÚY | F7: X | G7: X | H7: X | I7: X | J7: X | L7: X | M7: X | N7: X | O7: X | P7: X | Q7: X | S7: X | T7: X | U7: X | V7: X | AI7: =COUNTIF(D7:AH7,"X")+COUNTIF(D7:AH7,"Tr")+COUNTIF(D7:AH7,"BL") -> 15
A8: 3 | B8: ĐÀM QUANG | C8: HIỆP | F8: X | G8: X | H8: X | I8: X | L8: X | M8: X | N8: X | O8: X | P8: X | S8: X | T8: X | U8: X | V8: X | AI8: =COUNTIF(D8:AH8,"X")+COUNTIF(D8:AH8,"Tr")+COUNTIF(D8:AH8,"BL") -> 13
A9: 4 | B9: VÕ THỊ THU | C9: THỦY | F9: X | G9: X | H9: X | I9: X | L9: X | M9: X | N9: X | O9: X | P9: X | S9: X | T9: X | U9: X | V9: X | AI9: =COUNTIF(D9:AH9,"X")+COUNTIF(D9:AH9,"Tr")+COUNTIF(D9:AH9,"BL") -> 13
A10: 5 | B10: NGUYỄN THỊ TUYẾT | C10: MAI | F10: X | G10: X | H10: X | I10: X | J10: X | L10: X | M10: X | N10: X | O10: X | P10: X | Q10: X | S10: X | T10: X | U10: X | V10: X | AI10: =COUNTIF(D10:AH10,"X")+COUNTIF(D10:AH10,"Tr")+COUNTIF(D10:AH10,"BL") -> 15
A11: 6 | B11: NGUYỄN THANH | C11: SƠN A | F11: X | G11: X | H11: X | I11: X | L11: X | M11: X | N11: X | O11: X | P11: X | S11: X | T11: X | U11: X | V11: X | AI11: =COUNTIF(D11:AH11,"X")+COUNTIF(D11:AH11,"Tr")+COUNTIF(D11:AH11,"BL") -> 13
A12: 7 | B12: NGUYỄN THANH | C12: SƠN B | F12: X | G12: X | H12: X | I12: X | L12: X | M12: X | N12: X | O12: X | P12: X | S12: X | T12: X | U12: X | V12: X | W12: X | X12: X | Z12: X | AA12: X | AB12: X | AC12: X | AD12: X | AG12: X | AI12: =COUNTIF(D12:AH12,"X")+COUNTIF(D12:AH12,"Tr")+COUNTIF(D12:AH12,"BL") -> 21
A13: 8 | B13: NGUYỄN THỊ | C13: THU | F13: X | G13: X | H13: X | I13: X | J13: X | L13: X | M13: X | N13: X | O13: X | P13: X | Q13: X | S13: X | T13: X | U13: X | V13: X | W13: X | X13: X | Z13: X | AA13: P | AB13: X | AC13: X | AD13: X | AE13: X | AG13: X | AI13: =COUNTIF(D13:AH13,"X")+COUNTIF(D13:AH13,"Tr")+COUNTIF(D13:AH13,"BL") -> 23
B21: KÝ HIỆU: | C21: LÀM VIỆC | I21: X | L21: NGHỈ PHÉP | R21: P | U21: NGHỈ CON ỐM | AB21: CÔ | AE21: NGHỈ KHÔNG LƯƠNG Ro
C22: TRỰC TRƯỜNG | I22: Tr | L22: NGHỈ TAI NẠN LĐ | R22: T | U22: NGHỈ VIỆC RIÊNG | AB22: R | AE22: NGHỈ KHÔNG PHÉP KP
C23: ĐI HỌC | I23: Ho | L23: NGHỈ ỐM | R23: Ô | U23: NGHỈ LỄ , TẾT | AB23: L | AE23: NGHỈ THAI SẢN S
C24: Chủ nhật | L24: LÀM BÙ LỄ | R24: BL
B25: Ghi chú: STT từ 2 đến 6 do trung tâm Truyền thông và Thư viện chấm công từ ngày 20/09/2013 | V25: Ngày 30 tháng 09 năm 2013
C26: TRƯỞNG ĐƠN VỊ | W26: NGƯỜI CHẤM CÔNG
C30: HÀ PHƯỚC TUẤN | W30: HÀ PHƯỚC TUẤN

Sheet T10-2013
A1: TRƯỜNG CĐKT LÝ TƯ TRỌNG TP.HCM | J1: BẢNG CHẤM CÔNG
A2: ĐƠN VỊ : PHÒNG KT&KĐCLGD | M2: THÁNG | P2: 10 | R2: NĂM | T2: 2013
A4: STT | B4: HỌ VÀ TÊN | D4: 41548 | E4: =D4+1 -> 41549 | F4: =E4+1 -> 41550 | G4: =F4+1 -> 41551 | H4: =G4+1 -> 41552 | I4: =H4+1 -> 41553 | J4: =I4+1 -> 41554 | K4: =J4+1 -> 41555 | L4: =K4+1 -> 41556 | ... AH4: =AG4+1 -> 41578 | AI4: TS.NGÀY LV
C5: THỨ | D5: =IF(WEEKDAY(D4)=1,"CN",IF(WEEKDAY(D4)=2,"T2",IF(WEEKDAY(D4)=3,"T3",IF(WEEKDAY(D4)=4,"T4",IF(WEEKDAY(D4)=5,"T5",IF(WEEKDAY(D4)=6,"T6","T7")))))) -> T3 | E5: =IF(WEEKDAY(E4)=1,"CN",IF(WEEKDAY(E4)=2,"T2",IF(WEEKDAY(E4)=3,"T3",IF(WEEKDAY(E4)=4,"T4",IF(WEEKDAY(E4)=5,"T5",IF(WEEKDAY(E4)=6,"T6","T7")))))) -> T4 | F5: =IF(WEEKDAY(F4)=1,"CN",IF(WEEKDAY(F4)=2,"T2",IF(WEEKDAY(F4)=3,"T3",IF(WEEKDAY(F4)=4,"T4",IF(WEEKDAY(F4)=5,"T5",IF(WEEKDAY(F4)=6,"T6","T7")))))) -> T5 | G5: =IF(WEEKDAY(G4)=1,"CN",IF(WEEKDAY(G4)=2,"T2",IF(WEEKDAY(G4)=3,"T3",IF(WEEKDAY(G4)=4,"T4",IF(WEEKDAY(G4)=5,"T5",IF(WEEKDAY(G4)=6,"T6","T7")))))) -> T6 | H5: =IF(WEEKDAY(H4)=1,"CN",IF(WEEKDAY(H4)=2,"T2",IF(WEEKDAY(H4)=3,"T3",IF(WEEKDAY(H4)=4,"T4",IF(WEEKDAY(H4)=5,"T5",IF(WEEKDAY(H4)=6,"T6","T7")))))) -> T7 | I5: =IF(WEEKDAY(I4)=1,"CN",IF(WEEKDAY(I4)=2,"T2",IF(WEEKDAY(I4)=3,"T3",IF(WEEKDAY(I4)=4,"T4",IF(WEEKDAY(I4)=5,"T5",IF(WEEKDAY(I4)=6,"T6","T7")))))) -> CN | J5: =IF(WEEKDAY(J4)=1,"CN",IF(WEEKDAY(J4)=2,"T2",IF(WEEKDAY(J4)=3,"T3",IF(WEEKDAY(J4)=4,"T4",IF(WEEKDAY(J4)=5,"T5",IF(WEEKDAY(J4)=6,"T6","T7")))))) -> T2 | K5: =IF(WEEKDAY(K4)=1,"CN",IF(WEEKDAY(K4)=2,"T2",IF(WEEKDAY(K4)=3,"T3",IF(WEEKDAY(K4)=4,"T4",IF(WEEKDAY(K4)=5,"T5",IF(WEEKDAY(K4)=6,"T6","T7")))))) -> T3 | ... AH5: =IF(WEEKDAY(AH4)=1,"CN",IF(WEEKDAY(AH4)=2,"T2",IF(WEEKDAY(AH4)=3,"T3",IF(WEEKDAY(AH4)=4,"T4",IF(WEEKDAY(AH4)=5,"T5",IF(WEEKDAY(AH4)=6,"T6","T7")))))) -> T5
A6: 1 | B6: HÀ PHƯỚC | C6: TUẤN | D6: X | E6: X | F6: X | G6: X | H6: X | J6: X | K6: X | L6: X | M6: X | N6: X | O6: X | Q6: X | R6: X | S6: X | T6: X | U6: X | V6: X | X6: X | Y6: X | Z6: X | AA6: X | AB6: X | AC6: X | AE6: X | AF6: X | AG6: X | AH6: X | AI6: =COUNTIF(D6:AH6,"X")+COUNTIF(D6:AH6,"Tr")+COUNTIF(D6:AH6,"BL") -> 27
A7: 2 | B7: NGUYỄN THANH | C7: SƠN B | D7: X | E7: X | F7: X | G7: X | J7: X | K7: X | L7: X | M7: X | N7: X | Q7: X | R7: X | S7: X | T7: X | U7: X | X7: X | Y7: X | Z7: P | AA7: X | AB7: X | AE7: X | AF7: X | AG7: P | AH7: P | AI7: =COUNTIF(D7:AH7,"X")+COUNTIF(D7:AH7,"Tr")+COUNTIF(D7:AH7,"BL") -> 20
A8: 3 | B8: NGUYỄN THỊ | C8: THU | D8: X | E8: X | F8: X | G8: X | H8: X | J8: X | K8: X | L8: X | M8: X | N8: X | O8: X | Q8: X | R8: X | S8: X | T8: X | U8: X | V8: X | X8: X | Y8: X | Z8: X | AA8: X | AB8: X | AC8: X | AE8: X | AF8: X | AG8: X | AH8: X | AI8: =COUNTIF(D8:AH8,"X")+COUNTIF(D8:AH8,"Tr")+COUNTIF(D8:AH8,"BL") -> 27
B16: KÝ HIỆU: | C16: LÀM VIỆC | I16: X | L16: NGHỈ PHÉP | R16: P | U16: NGHỈ CON ỐM | AB16: CÔ | AE16: NGHỈ KHÔNG LƯƠNG Ro
C17: TRỰC TRƯỜNG | I17: Tr | L17: NGHỈ TAI NẠN LĐ | R17: T | U17: NGHỈ VIỆC RIÊNG | AB17: R | AE17: NGHỈ KHÔNG PHÉP KP
C18: ĐI HỌC | I18: Ho | L18: NGHỈ ỐM | R18: Ô | U18: NGHỈ LỄ , TẾT | AB18: L | AE18: NGHỈ THAI SẢN S
C19: Chủ nhật | L19: LÀM BÙ LỄ | R19: BL
V20: Ngày 31 tháng 10 năm 2013
C21: TRƯỞNG ĐƠN VỊ | W21: NGƯỜI CHẤM CÔNG
C25: HÀ PHƯỚC TUẤN | W25: HÀ PHƯỚC TUẤN

Sheet T11-2013
A1: TRƯỜNG CĐKT LÝ TƯ TRỌNG TP.HCM | J1: BẢNG CHẤM CÔNG
A2: ĐƠN VỊ : PHÒNG KT&KĐCLGD | M2: THÁNG | P2: 11 | R2: NĂM | T2: 2013
A4: STT | B4: HỌ VÀ TÊN | D4: 41579 | E4: =D4+1 -> 41580 | F4: =E4+1 -> 41581 | G4: =F4+1 -> 41582 | H4: =G4+1 -> 41583 | I4: =H4+1 -> 41584 | J4: =I4+1 -> 41585 | K4: =J4+1 -> 41586 | L4: =K4+1 -> 41587 | ... AH4: =AG4+1 -> 41609 | AI4: TS.NGÀY LV
C5: THỨ | D5: =IF(WEEKDAY(D4)=1,"CN",IF(WEEKDAY(D4)=2,"T2",IF(WEEKDAY(D4)=3,"T3",IF(WEEKDAY(D4)=4,"T4",IF(WEEKDAY(D4)=5,"T5",IF(WEEKDAY(D4)=6,"T6","T7")))))) -> T6 | E5: =IF(WEEKDAY(E4)=1,"CN",IF(WEEKDAY(E4)=2,"T2",IF(WEEKDAY(E4)=3,"T3",IF(WEEKDAY(E4)=4,"T4",IF(WEEKDAY(E4)=5,"T5",IF(WEEKDAY(E4)=6,"T6","T7")))))) -> T7 | F5: =IF(WEEKDAY(F4)=1,"CN",IF(WEEKDAY(F4)=2,"T2",IF(WEEKDAY(F4)=3,"T3",IF(WEEKDAY(F4)=4,"T4",IF(WEEKDAY(F4)=5,"T5",IF(WEEKDAY(F4)=6,"T6","T7")))))) -> CN | G5: =IF(WEEKDAY(G4)=1,"CN",IF(WEEKDAY(G4)=2,"T2",IF(WEEKDAY(G4)=3,"T3",IF(WEEKDAY(G4)=4,"T4",IF(WEEKDAY(G4)=5,"T5",IF(WEEKDAY(G4)=6,"T6","T7")))))) -> T2 | H5: =IF(WEEKDAY(H4)=1,"CN",IF(WEEKDAY(H4)=2,"T2",IF(WEEKDAY(H4)=3,"T3",IF(WEEKDAY(H4)=4,"T4",IF(WEEKDAY(H4)=5,"T5",IF(WEEKDAY(H4)=6,"T6","T7")))))) -> T3 | I5: =IF(WEEKDAY(I4)=1,"CN",IF(WEEKDAY(I4)=2,"T2",IF(WEEKDAY(I4)=3,"T3",IF(WEEKDAY(I4)=4,"T4",IF(WEEKDAY(I4)=5,"T5",IF(WEEKDAY(I4)=6,"T6","T7")))))) -> T4 | J5: =IF(WEEKDAY(J4)=1,"CN",IF(WEEKDAY(J4)=2,"T2",IF(WEEKDAY(J4)=3,"T3",IF(WEEKDAY(J4)=4,"T4",IF(WEEKDAY(J4)=5,"T5",IF(WEEKDAY(J4)=6,"T6","T7")))))) -> T5 | K5: =IF(WEEKDAY(K4)=1,"CN",IF(WEEKDAY(K4)=2,"T2",IF(WEEKDAY(K4)=3,"T3",IF(WEEKDAY(K4)=4,"T4",IF(WEEKDAY(K4)=5,"T5",IF(WEEKDAY(K4)=6,"T6","T7")))))) -> T6 | ... AH5: =IF(WEEKDAY(AH4)=1,"CN",IF(WEEKDAY(AH4)=2,"T2",IF(WEEKDAY(AH4)=3,"T3",IF(WEEKDAY(AH4)=4,"T4",IF(WEEKDAY(AH4)=5,"T5",IF(WEEKDAY(AH4)=6,"T6","T7")))))) -> CN
A6: 1 | B6: HÀ PHƯỚC | C6: TUẤN | D6: X | E6: X | G6: X | H6: X | I6: X | J6: X | K6: X | L6: X | N6: X | O6: X | P6: X | Q6: X | R6: X | S6: X | U6: X | V6: X | W6: X | X6: X | Y6: X | Z6: X | AB6: X | AC6: X | AD6: X | AE6: X | AF6: X | AG6: X | AI6: =COUNTIF(D6:AH6,"X")+COUNTIF(D6:AH6,"Tr")+COUNTIF(D6:AH6,"BL") -> 26
A7: 2 | B7: NGUYỄN THANH | C7: SƠN B | D7: P | G7: X | H7: X | I7: X | J7: X | K7: X | N7: X | O7: X | P7: X | Q7: X | R7: X | U7: X | V7: X | W7: X | X7: X | Y7: X | AB7: X | AC7: X | AD7: X | AE7: X | AF7: X | AI7: =COUNTIF(D7:AH7,"X")+COUNTIF(D7:AH7,"Tr")+COUNTIF(D7:AH7,"BL") -> 20
A8: 3 | B8: NGUYỄN THỊ | C8: THU | D8: X | E8: X | G8: X | H8: X | I8: X | J8: X | K8: X | L8: X | N8: X | O8: X | P8: X | Q8: P | R8: X | S8: X | U8: X | V8: X | W8: X | X8: X | Y8: X | Z8: X | AB8: X | AC8: X | AD8: X | AE8: X | AF8: P | AG8: P | AI8: =COUNTIF(D8:AH8,"X")+COUNTIF(D8:AH8,"Tr")+COUNTIF(D8:AH8,"BL") -> 23
A9: 4 | B9: VÕ THỊ ANH | C9: ĐÀO | N9: X | O9: X | P9: X | Q9: X | R9: X | S9: X | U9: X | V9: X | W9: X | X9: X | Y9: X | Z9: X | AB9: X | AC9: X | AD9: X | AE9: X | AF9: X | AG9: X | AI9: =COUNTIF(D9:AH9,"X")+COUNTIF(D9:AH9,"Tr")+COUNTIF(D9:AH9,"BL") -> 18
A10: 5 | B10: NGUYỄN THỊ ÁNH | C10: THU | N10: X | O10: X | P10: X | Q10: X | R10: X | U10: X | V10: X | W10: X | X10: X | Y10: X | AB10: X | AC10: X | AD10: X | AE10: X | AF10: X | AI10: =COUNTIF(D10:AH10,"X")+COUNTIF(D10:AH10,"Tr")+COUNTIF(D10:AH10,"BL") -> 15
A11: 6 | B11: NGUYỄN VĂN | C11: SƠN | N11: X | O11: X | P11: X | Q11: X | R11: X | U11: X | V11: X | W11: X | X11: X | Y11: X | AB11: X | AC11: X | AD11: X | AE11: X | AF11: X | AI11: =COUNTIF(D11:AH11,"X")+COUNTIF(D11:AH11,"Tr")+COUNTIF(D11:AH11,"BL") -> 15
A12: 7 | B12: NGUYỄN THỊ THANH | C12: THẢO | N12: X | O12: X | P12: X | Q12: X | R12: X | U12: X | V12: X | W12: X | X12: X | Y12: X | AB12: X | AC12: X | AD12: X | AE12: X | AF12: X | AI12: =COUNTIF(D12:AH12,"X")+COUNTIF(D12:AH12,"Tr")+COUNTIF(D12:AH12,"BL") -> 15
A13: 8 | B13: GIÁP THỊ | C13: VƯỢNG | N13: X | O13: X | P13: X | Q13: X | R13: X | U13: X | V13: X | W13: X | X13: X | Y13: X | AB13: X | AC13: X | AD13: X | AE13: X | AF13: X | AI13: =COUNTIF(D13:AH13,"X")+COUNTIF(D13:AH13,"Tr")+COUNTIF(D13:AH13,"BL") -> 15
A14: 9 | B14: NGUYỄN YẾN | C14: NHI | N14: X | O14: X | P14: X | Q14: X | R14: X | S14: X | U14: X | V14: X | W14: X | X14: X | Y14: X | Z14: X | AB14: X | AC14: X | AD14: X | AE14: X | AF14: X | AG14: X | AI14: =COUNTIF(D14:AH14,"X")+COUNTIF(D14:AH14,"Tr")+COUNTIF(D14:AH14,"BL") -> 18
B16: KÝ HIỆU: | C16: LÀM VIỆC | I16: X | L16: NGHỈ PHÉP | R16: P | U16: NGHỈ CON ỐM | AB16: CÔ | AE16: NGHỈ KHÔNG LƯƠNG Ro
C17: TRỰC TRƯỜNG | I17: Tr | L17: NGHỈ TAI NẠN LĐ | R17: T | U17: NGHỈ VIỆC RIÊNG | AB17: R | AE17: NGHỈ KHÔNG PHÉP KP
C18: ĐI HỌC | I18: Ho | L18: NGHỈ ỐM | R18: Ô | U18: NGHỈ LỄ , TẾT | AB18: L | AE18: NGHỈ THAI SẢN S
C19: Chủ nhật | L19: LÀM BÙ LỄ | R19: BL
V20: Ngày 30 tháng 11 năm 2013
C21: TRƯỞNG ĐƠN VỊ | W21: NGƯỜI CHẤM CÔNG
C25: HÀ PHƯỚC TUẤN | W25: HÀ PHƯỚC TUẤN

Sheet T12-2013
A1: TRƯỜNG CĐKT LÝ TƯ TRỌNG TP.HCM | J1: BẢNG CHẤM CÔNG
A2: ĐƠN VỊ : PHÒNG KT&KĐCLGD | M2: THÁNG | P2: 12 | R2: NĂM | T2: 2013
A4: STT | B4: HỌ VÀ TÊN | D4: 41609 | E4: =D4+1 -> 41610 | F4: =E4+1 -> 41611 | G4: =F4+1 -> 41612 | H4: =G4+1 -> 41613 | I4: =H4+1 -> 41614 | J4: =I4+1 -> 41615 | K4: =J4+1 -> 41616 | L4: =K4+1 -> 41617 | ... AH4: =AG4+1 -> 41639 | AI4: TS.NGÀY LV
C5: THỨ | D5: =IF(WEEKDAY(D4)=1,"CN",IF(WEEKDAY(D4)=2,"T2",IF(WEEKDAY(D4)=3,"T3",IF(WEEKDAY(D4)=4,"T4",IF(WEEKDAY(D4)=5,"T5",IF(WEEKDAY(D4)=6,"T6","T7")))))) -> CN | E5: =IF(WEEKDAY(E4)=1,"CN",IF(WEEKDAY(E4)=2,"T2",IF(WEEKDAY(E4)=3,"T3",IF(WEEKDAY(E4)=4,"T4",IF(WEEKDAY(E4)=5,"T5",IF(WEEKDAY(E4)=6,"T6","T7")))))) -> T2 | F5: =IF(WEEKDAY(F4)=1,"CN",IF(WEEKDAY(F4)=2,"T2",IF(WEEKDAY(F4)=3,"T3",IF(WEEKDAY(F4)=4,"T4",IF(WEEKDAY(F4)=5,"T5",IF(WEEKDAY(F4)=6,"T6","T7")))))) -> T3 | G5: =IF(WEEKDAY(G4)=1,"CN",IF(WEEKDAY(G4)=2,"T2",IF(WEEKDAY(G4)=3,"T3",IF(WEEKDAY(G4)=4,"T4",IF(WEEKDAY(G4)=5,"T5",IF(WEEKDAY(G4)=6,"T6","T7")))))) -> T4 | H5: =IF(WEEKDAY(H4)=1,"CN",IF(WEEKDAY(H4)=2,"T2",IF(WEEKDAY(H4)=3,"T3",IF(WEEKDAY(H4)=4,"T4",IF(WEEKDAY(H4)=5,"T5",IF(WEEKDAY(H4)=6,"T6","T7")))))) -> T5 | I5: =IF(WEEKDAY(I4)=1,"CN",IF(WEEKDAY(I4)=2,"T2",IF(WEEKDAY(I4)=3,"T3",IF(WEEKDAY(I4)=4,"T4",IF(WEEKDAY(I4)=5,"T5",IF(WEEKDAY(I4)=6,"T6","T7")))))) -> T6 | J5: =IF(WEEKDAY(J4)=1,"CN",IF(WEEKDAY(J4)=2,"T2",IF(WEEKDAY(J4)=3,"T3",IF(WEEKDAY(J4)=4,"T4",IF(WEEKDAY(J4)=5,"T5",IF(WEEKDAY(J4)=6,"T6","T7")))))) -> T7 | K5: =IF(WEEKDAY(K4)=1,"CN",IF(WEEKDAY(K4)=2,"T2",IF(WEEKDAY(K4)=3,"T3",IF(WEEKDAY(K4)=4,"T4",IF(WEEKDAY(K4)=5,"T5",IF(WEEKDAY(K4)=6,"T6","T7")))))) -> CN | ... AH5: =IF(WEEKDAY(AH4)=1,"CN",IF(WEEKDAY(AH4)=2,"T2",IF(WEEKDAY(AH4)=3,"T3",IF(WEEKDAY(AH4)=4,"T4",IF(WEEKDAY(AH4)=5,"T5",IF(WEEKDAY(AH4)=6,"T6","T7")))))) -> T3
A6: 1 | B6: HÀ PHƯỚC | C6: TUẤN | E6: X | F6: X | G6: X | H6: X | I6: TN | J6: X | L6: X | M6: X | N6: X | O6: X | P6: X | Q6: X | S6: X | T6: X | U6: X | V6: X | W6: X | X6: X | Z6: X | AA6: X | AB6: X | AC6: X | AD6: X | AE6: X | AG6: X | AH6: X | AI6: =COUNTIF(D6:AH6,"X")+COUNTIF(D6:AH6,"Tr")+COUNTIF(D6:AH6,"BL") -> 25
A7: 2 | B7: NGUYỄN THANH | C7: SƠN B | E7: X | F7: X | G7: X | H7: X | I7: TN | L7: X | M7: P | N7: X | O7: X | P7: X | S7: X | T7: X | U7: X | V7: X | W7: X | Z7: X | AA7: X | AB7: X | AC7: X | AD7: X | AG7: X | AH7: X | AI7: =COUNTIF(D7:AH7,"X")+COUNTIF(D7:AH7,"Tr")+COUNTIF(D7:AH7,"BL") -> 20
A8: 3 | B8: NGUYỄN THỊ | C8: THU | E8: X | F8: X | G8: X | H8: X | I8: TN | J8: X | L8: X | M8: X | N8: X | O8: X | P8: X | Q8: X | S8: X | T8: P | U8: X | V8: X | W8: X | X8: X | Z8: X | AA8: X | AB8: X | AC8: X | AD8: X | AE8: X | AG8: X | AH8: X | AI8: =COUNTIF(D8:AH8,"X")+COUNTIF(D8:AH8,"Tr")+COUNTIF(D8:AH8,"BL") -> 24
A9: 4 | B9: VÕ THỊ ANH | C9: ĐÀO | E9: X | F9: X | G9: X | H9: X | I9: TN | L9: X | M9: X | N9: X | O9: X | P9: X | S9: X | T9: X | U9: X | V9: X | W9: X | Z9: X | AA9: X | AB9: X | AC9: X | AD9: X | AG9: X | AH9: X | AI9: =COUNTIF(D9:AH9,"X")+COUNTIF(D9:AH9,"Tr")+COUNTIF(D9:AH9,"BL") -> 21
A10: 5 | B10: NGUYỄN THỊ ÁNH | C10: THU | E10: X | F10: X | G10: X | H10: X | I10: TN | L10: X | M10: X | N10: X | O10: X | P10: X | S10: X | T10: X | U10: X | V10: X | W10: X | Z10: X | AA10: X | AB10: X | AC10: X | AD10: X | AG10: X | AH10: X | AI10: =COUNTIF(D10:AH10,"X")+COUNTIF(D10:AH10,"Tr")+COUNTIF(D10:AH10,"BL") -> 21
A11: 6 | B11: NGUYỄN VĂN | C11: SƠN | E11: X | F11: X | G11: X | H11: X | I11: TN | L11: X | M11: X | N11: X | O11: X | P11: X | S11: X | T11: X | U11: X | V11: X | W11: X | Z11: X | AA11: X | AB11: X | AC11: X | AD11: X | AG11: X | AH11: X | AI11: =COUNTIF(D11:AH11,"X")+COUNTIF(D11:AH11,"Tr")+COUNTIF(D11:AH11,"BL") -> 21
A12: 7 | B12: NGUYỄN THỊ THANH | C12: THẢO | E12: X | F12: X | G12: X | H12: X | I12: TN | L12: X | M12: X | N12: X | O12: X | P12: X | S12: X | T12: X | U12: X | V12: X | W12: X | X12: X | Z12: X | AA12: X | AB12: X | AC12: X | AD12: X | AG12: X | AH12: X | AI12: =COUNTIF(D12:AH12,"X")+COUNTIF(D12:AH12,"Tr")+COUNTIF(D12:AH12,"BL") -> 22
A13: 8 | B13: GIÁP THỊ | C13: VƯỢNG | E13: X | F13: X | G13: X | H13: X | I13: TN | L13: X | M13: X | N13: X | O13: X | P13: X | S13: X | T13: X | U13: X | V13: X | W13: X | Z13: X | AA13: X | AB13: X | AC13: X | AD13: X | AG13: P | AH13: P | AI13: =COUNTIF(D13:AH13,"X")+COUNTIF(D13:AH13,"Tr")+COUNTIF(D13:AH13,"BL") -> 19
A14: 9 | B14: NGUYỄN YẾN | C14: NHI | E14: X | F14: X | G14: X | H14: X | I14: TN | J14: X | L14: X | M14: X | N14: X | O14: X | P14: X | Q14: P | S14: P | T14: X | U14: X | V14: X | W14: X | X14: X | Z14: X | AA14: X | AB14: X | AC14: X | AD14: X | AE14: X | AG14: X | AH14: X | AI14: =COUNTIF(D14:AH14,"X")+COUNTIF(D14:AH14,"Tr")+COUNTIF(D14:AH14,"BL") -> 23
B16: KÝ HIỆU: | C16: LÀM VIỆC | I16: X | L16: NGHỈ PHÉP | R16: P | U16: NGHỈ CON ỐM | AB16: CÔ | AE16: NGHỈ KHÔNG LƯƠNG Ro
C17: TRỰC TRƯỜNG | I17: Tr | L17: NGHỈ TAI NẠN LĐ | R17: T | U17: NGHỈ VIỆC RIÊNG | AB17: R | AE17: NGHỈ KHÔNG PHÉP KP
C18: ĐI HỌC | I18: Ho | L18: NGHỈ ỐM | R18: Ô | U18: NGHỈ LỄ , TẾT | AB18: L | AE18: NGHỈ THAI SẢN S
C19: Chủ nhật | L19: LÀM BÙ LỄ | R19: BL | U19: TRƯỜNG NGHỈ | AB19: TN
V20: Ngày 31 tháng 12 năm 2013
C21: TRƯỞNG ĐƠN VỊ | W21: NGƯỜI CHẤM CÔNG
C25: HÀ PHƯỚC TUẤN | W25: HÀ PHƯỚC TUẤN

Sheet T01-2014
A1: TRƯỜNG CĐKT LÝ TƯ TRỌNG TP.HCM | J1: BẢNG CHẤM CÔNG
A2: ĐƠN VỊ : PHÒNG KT&KĐCLGD | M2: THÁNG | P2: 1 | R2: NĂM | T2: 2014
U3: 18/12
A4: STT | B4: HỌ VÀ TÊN | D4: 41640 | E4: =D4+1 -> 41641 | F4: =E4+1 -> 41642 | G4: =F4+1 -> 41643 | H4: =G4+1 -> 41644 | I4: =H4+1 -> 41645 | J4: =I4+1 -> 41646 | K4: =J4+1 -> 41647 | L4: =K4+1 -> 41648 | ... AH4: =AG4+1 -> 41670 | AI4: TS.NGÀY LV
C5: THỨ | D5: =IF(WEEKDAY(D4)=1,"CN",IF(WEEKDAY(D4)=2,"T2",IF(WEEKDAY(D4)=3,"T3",IF(WEEKDAY(D4)=4,"T4",IF(WEEKDAY(D4)=5,"T5",IF(WEEKDAY(D4)=6,"T6","T7")))))) -> T4 | E5: =IF(WEEKDAY(E4)=1,"CN",IF(WEEKDAY(E4)=2,"T2",IF(WEEKDAY(E4)=3,"T3",IF(WEEKDAY(E4)=4,"T4",IF(WEEKDAY(E4)=5,"T5",IF(WEEKDAY(E4)=6,"T6","T7")))))) -> T5 | F5: =IF(WEEKDAY(F4)=1,"CN",IF(WEEKDAY(F4)=2,"T2",IF(WEEKDAY(F4)=3,"T3",IF(WEEKDAY(F4)=4,"T4",IF(WEEKDAY(F4)=5,"T5",IF(WEEKDAY(F4)=6,"T6","T7")))))) -> T6 | G5: =IF(WEEKDAY(G4)=1,"CN",IF(WEEKDAY(G4)=2,"T2",IF(WEEKDAY(G4)=3,"T3",IF(WEEKDAY(G4)=4,"T4",IF(WEEKDAY(G4)=5,"T5",IF(WEEKDAY(G4)=6,"T6","T7")))))) -> T7 | H5: =IF(WEEKDAY(H4)=1,"CN",IF(WEEKDAY(H4)=2,"T2",IF(WEEKDAY(H4)=3,"T3",IF(WEEKDAY(H4)=4,"T4",IF(WEEKDAY(H4)=5,"T5",IF(WEEKDAY(H4)=6,"T6","T7")))))) -> CN | I5: =IF(WEEKDAY(I4)=1,"CN",IF(WEEKDAY(I4)=2,"T2",IF(WEEKDAY(I4)=3,"T3",IF(WEEKDAY(I4)=4,"T4",IF(WEEKDAY(I4)=5,"T5",IF(WEEKDAY(I4)=6,"T6","T7")))))) -> T2 | J5: =IF(WEEKDAY(J4)=1,"CN",IF(WEEKDAY(J4)=2,"T2",IF(WEEKDAY(J4)=3,"T3",IF(WEEKDAY(J4)=4,"T4",IF(WEEKDAY(J4)=5,"T5",IF(WEEKDAY(J4)=6,"T6","T7")))))) -> T3 | K5: =IF(WEEKDAY(K4)=1,"CN",IF(WEEKDAY(K4)=2,"T2",IF(WEEKDAY(K4)=3,"T3",IF(WEEKDAY(K4)=4,"T4",IF(WEEKDAY(K4)=5,"T5",IF(WEEKDAY(K4)=6,"T6","T7")))))) -> T4 | ... AH5: =IF(WEEKDAY(AH4)=1,"CN",IF(WEEKDAY(AH4)=2,"T2",IF(WEEKDAY(AH4)=3,"T3",IF(WEEKDAY(AH4)=4,"T4",IF(WEEKDAY(AH4)=5,"T5",IF(WEEKDAY(AH4)=6,"T6","T7")))))) -> T6
A6: 1 | B6: HÀ PHƯỚC | C6: TUẤN | E6: X | F6: X | G6: X | I6: X | J6: X | K6: X | L6: X | M6: X | N6: X | P6: X | Q6: X | R6: X | S6: X | T6: X | U6: X | W6: X | X6: X | Y6: X | Z6: X | AA6: X | AB6: X | AD6: X | AI6: =COUNTIF(D6:AH6,"X")+COUNTIF(D6:AH6,"Tr")+COUNTIF(D6:AH6,"BL")+COUNTIF(D6:AH6,"H")/2 -> 22
A7: 2 | B7: VÕ THỊ ANH | C7: ĐÀO | E7: X | F7: X | I7: X | J7: X | K7: X | L7: X | M7: X | P7: X | Q7: X | R7: X | S7: X | T7: X | U7: X | W7: X | X7: X | Z7: X | AD7: H | AI7: =COUNTIF(D7:AH7,"X")+COUNTIF(D7:AH7,"Tr")+COUNTIF(D7:AH7,"BL")+COUNTIF(D7:AH7,"H")/2 -> 16.5
A8: 3 | B8: NGUYỄN VĂN | C8: SƠN | E8: X | F8: X | I8: X | J8: X | K8: X | L8: X | M8: X | P8: X | Q8: X | R8: X | S8: X | T8: X | U8: X | X8: X | Y8: X | Z8: X | AD8: H | AI8: =COUNTIF(D8:AH8,"X")+COUNTIF(D8:AH8,"Tr")+COUNTIF(D8:AH8,"BL")+COUNTIF(D8:AH8,"H")/2 -> 16.5
A9: 4 | B9: NGUYỄN THANH | C9: SƠN B | E9: X | F9: X | I9: X | J9: X | K9: X | L9: X | M9: X | P9: X | Q9: X | R9: X | S9: X | T9: X | U9: X | X9: X | Y9: X | AA9: X | AI9: =COUNTIF(D9:AH9,"X")+COUNTIF(D9:AH9,"Tr")+COUNTIF(D9:AH9,"BL")+COUNTIF(D9:AH9,"H")/2 -> 16
A10: 5 | B10: NGUYỄN THỊ ÁNH | C10: THU | E10: X | F10: X | I10: X | J10: X | K10: X | L10: X | M10: X | P10: X | Q10: X | R10: X | S10: X | T10: X | U10: X | W10: X | Z10: H | AB10: X | AD10: H | AI10: =COUNTIF(D10:AH10,"X")+COUNTIF(D10:AH10,"Tr")+COUNTIF(D10:AH10,"BL")+COUNTIF(D10:AH10,"H")/2 -> 16
A11: 6 | B11: NGUYỄN THỊ THANH | C11: THẢO | E11: X | F11: X | G11: X | I11: X | J11: X | K11: X | L11: X | M11: X | P11: X | Q11: X | R11: X | S11: X | T11: X | U11: X | W11: X | X11: H | Z11: H | AB11: X | AD11: X | AI11: =COUNTIF(D11:AH11,"X")+COUNTIF(D11:AH11,"Tr")+COUNTIF(D11:AH11,"BL")+COUNTIF(D11:AH11,"H")/2 -> 18
A12: 7 | B12: GIÁP THỊ | C12: VƯỢNG | E12: P | F12: P | I12: X | J12: X | K12: X | L12: X | M12: X | P12: X | Q12: X | R12: X | S12: X | T12: X | U12: X | X12: X | Y12: X | AA12: X | AB12: X | AD12: H | AI12: =COUNTIF(D12:AH12,"X")+COUNTIF(D12:AH12,"Tr")+COUNTIF(D12:AH12,"BL")+COUNTIF(D12:AH12,"H")/2 -> 15.5
A13: 8 | B13: NGUYỄN YẾN | C13: NHI | E13: X | F13: X | G13: X | I13: X | J13: X | K13: X | L13: X | M13: X | N13: X | P13: X | Q13: X | R13: X | S13: X | T13: X | U13: X | W13: X | Z13: X | AB13: X | AI13: =COUNTIF(D13:AH13,"X")+COUNTIF(D13:AH13,"Tr")+COUNTIF(D13:AH13,"BL")+COUNTIF(D13:AH13,"H")/2 -> 18
A14: 9 | B14: NGUYỄN THỊ | C14: THU | E14: X | F14: X | G14: X | I14: X | J14: X | K14: X | L14: X | M14: X | N14: X | P14: X | Q14: X | R14: P | S14: P | T14: X | U14: X | W14: X | Y14: X | AA14: X | AD14: X | AI14: =COUNTIF(D14:AH14,"X")+COUNTIF(D14:AH14,"Tr")+COUNTIF(D14:AH14,"BL")+COUNTIF(D14:AH14,"H")/2 -> 17
B16: KÝ HIỆU: | C16: LÀM VIỆC | I16: X | L16: NGHỈ PHÉP | R16: P | U16: NGHỈ CON ỐM | AB16: CÔ | AE16: NGHỈ KHÔNG LƯƠNG Ro
C17: TRỰC TRƯỜNG | I17: Tr | L17: NGHỈ TAI NẠN LĐ | R17: T | U17: NGHỈ VIỆC RIÊNG | AB17: R | AE17: NGHỈ KHÔNG PHÉP KP
C18: ĐI HỌC | I18: Ho | L18: NGHỈ ỐM | R18: Ô | U18: NGHỈ LỄ , TẾT | AB18: L | AE18: NGHỈ THAI SẢN S
C19: Chủ nhật | L19: LÀM BÙ LỄ | R19: BL | U19: TRƯỜNG NGHỈ | AB19: TN | AE19: LÀM 1/2 NGÀY H
V20: Ngày 27 tháng 01 năm 2014
C21: TRƯỞNG ĐƠN VỊ | W21: NGƯỜI CHẤM CÔNG
C25: HÀ PHƯỚC TUẤN | W25: HÀ PHƯỚC TUẤN

Sheet T02-2014
A1: TRƯỜNG CĐKT LÝ TƯ TRỌNG TP.HCM | J1: BẢNG CHẤM CÔNG
A2: ĐƠN VỊ : PHÒNG KT&KĐCLGD | M2: THÁNG | P2: 2 | R2: NĂM | T2: 2014
M3: 11/1
A4: STT | B4: HỌ VÀ TÊN | D4: 41671 | E4: =D4+1 -> 41672 | F4: =E4+1 -> 41673 | G4: =F4+1 -> 41674 | H4: =G4+1 -> 41675 | I4: =H4+1 -> 41676 | J4: =I4+1 -> 41677 | K4: =J4+1 -> 41678 | L4: =K4+1 -> 41679 | ... AH4: =AG4+1 -> 41701 | AI4: TS.NGÀY LV
C5: THỨ | D5: =IF(WEEKDAY(D4)=1,"CN",IF(WEEKDAY(D4)=2,"T2",IF(WEEKDAY(D4)=3,"T3",IF(WEEKDAY(D4)=4,"T4",IF(WEEKDAY(D4)=5,"T5",IF(WEEKDAY(D4)=6,"T6","T7")))))) -> T7 | E5: =IF(WEEKDAY(E4)=1,"CN",IF(WEEKDAY(E4)=2,"T2",IF(WEEKDAY(E4)=3,"T3",IF(WEEKDAY(E4)=4,"T4",IF(WEEKDAY(E4)=5,"T5",IF(WEEKDAY(E4)=6,"T6","T7")))))) -> CN | F5: =IF(WEEKDAY(F4)=1,"CN",IF(WEEKDAY(F4)=2,"T2",IF(WEEKDAY(F4)=3,"T3",IF(WEEKDAY(F4)=4,"T4",IF(WEEKDAY(F4)=5,"T5",IF(WEEKDAY(F4)=6,"T6","T7")))))) -> T2 | G5: =IF(WEEKDAY(G4)=1,"CN",IF(WEEKDAY(G4)=2,"T2",IF(WEEKDAY(G4)=3,"T3",IF(WEEKDAY(G4)=4,"T4",IF(WEEKDAY(G4)=5,"T5",IF(WEEKDAY(G4)=6,"T6","T7")))))) -> T3 | H5: =IF(WEEKDAY(H4)=1,"CN",IF(WEEKDAY(H4)=2,"T2",IF(WEEKDAY(H4)=3,"T3",IF(WEEKDAY(H4)=4,"T4",IF(WEEKDAY(H4)=5,"T5",IF(WEEKDAY(H4)=6,"T6","T7")))))) -> T4 | I5: =IF(WEEKDAY(I4)=1,"CN",IF(WEEKDAY(I4)=2,"T2",IF(WEEKDAY(I4)=3,"T3",IF(WEEKDAY(I4)=4,"T4",IF(WEEKDAY(I4)=5,"T5",IF(WEEKDAY(I4)=6,"T6","T7")))))) -> T5 | J5: =IF(WEEKDAY(J4)=1,"CN",IF(WEEKDAY(J4)=2,"T2",IF(WEEKDAY(J4)=3,"T3",IF(WEEKDAY(J4)=4,"T4",IF(WEEKDAY(J4)=5,"T5",IF(WEEKDAY(J4)=6,"T6","T7")))))) -> T6 | K5: =IF(WEEKDAY(K4)=1,"CN",IF(WEEKDAY(K4)=2,"T2",IF(WEEKDAY(K4)=3,"T3",IF(WEEKDAY(K4)=4,"T4",IF(WEEKDAY(K4)=5,"T5",IF(WEEKDAY(K4)=6,"T6","T7")))))) -> T7 | ... AH5: =IF(WEEKDAY(AH4)=1,"CN",IF(WEEKDAY(AH4)=2,"T2",IF(WEEKDAY(AH4)=3,"T3",IF(WEEKDAY(AH4)=4,"T4",IF(WEEKDAY(AH4)=5,"T5",IF(WEEKDAY(AH4)=6,"T6","T7")))))) -> T2
A6: 1 | B6: HÀ PHƯỚC | C6: TUẤN | I6: X | J6: X | K6: X | M6: X | N6: X | O6: X | P6: X | Q6: X | R6: X | T6: X | U6: X | V6: X | W6: X | X6: X | Y6: X | AA6: X | AB6: X | AC6: X | AD6: X | AE6: X | AI6: =COUNTIF(D6:AH6,"X")+COUNTIF(D6:AH6,"Tr")+COUNTIF(D6:AH6,"BL")+COUNTIF(D6:AH6,"H")/2 -> 20
A7: 2 | B7: VÕ THỊ ANH | C7: ĐÀO | I7: X | J7: H | M7: X | N7: X | O7: X | P7: X | Q7: X | R7: X | T7: X | U7: X | V7: X | W7: X | X7: X | Y7: X | AA7: X | AB7: X | AC7: X | AD7: X | AE7: X | AI7: =COUNTIF(D7:AH7,"X")+COUNTIF(D7:AH7,"Tr")+COUNTIF(D7:AH7,"BL")+COUNTIF(D7:AH7,"H")/2 -> 18.5
A8: 3 | B8: NGUYỄN VĂN | C8: SƠN | I8: X | J8: H | M8: X | N8: X | O8: X | P8: X | Q8: X | T8: X | U8: X | V8: X | W8: X | X8: X | AA8: X | AB8: X | AC8: X | AD8: X | AE8: X | AI8: =COUNTIF(D8:AH8,"X")+COUNTIF(D8:AH8,"Tr")+COUNTIF(D8:AH8,"BL")+COUNTIF(D8:AH8,"H")/2 -> 16.5
A9: 4 | B9: NGUYỄN THANH | C9: SƠN B | I9: X | K9: X | M9: X | N9: X | O9: X | P9: X | Q9: X | T9: X | U9: X | V9: X | W9: X | X9: X | AA9: X | AB9: X | AC9: X | AD9: X | AE9: X | AI9: =COUNTIF(D9:AH9,"X")+COUNTIF(D9:AH9,"Tr")+COUNTIF(D9:AH9,"BL")+COUNTIF(D9:AH9,"H")/2 -> 17
A10: 5 | B10: NGUYỄN THỊ ÁNH | C10: THU | I10: X | J10: H | K10: H | M10: X | N10: X | O10: X | P10: X | Q10: X | T10: X | U10: X | V10: X | W10: X | X10: X | AA10: X | AB10: X | AC10: X | AD10: X | AE10: X | AI10: =COUNTIF(D10:AH10,"X")+COUNTIF(D10:AH10,"Tr")+COUNTIF(D10:AH10,"BL")+COUNTIF(D10:AH10,"H")/2 -> 17
A11: 6 | B11: NGUYỄN THỊ THANH | C11: THẢO | K11: X | M11: X | N11: X | O11: X | P11: X | Q11: X | R11: X | T11: X | U11: X | V11: X | W11: X | X11: X | Y11: X | AA11: X | AB11: X | AC11: X | AD11: X | AE11: X | AI11: =COUNTIF(D11:AH11,"X")+COUNTIF(D11:AH11,"Tr")+COUNTIF(D11:AH11,"BL")+COUNTIF(D11:AH11,"H")/2 -> 18
A12: 7 | B12: GIÁP THỊ | C12: VƯỢNG | J12: H | M12: X | N12: X | O12: X | P12: X | Q12: X | R12: X | T12: X | U12: X | V12: X | W12: X | X12: X | Y12: X | AA12: X | AB12: X | AC12: X | AD12: X | AE12: X | AI12: =COUNTIF(D12:AH12,"X")+COUNTIF(D12:AH12,"Tr")+COUNTIF(D12:AH12,"BL")+COUNTIF(D12:AH12,"H")/2 -> 17.5
A13: 8 | B13: NGUYỄN YẾN | C13: NHI | J13: X | K13: X | M13: X | N13: X | O13: X | P13: X | Q13: X | R13: X | T13: X | U13: X | V13: X | W13: X | X13: X | Y13: X | AA13: X | AB13: X | AC13: X | AD13: X | AE13: X | AI13: =COUNTIF(D13:AH13,"X")+COUNTIF(D13:AH13,"Tr")+COUNTIF(D13:AH13,"BL")+COUNTIF(D13:AH13,"H")/2 -> 19
A14: 9 | B14: NGUYỄN THỊ | C14: THU | J14: H | M14: X | N14: X | O14: X | P14: X | Q14: X | R14: X | T14: X | U14: X | V14: X | W14: X | X14: X | Y14: X | AA14: X | AB14: X | AC14: X | AD14: X | AE14: X | AI14: =COUNTIF(D14:AH14,"X")+COUNTIF(D14:AH14,"Tr")+COUNTIF(D14:AH14,"BL")+COUNTIF(D14:AH14,"H")/2 -> 17.5
B16: KÝ HIỆU: | C16: LÀM VIỆC | I16: X | L16: NGHỈ PHÉP | R16: P | T16: NGHỈ CON ỐM | AA16: CÔ | AC16: NGHỈ KHÔNG LƯƠNG Ro
C17: TRỰC TRƯỜNG | I17: Tr | L17: NGHỈ TAI NẠN LĐ | R17: T | T17: NGHỈ VIỆC RIÊNG | AA17: R | AC17: NGHỈ KHÔNG PHÉP KP
C18: ĐI HỌC | I18: Ho | L18: NGHỈ ỐM | R18: Ô | T18: NGHỈ LỄ , TẾT | AA18: L | AC18: NGHỈ THAI SẢN S
C19: Chủ nhật | L19: LÀM BÙ LỄ | R19: BL | T19: TRƯỜNG NGHỈ | AA19: TN | AC19: LÀM 1/2 NGÀY H
V20: Ngày 28 tháng 02 năm 2014
C21: TRƯỞNG ĐƠN VỊ | W21: NGƯỜI CHẤM CÔNG
C25: HÀ PHƯỚC TUẤN | W25: HÀ PHƯỚC TUẤN

Sheet T03-2014
A1: TRƯỜNG CĐKT LÝ TƯ TRỌNG TP.HCM | J1: BẢNG CHẤM CÔNG
A2: ĐƠN VỊ : PHÒNG KT&KĐCLGD | M2: THÁNG | P2: =D4 -> 41699 | R2: NĂM | T2: =D4 -> 41699
A4: STT | B4: HỌ VÀ TÊN | D4: 41699 | E4: =D4+1 -> 41700 | F4: =E4+1 -> 41701 | G4: =F4+1 -> 41702 | H4: =G4+1 -> 41703 | I4: =H4+1 -> 41704 | J4: =I4+1 -> 41705 | K4: =J4+1 -> 41706 | L4: =K4+1 -> 41707 | ... AH4: =AG4+1 -> 41729 | AI4: TS.NGÀY LV
C5: THỨ | D5: =IF(WEEKDAY(D4)=1,"CN",IF(WEEKDAY(D4)=2,"T2",IF(WEEKDAY(D4)=3,"T3",IF(WEEKDAY(D4)=4,"T4",IF(WEEKDAY(D4)=5,"T5",IF(WEEKDAY(D4)=6,"T6","T7")))))) -> T7 | E5: =IF(WEEKDAY(E4)=1,"CN",IF(WEEKDAY(E4)=2,"T2",IF(WEEKDAY(E4)=3,"T3",IF(WEEKDAY(E4)=4,"T4",IF(WEEKDAY(E4)=5,"T5",IF(WEEKDAY(E4)=6,"T6","T7")))))) -> CN | F5: =IF(WEEKDAY(F4)=1,"CN",IF(WEEKDAY(F4)=2,"T2",IF(WEEKDAY(F4)=3,"T3",IF(WEEKDAY(F4)=4,"T4",IF(WEEKDAY(F4)=5,"T5",IF(WEEKDAY(F4)=6,"T6","T7")))))) -> T2 | G5: =IF(WEEKDAY(G4)=1,"CN",IF(WEEKDAY(G4)=2,"T2",IF(WEEKDAY(G4)=3,"T3",IF(WEEKDAY(G4)=4,"T4",IF(WEEKDAY(G4)=5,"T5",IF(WEEKDAY(G4)=6,"T6","T7")))))) -> T3 | H5: =IF(WEEKDAY(H4)=1,"CN",IF(WEEKDAY(H4)=2,"T2",IF(WEEKDAY(H4)=3,"T3",IF(WEEKDAY(H4)=4,"T4",IF(WEEKDAY(H4)=5,"T5",IF(WEEKDAY(H4)=6,"T6","T7")))))) -> T4 | I5: =IF(WEEKDAY(I4)=1,"CN",IF(WEEKDAY(I4)=2,"T2",IF(WEEKDAY(I4)=3,"T3",IF(WEEKDAY(I4)=4,"T4",IF(WEEKDAY(I4)=5,"T5",IF(WEEKDAY(I4)=6,"T6","T7")))))) -> T5 | J5: =IF(WEEKDAY(J4)=1,"CN",IF(WEEKDAY(J4)=2,"T2",IF(WEEKDAY(J4)=3,"T3",IF(WEEKDAY(J4)=4,"T4",IF(WEEKDAY(J4)=5,"T5",IF(WEEKDAY(J4)=6,"T6","T7")))))) -> T6 | K5: =IF(WEEKDAY(K4)=1,"CN",IF(WEEKDAY(K4)=2,"T2",IF(WEEKDAY(K4)=3,"T3",IF(WEEKDAY(K4)=4,"T4",IF(WEEKDAY(K4)=5,"T5",IF(WEEKDAY(K4)=6,"T6","T7")))))) -> T7 | ... AH5: =IF(WEEKDAY(AH4)=1,"CN",IF(WEEKDAY(AH4)=2,"T2",IF(WEEKDAY(AH4)=3,"T3",IF(WEEKDAY(AH4)=4,"T4",IF(WEEKDAY(AH4)=5,"T5",IF(WEEKDAY(AH4)=6,"T6","T7")))))) -> T2
A6: 1 | B6: HÀ PHƯỚC | C6: TUẤN | D6: X | F6: X | G6: X | H6: X | I6: X | J6: X | K6: X | M6: X | N6: HT | O6: X | P6: X | Q6: X | R6: X | T6: X | U6: X | V6: X | W6: X | X6: X | Y6: X | AA6: X | AB6: X | AC6: X | AD6: X | AE6: X | AF6: X | AH6: X | AI6: =COUNTIF(D6:AH6,"X")+COUNTIF(D6:AH6,"Tr")+COUNTIF(D6:AH6,"BL")+COUNTIF(D6:AH6,"HT") -> 26
A7: 2 | B7: VÕ THỊ ANH | C7: ĐÀO | D7: X | F7: X | G7: X | H7: X | I7: X | J7: X | K7: X | M7: X | N7: X | O7: X | P7: X | Q7: X | R7: X | T7: X | U7: X | V7: X | W7: X | X7: X | AA7: X | AB7: X | AC7: X | AD7: X | AE7: X | AF7: X | AH7: X | AI7: =COUNTIF(D7:AH7,"X")+COUNTIF(D7:AH7,"Tr")+COUNTIF(D7:AH7,"BL")+COUNTIF(D7:AH7,"HT") -> 25
A8: 3 | B8: NGUYỄN VĂN | C8: SƠN | F8: X | G8: X | H8: X | I8: X | J8: X | K8: X | M8: X | N8: X | O8: X | P8: X | Q8: X | T8: X | U8: X | V8: X | W8: X | X8: X | AA8: X | AB8: X | AC8: X | AD8: X | AE8: X | AH8: X | AI8: =COUNTIF(D8:AH8,"X")+COUNTIF(D8:AH8,"Tr")+COUNTIF(D8:AH8,"BL")+COUNTIF(D8:AH8,"HT") -> 22
A9: 4 | B9: NGUYỄN THANH | C9: SƠN B | F9: X | G9: X | H9: X | I9: X | J9: X | K9: X | M9: X | N9: X | O9: X | P9: X | Q9: X | T9: X | U9: X | V9: X | W9: X | X9: X | AA9: X | AB9: X | AC9: X | AD9: X | AE9: X | AH9: X | AI9: =COUNTIF(D9:AH9,"X")+COUNTIF(D9:AH9,"Tr")+COUNTIF(D9:AH9,"BL")+COUNTIF(D9:AH9,"HT") -> 22
A10: 5 | B10: NGUYỄN THỊ ÁNH | C10: THU | F10: X | G10: X | H10: X | I10: X | J10: X | K10: X | M10: X | N10: X | O10: X | P10: X | Q10: X | T10: X | U10: X | V10: X | W10: X | X10: X | AA10: X | AB10: X | AC10: X | AD10: X | AE10: X | AH10: X | AI10: =COUNTIF(D10:AH10,"X")+COUNTIF(D10:AH10,"Tr")+COUNTIF(D10:AH10,"BL")+COUNTIF(D10:AH10,"HT") -> 22
A11: 6 | B11: NGUYỄN THỊ THANH | C11: THẢO | F11: X | G11: X | H11: X | I11: X | J11: X | K11: X | M11: X | N11: X | O11: X | P11: X | Q11: X | R11: X | T11: X | U11: X | V11: X | W11: X | X11: X | Y11: X | AA11: X | AB11: X | AC11: X | AD11: X | AE11: X | AF11: X | AH11: X | AI11: =COUNTIF(D11:AH11,"X")+COUNTIF(D11:AH11,"Tr")+COUNTIF(D11:AH11,"BL")+COUNTIF(D11:AH11,"HT") -> 25
A12: 7 | B12: GIÁP THỊ | C12: VƯỢNG | F12: X | G12: X | H12: X | I12: X | J12: X | K12: X | M12: X | N12: X | O12: X | P12: X | Q12: X | T12: X | U12: X | V12: X | W12: X | X12: X | AA12: X | AB12: X | AC12: X | AD12: X | AE12: X | AH12: X | AI12: =COUNTIF(D12:AH12,"X")+COUNTIF(D12:AH12,"Tr")+COUNTIF(D12:AH12,"BL")+COUNTIF(D12:AH12,"HT") -> 22
A13: 8 | B13: NGUYỄN YẾN | C13: NHI | D13: X | F13: X | G13: X | H13: X | I13: X | J13: X | K13: X | M13: X | N13: X | O13: X | P13: X | Q13: X | R13: X | T13: X | U13: X | V13: X | W13: X | X13: X | Y13: X | AA13: X | AB13: X | AC13: X | AD13: X | AE13: X | AF13: P | AH13: P | AI13: =COUNTIF(D13:AH13,"X")+COUNTIF(D13:AH13,"Tr")+COUNTIF(D13:AH13,"BL")+COUNTIF(D13:AH13,"HT") -> 24
A14: 9 | B14: NGUYỄN THỊ | C14: THU | D14: X | F14: X | G14: X | H14: X | I14: X | J14: X | K14: X | M14: X | N14: X | O14: X | P14: X | Q14: P | R14: P | T14: X | U14: X | V14: X | W14: X | X14: X | Y14: X | AA14: X | AB14: X | AC14: X | AD14: X | AE14: X | AF14: X | AH14: X | AI14: =COUNTIF(D14:AH14,"X")+COUNTIF(D14:AH14,"Tr")+COUNTIF(D14:AH14,"BL")+COUNTIF(D14:AH14,"HT") -> 24
B16: KÝ HIỆU: | C16: LÀM VIỆC | I16: X | L16: NGHỈ PHÉP | R16: P | U16: NGHỈ CON ỐM | AB16: CÔ | AE16: NGHỈ KHÔNG LƯƠNG Ro
C17: TRỰC TRƯỜNG | I17: Tr | L17: NGHỈ TAI NẠN LĐ | R17: T | U17: NGHỈ VIỆC RIÊNG | AB17: R | AE17: NGHỈ KHÔNG PHÉP KP
C18: ĐI HỌC | I18: Ho | L18: NGHỈ ỐM | R18: Ô | U18: NGHỈ LỄ , TẾT | AB18: L | AE18: NGHỈ THAI SẢN S
C19: Chủ nhật | L19: LÀM BÙ LỄ | R19: BL | U19: ĐI HỘI THẢO | AB19: HT
V20: ="Ngày "&DAY(EOMONTH(D4,P2))&" tháng "&MONTH(P2)&" năm "&YEAR(T2) -> Ngày 28 tháng 3 năm 2014
C21: TRƯỞNG ĐƠN VỊ | W21: NGƯỜI CHẤM CÔNG
C25: HÀ PHƯỚC TUẤN | W25: HÀ PHƯỚC TUẤN

Sheet T04-2014
A1: TRƯỜNG CĐKT LÝ TƯ TRỌNG TP.HCM | J1: BẢNG CHẤM CÔNG
A2: ĐƠN VỊ : PHÒNG KT&KĐCLGD | M2: THÁNG | P2: =D4 -> 41730 | R2: NĂM | T2: 2014
A4: STT | B4: HỌ VÀ TÊN | D4: 41730 | E4: =D4+1 -> 41731 | F4: =E4+1 -> 41732 | G4: =F4+1 -> 41733 | H4: =G4+1 -> 41734 | I4: =H4+1 -> 41735 | J4: =I4+1 -> 41736 | K4: =J4+1 -> 41737 | L4: =K4+1 -> 41738 | ... AH4: =AG4+1 -> 41760 | AI4: TS.NGÀY LV
C5: THỨ | D5: =IF(WEEKDAY(D4)=1,"CN",IF(WEEKDAY(D4)=2,"T2",IF(WEEKDAY(D4)=3,"T3",IF(WEEKDAY(D4)=4,"T4",IF(WEEKDAY(D4)=5,"T5",IF(WEEKDAY(D4)=6,"T6","T7")))))) -> T3 | E5: =IF(WEEKDAY(E4)=1,"CN",IF(WEEKDAY(E4)=2,"T2",IF(WEEKDAY(E4)=3,"T3",IF(WEEKDAY(E4)=4,"T4",IF(WEEKDAY(E4)=5,"T5",IF(WEEKDAY(E4)=6,"T6","T7")))))) -> T4 | F5: =IF(WEEKDAY(F4)=1,"CN",IF(WEEKDAY(F4)=2,"T2",IF(WEEKDAY(F4)=3,"T3",IF(WEEKDAY(F4)=4,"T4",IF(WEEKDAY(F4)=5,"T5",IF(WEEKDAY(F4)=6,"T6","T7")))))) -> T5 | G5: =IF(WEEKDAY(G4)=1,"CN",IF(WEEKDAY(G4)=2,"T2",IF(WEEKDAY(G4)=3,"T3",IF(WEEKDAY(G4)=4,"T4",IF(WEEKDAY(G4)=5,"T5",IF(WEEKDAY(G4)=6,"T6","T7")))))) -> T6 | H5: =IF(WEEKDAY(H4)=1,"CN",IF(WEEKDAY(H4)=2,"T2",IF(WEEKDAY(H4)=3,"T3",IF(WEEKDAY(H4)=4,"T4",IF(WEEKDAY(H4)=5,"T5",IF(WEEKDAY(H4)=6,"T6","T7")))))) -> T7 | I5: =IF(WEEKDAY(I4)=1,"CN",IF(WEEKDAY(I4)=2,"T2",IF(WEEKDAY(I4)=3,"T3",IF(WEEKDAY(I4)=4,"T4",IF(WEEKDAY(I4)=5,"T5",IF(WEEKDAY(I4)=6,"T6","T7")))))) -> CN | J5: =IF(WEEKDAY(J4)=1,"CN",IF(WEEKDAY(J4)=2,"T2",IF(WEEKDAY(J4)=3,"T3",IF(WEEKDAY(J4)=4,"T4",IF(WEEKDAY(J4)=5,"T5",IF(WEEKDAY(J4)=6,"T6","T7")))))) -> T2 | K5: =IF(WEEKDAY(K4)=1,"CN",IF(WEEKDAY(K4)=2,"T2",IF(WEEKDAY(K4)=3,"T3",IF(WEEKDAY(K4)=4,"T4",IF(WEEKDAY(K4)=5,"T5",IF(WEEKDAY(K4)=6,"T6","T7")))))) -> T3 | ... AH5: =IF(WEEKDAY(AH4)=1,"CN",IF(WEEKDAY(AH4)=2,"T2",IF(WEEKDAY(AH4)=3,"T3",IF(WEEKDAY(AH4)=4,"T4",IF(WEEKDAY(AH4)=5,"T5",IF(WEEKDAY(AH4)=6,"T6","T7")))))) -> T5
A6: 1 | B6: HÀ PHƯỚC | C6: TUẤN | D6: X | E6: X | F6: X | G6: X | H6: X | J6: X | K6: X | M6: X | N6: X | O6: X | P6: X | Q6: X | R6: X | S6: X | T6: X | U6: X | V6: X | X6: X | Y6: X | Z6: X | AA6: X | AB6: X | AC6: X | AD6: X | AE6: X | AF6: X | AI6: =COUNTIF(D6:AH6,"X")+COUNTIF(D6:AH6,"Tr")+COUNTIF(D6:AH6,"BL") -> 26
A7: 2 | B7: VÕ THỊ ANH | C7: ĐÀO | D7: X | E7: X | F7: X | G7: X | J7: X | K7: X | M7: X | N7: X | O7: X | Q7: X | R7: X | S7: X | T7: X | U7: X | V7: X | X7: X | Y7: X | Z7: X | AA7: X | AB7: X | AC7: X | AE7: X | AF7: X | AI7: =COUNTIF(D7:AH7,"X")+COUNTIF(D7:AH7,"Tr")+COUNTIF(D7:AH7,"BL") -> 23
A8: 3 | B8: NGUYỄN VĂN | C8: SƠN | D8: X | E8: X | F8: X | G8: X | J8: X | K8: X | M8: X | N8: X | Q8: X | R8: X | S8: X | T8: X | U8: X | X8: X | Y8: X | Z8: X | AA8: X | AB8: X | AD8: X | AE8: X | AF8: X | AI8: =COUNTIF(D8:AH8,"X")+COUNTIF(D8:AH8,"Tr")+COUNTIF(D8:AH8,"BL") -> 21
A9: 4 | B9: NGUYỄN THANH | C9: SƠN B | D9: X | E9: X | F9: X | G9: X | J9: X | K9: X | M9: X | N9: X | Q9: X | R9: X | S9: X | T9: X | U9: X | X9: X | Y9: X | Z9: X | AA9: X | AB9: X | AE9: X | AF9: X | AI9: =COUNTIF(D9:AH9,"X")+COUNTIF(D9:AH9,"Tr")+COUNTIF(D9:AH9,"BL") -> 20
A10: 5 | B10: NGUYỄN THỊ ÁNH | C10: THU | D10: X | E10: X | F10: X | G10: X | J10: X | K10: X | M10: X | N10: X | Q10: X | R10: X | S10: X | T10: X | U10: X | X10: X | Y10: X | Z10: X | AA10: X | AB10: X | AE10: X | AF10: X | AI10: =COUNTIF(D10:AH10,"X")+COUNTIF(D10:AH10,"Tr")+COUNTIF(D10:AH10,"BL") -> 20
A11: 6 | B11: NGUYỄN THỊ THANH | C11: THẢO | D11: X | E11: X | F11: X | G11: X | H11: X | J11: X | K11: X | M11: X | N11: X | O11: X | Q11: X | R11: X | S11: X | T11: X | U11: X | V11: X | X11: X | Y11: X | Z11: X | AA11: X | AB11: X | AC11: BL | AE11: X | AF11: X | AI11: =COUNTIF(D11:AH11,"X")+COUNTIF(D11:AH11,"Tr")+COUNTIF(D11:AH11,"BL") -> 24
A12: 7 | B12: GIÁP THỊ | C12: VƯỢNG | D12: X | E12: X | F12: X | G12: X | J12: X | K12: X | M12: X | N12: X | O12: X | Q12: X | R12: X | S12: X | T12: X | U12: X | X12: X | Y12: X | Z12: X | AA12: X | AB12: X | AE12: X | AF12: X | AI12: =COUNTIF(D12:AH12,"X")+COUNTIF(D12:AH12,"Tr")+COUNTIF(D12:AH12,"BL") -> 21
A13: 8 | B13: NGUYỄN YẾN | C13: NHI | D13: X | E13: X | F13: X | G13: X | H13: X | J13: X | K13: X | M13: X | N13: X | O13: X | Q13: X | R13: X | S13: X | T13: X | U13: X | V13: X | X13: X | Y13: X | Z13: X | AA13: X | AB13: X | AC13: X | AE13: X | AF13: X | AI13: =COUNTIF(D13:AH13,"X")+COUNTIF(D13:AH13,"Tr")+COUNTIF(D13:AH13,"BL") -> 24
A14: 9 | B14: NGUYỄN THỊ | C14: THU | D14: X | E14: X | F14: X | G14: X | H14: X | J14: X | K14: X | M14: X | N14: X | O14: X | Q14: X | R14: X | S14: X | T14: X | U14: X | V14: X | X14: X | Y14: X | Z14: X | AA14: X | AB14: X | AC14: X | AE14: X | AF14: X | AI14: =COUNTIF(D14:AH14,"X")+COUNTIF(D14:AH14,"Tr")+COUNTIF(D14:AH14,"BL") -> 24
B16: KÝ HIỆU: | C16: LÀM VIỆC | I16: X | L16: NGHỈ PHÉP | R16: P | U16: NGHỈ CON ỐM | AB16: CÔ | AE16: NGHỈ KHÔNG LƯƠNG Ro
C17: TRỰC TRƯỜNG | I17: Tr | L17: NGHỈ TAI NẠN LĐ | R17: T | U17: NGHỈ VIỆC RIÊNG | AB17: R | AE17: NGHỈ KHÔNG PHÉP KP
C18: ĐI HỌC | I18: Ho | L18: NGHỈ ỐM | R18: Ô | U18: NGHỈ LỄ , TẾT | AB18: L | AE18: NGHỈ THAI SẢN S
C19: Chủ nhật | L19: LÀM BÙ LỄ | R19: BL
B20: GHI CHÚ: | C20: 1. Ngày 13/04 họp toạ đàm nhà trường với sinh viên tại Hội trường A.
C21: 2. Ngày 27/04 Hội thao Công đoàn. | V21: Ngày 30 tháng 04 năm 2014
C22: TRƯỞNG ĐƠN VỊ | W22: NGƯỜI CHẤM CÔNG
C26: HÀ PHƯỚC TUẤN | W26: HÀ PHƯỚC TUẤN

Sheet T05-2014
A1: TRƯỜNG CĐKT LÝ TƯ TRỌNG TP.HCM | J1: BẢNG CHẤM CÔNG
A2: ĐƠN VỊ : PHÒNG KT&KĐCLGD | M2: THÁNG | P2: =D4 -> 41760 | R2: NĂM | T2: =D4 -> 41760
A4: STT | B4: HỌ VÀ TÊN | D4: 41760 | E4: =D4+1 -> 41761 | F4: =E4+1 -> 41762 | G4: =F4+1 -> 41763 | H4: =G4+1 -> 41764 | I4: =H4+1 -> 41765 | J4: =I4+1 -> 41766 | K4: =J4+1 -> 41767 | L4: =K4+1 -> 41768 | ... AH4: =AG4+1 -> 41790 | AI4: TS.NGÀY LV
C5: THỨ | D5: =IF(WEEKDAY(D4)=1,"CN",IF(WEEKDAY(D4)=2,"T2",IF(WEEKDAY(D4)=3,"T3",IF(WEEKDAY(D4)=4,"T4",IF(WEEKDAY(D4)=5,"T5",IF(WEEKDAY(D4)=6,"T6","T7")))))) -> T5 | E5: =IF(WEEKDAY(E4)=1,"CN",IF(WEEKDAY(E4)=2,"T2",IF(WEEKDAY(E4)=3,"T3",IF(WEEKDAY(E4)=4,"T4",IF(WEEKDAY(E4)=5,"T5",IF(WEEKDAY(E4)=6,"T6","T7")))))) -> T6 | F5: =IF(WEEKDAY(F4)=1,"CN",IF(WEEKDAY(F4)=2,"T2",IF(WEEKDAY(F4)=3,"T3",IF(WEEKDAY(F4)=4,"T4",IF(WEEKDAY(F4)=5,"T5",IF(WEEKDAY(F4)=6,"T6","T7")))))) -> T7 | G5: =IF(WEEKDAY(G4)=1,"CN",IF(WEEKDAY(G4)=2,"T2",IF(WEEKDAY(G4)=3,"T3",IF(WEEKDAY(G4)=4,"T4",IF(WEEKDAY(G4)=5,"T5",IF(WEEKDAY(G4)=6,"T6","T7")))))) -> CN | H5: =IF(WEEKDAY(H4)=1,"CN",IF(WEEKDAY(H4)=2,"T2",IF(WEEKDAY(H4)=3,"T3",IF(WEEKDAY(H4)=4,"T4",IF(WEEKDAY(H4)=5,"T5",IF(WEEKDAY(H4)=6,"T6","T7")))))) -> T2 | I5: =IF(WEEKDAY(I4)=1,"CN",IF(WEEKDAY(I4)=2,"T2",IF(WEEKDAY(I4)=3,"T3",IF(WEEKDAY(I4)=4,"T4",IF(WEEKDAY(I4)=5,"T5",IF(WEEKDAY(I4)=6,"T6","T7")))))) -> T3 | J5: =IF(WEEKDAY(J4)=1,"CN",IF(WEEKDAY(J4)=2,"T2",IF(WEEKDAY(J4)=3,"T3",IF(WEEKDAY(J4)=4,"T4",IF(WEEKDAY(J4)=5,"T5",IF(WEEKDAY(J4)=6,"T6","T7")))))) -> T4 | K5: =IF(WEEKDAY(K4)=1,"CN",IF(WEEKDAY(K4)=2,"T2",IF(WEEKDAY(K4)=3,"T3",IF(WEEKDAY(K4)=4,"T4",IF(WEEKDAY(K4)=5,"T5",IF(WEEKDAY(K4)=6,"T6","T7")))))) -> T5 | ... AH5: =IF(WEEKDAY(AH4)=1,"CN",IF(WEEKDAY(AH4)=2,"T2",IF(WEEKDAY(AH4)=3,"T3",IF(WEEKDAY(AH4)=4,"T4",IF(WEEKDAY(AH4)=5,"T5",IF(WEEKDAY(AH4)=6,"T6","T7")))))) -> T7
A6: 1 | B6: HÀ PHƯỚC | C6: TUẤN | E6: X | F6: X | H6: X | I6: X | J6: X | K6: X | L6: X | M6: X | N6: X | O6: X | P6: X | Q6: X | R6: X | S6: X | T6: X | V6: X | W6: X | X6: X | Y6: X | Z6: X | AC6: X | AD6: X | AE6: X | AF6: X | AG6: X | AH6: X | AI6: =COUNTIF(D6:AH6,"X")+COUNTIF(D6:AH6,"Tr")+COUNTIF(D6:AH6,"BL") -> 26
A7: 2 | B7: VÕ THỊ ANH | C7: ĐÀO | E7: X | H7: X | I7: X | J7: X | K7: X | L7: X | N7: X | O7: X | P7: X | Q7: X | R7: X | S7: X | V7: X | W7: X | X7: X | Y7: X | Z7: X | AC7: Ô | AD7: Ô | AE7: Ô | AF7: Ô | AG7: Ô | AI7: =COUNTIF(D7:AH7,"X")+COUNTIF(D7:AH7,"Tr")+COUNTIF(D7:AH7,"BL") -> 17
A8: 3 | B8: NGUYỄN VĂN | C8: SƠN | E8: X | H8: X | I8: X | J8: X | K8: X | L8: X | N8: X | O8: X | P8: X | Q8: X | R8: X | S8: X | V8: X | W8: X | X8: X | Y8: X | Z8: X | AC8: X | AD8: X | AE8: X | AF8: X | AG8: X | AI8: =COUNTIF(D8:AH8,"X")+COUNTIF(D8:AH8,"Tr")+COUNTIF(D8:AH8,"BL") -> 22
A9: 4 | B9: NGUYỄN THANH | C9: SƠN B | E9: X | H9: X | I9: X | J9: X | K9: X | L9: X | N9: X | O9: X | P9: X | Q9: X | R9: X | S9: X | V9: X | W9: X | X9: X | Y9: X | Z9: X | AC9: X | AD9: X | AE9: X | AF9: X | AG9: X | AI9: =COUNTIF(D9:AH9,"X")+COUNTIF(D9:AH9,"Tr")+COUNTIF(D9:AH9,"BL") -> 22
A10: 5 | B10: NGUYỄN THỊ ÁNH | C10: THU | E10: X | H10: X | I10: X | J10: P | K10: P | L10: P | O10: X | P10: X | Q10: X | R10: X | S10: X | V10: X | W10: X | X10: X | Y10: X | Z10: X | AC10: X | AD10: X | AE10: X | AF10: X | AG10: X | AI10: =COUNTIF(D10:AH10,"X")+COUNTIF(D10:AH10,"Tr")+COUNTIF(D10:AH10,"BL") -> 18
A11: 6 | B11: NGUYỄN THỊ THANH | C11: THẢO | H11: X | I11: X | J11: X | K11: X | L11: X | N11: X | O11: X | P11: X | Q11: X | R11: X | S11: X | V11: X | W11: X | X11: X | Y11: X | Z11: X | AC11: X | AD11: X | AE11: X | AF11: X | AG11: X | AI11: =COUNTIF(D11:AH11,"X")+COUNTIF(D11:AH11,"Tr")+COUNTIF(D11:AH11,"BL") -> 21
A12: 7 | B12: GIÁP THỊ | C12: VƯỢNG | E12: X | H12: X | I12: X | J12: X | K12: X | L12: X | N12: X | O12: X | P12: X | Q12: X | R12: X | S12: X | V12: X | W12: X | X12: X | Y12: X | Z12: X | AC12: X | AD12: X | AE12: X | AF12: X | AG12: X | AI12: =COUNTIF(D12:AH12,"X")+COUNTIF(D12:AH12,"Tr")+COUNTIF(D12:AH12,"BL") -> 22
A13: 8 | B13: NGUYỄN YẾN | C13: NHI | E13: P | F13: X | H13: X | I13: X | J13: X | K13: X | L13: X | M13: X | N13: X | O13: X | P13: X | Q13: X | R13: X | S13: X | T13: X | V13: X | W13: X | X13: X | Y13: X | Z13: X | AA13: X | AC13: X | AD13: X | AE13: X | AF13: X | AG13: X | AH13: X | AI13: =COUNTIF(D13:AH13,"X")+COUNTIF(D13:AH13,"Tr")+COUNTIF(D13:AH13,"BL") -> 26
A14: 9 | B14: NGUYỄN THỊ | C14: THU | E14: Ro | F14: Ro | H14: Ro | I14: Ro | J14: Ro | K14: Ro | L14: Ro | M14: Ro | O14: Ro | P14: Ro | Q14: Ro | R14: Ro | S14: Ro | T14: Ro | V14: Ro | W14: Ro | X14: Ro | Y14: Ro | Z14: Ro | AA14: Ro | AC14: Ro | AD14: Ro | AE14: Ro | AF14: Ro | AG14: Ro | AH14: Ro | AI14: =COUNTIF(D14:AH14,"X")+COUNTIF(D14:AH14,"Tr")+COUNTIF(D14:AH14,"BL") -> 0
B16: KÝ HIỆU: | C16: LÀM VIỆC | I16: X | L16: NGHỈ PHÉP | R16: P | U16: NGHỈ CON ỐM | AB16: CÔ | AE16: NGHỈ KHÔNG LƯƠNG Ro
C17: TRỰC TRƯỜNG | I17: Tr | L17: NGHỈ TAI NẠN LĐ | R17: T | U17: NGHỈ VIỆC RIÊNG | AB17: R | AE17: NGHỈ KHÔNG PHÉP KP
C18: ĐI HỌC | I18: Ho | L18: NGHỈ ỐM | R18: Ô | U18: NGHỈ LỄ , TẾT | AB18: L | AE18: NGHỈ THAI SẢN S
C19: Chủ nhật | L19: LÀM BÙ LỄ | R19: BL
B20: GHI CHÚ: | C20: 1. Ngày 11/05 - Hội thao Công đoàn
V22: Ngày 31 tháng 05 năm 2014
C23: TRƯỞNG ĐƠN VỊ | W23: NGƯỜI CHẤM CÔNG
C27: HÀ PHƯỚC TUẤN | W27: HÀ PHƯỚC TUẤN

Sheet T06-2014
A1: TRƯỜNG CĐKT LÝ TƯ TRỌNG TP.HCM | J1: BẢNG CHẤM CÔNG
A2: ĐƠN VỊ : PHÒNG KT&KĐCLGD | M2: THÁNG | P2: 6 | R2: NĂM | T2: 2014
A4: STT | B4: HỌ VÀ TÊN | D4: =DATEVALUE("01/"&P2&"/"&T2) -> 41791 | E4: =D4+1 -> 41792 | F4: =E4+1 -> 41793 | G4: =F4+1 -> 41794 | H4: =G4+1 -> 41795 | I4: =H4+1 -> 41796 | J4: =I4+1 -> 41797 | K4: =J4+1 -> 41798 | L4: =K4+1 -> 41799 | ... AH4: =AG4+1 -> 41821 | AI4: TS.NGÀY LV
C5: THỨ | D5: =IF(WEEKDAY(D4)=1,"CN",IF(WEEKDAY(D4)=2,"T2",IF(WEEKDAY(D4)=3,"T3",IF(WEEKDAY(D4)=4,"T4",IF(WEEKDAY(D4)=5,"T5",IF(WEEKDAY(D4)=6,"T6","T7")))))) -> CN | E5: =IF(WEEKDAY(E4)=1,"CN",IF(WEEKDAY(E4)=2,"T2",IF(WEEKDAY(E4)=3,"T3",IF(WEEKDAY(E4)=4,"T4",IF(WEEKDAY(E4)=5,"T5",IF(WEEKDAY(E4)=6,"T6","T7")))))) -> T2 | F5: =IF(WEEKDAY(F4)=1,"CN",IF(WEEKDAY(F4)=2,"T2",IF(WEEKDAY(F4)=3,"T3",IF(WEEKDAY(F4)=4,"T4",IF(WEEKDAY(F4)=5,"T5",IF(WEEKDAY(F4)=6,"T6","T7")))))) -> T3 | G5: =IF(WEEKDAY(G4)=1,"CN",IF(WEEKDAY(G4)=2,"T2",IF(WEEKDAY(G4)=3,"T3",IF(WEEKDAY(G4)=4,"T4",IF(WEEKDAY(G4)=5,"T5",IF(WEEKDAY(G4)=6,"T6","T7")))))) -> T4 | H5: =IF(WEEKDAY(H4)=1,"CN",IF(WEEKDAY(H4)=2,"T2",IF(WEEKDAY(H4)=3,"T3",IF(WEEKDAY(H4)=4,"T4",IF(WEEKDAY(H4)=5,"T5",IF(WEEKDAY(H4)=6,"T6","T7")))))) -> T5 | I5: =IF(WEEKDAY(I4)=1,"CN",IF(WEEKDAY(I4)=2,"T2",IF(WEEKDAY(I4)=3,"T3",IF(WEEKDAY(I4)=4,"T4",IF(WEEKDAY(I4)=5,"T5",IF(WEEKDAY(I4)=6,"T6","T7")))))) -> T6 | J5: =IF(WEEKDAY(J4)=1,"CN",IF(WEEKDAY(J4)=2,"T2",IF(WEEKDAY(J4)=3,"T3",IF(WEEKDAY(J4)=4,"T4",IF(WEEKDAY(J4)=5,"T5",IF(WEEKDAY(J4)=6,"T6","T7")))))) -> T7 | K5: =IF(WEEKDAY(K4)=1,"CN",IF(WEEKDAY(K4)=2,"T2",IF(WEEKDAY(K4)=3,"T3",IF(WEEKDAY(K4)=4,"T4",IF(WEEKDAY(K4)=5,"T5",IF(WEEKDAY(K4)=6,"T6","T7")))))) -> CN | ... AH5: =IF(WEEKDAY(AH4)=1,"CN",IF(WEEKDAY(AH4)=2,"T2",IF(WEEKDAY(AH4)=3,"T3",IF(WEEKDAY(AH4)=4,"T4",IF(WEEKDAY(AH4)=5,"T5",IF(WEEKDAY(AH4)=6,"T6","T7")))))) -> T3
A6: 1 | B6: HÀ PHƯỚC | C6: TUẤN | E6: X | F6: X | G6: X | H6: X | I6: X | J6: X | L6: X | M6: X | N6: X | O6: X | P6: X | Q6: X | S6: X | T6: X | U6: X | V6: X | W6: X | X6: X | Z6: X | AA6: X | AB6: X | AC6: X | AD6: X | AE6: X | AG6: X | AI6: =COUNTIF(D6:AH6,"X")+COUNTIF(D6:AH6,"Tr")+COUNTIF(D6:AH6,"BL") -> 25
A7: 2 | B7: VÕ THỊ ANH | C7: ĐÀO | E7: X | F7: X | G7: X | H7: X | I7: X | L7: Ô | M7: Ô | N7: Ô | O7: Ô | P7: Ô | S7: Ô | T7: Ô | U7: Ô | V7: Ô | W7: Ô | Z7: Ô | AA7: Ô | AB7: Ô | AC7: Ô | AD7: Ô | AG7: Ô | AI7: =COUNTIF(D7:AH7,"X")+COUNTIF(D7:AH7,"Tr")+COUNTIF(D7:AH7,"BL") -> 5
A8: 3 | B8: NGUYỄN VĂN | C8: SƠN | E8: X | F8: X | G8: X | H8: X | I8: X | L8: X | M8: X | N8: X | O8: X | P8: X | S8: X | T8: X | U8: X | V8: X | W8: X | Z8: X | AA8: X | AB8: X | AC8: X | AD8: X | AG8: X | AI8: =COUNTIF(D8:AH8,"X")+COUNTIF(D8:AH8,"Tr")+COUNTIF(D8:AH8,"BL") -> 21
A9: 4 | B9: NGUYỄN THANH | C9: SƠN B | E9: X | F9: X | G9: X | H9: X | I9: X | L9: X | M9: X | N9: X | O9: X | P9: X | S9: X | T9: X | U9: X | V9: Ho | W9: Ho | Z9: X | AA9: X | AB9: X | AC9: X | AD9: X | AG9: X | AI9: =COUNTIF(D9:AH9,"X")+COUNTIF(D9:AH9,"Tr")+COUNTIF(D9:AH9,"BL") -> 19
A10: 5 | B10: NGUYỄN THỊ ÁNH | C10: THU | E10: X | F10: X | G10: X | H10: X | I10: X | L10: X | M10: X | N10: X | O10: X | P10: X | S10: X | T10: X | U10: X | V10: X | W10: X | X10: X | Z10: X | AA10: X | AB10: X | AC10: X | AD10: X | AG10: X | AI10: =COUNTIF(D10:AH10,"X")+COUNTIF(D10:AH10,"Tr")+COUNTIF(D10:AH10,"BL") -> 22
A11: 6 | B11: NGUYỄN THỊ THANH | C11: THẢO | E11: X | F11: X | G11: X | H11: X | I11: X | L11: X | M11: X | N11: X | O11: X | P11: X | S11: X | T11: X | U11: X | V11: X | W11: X | X11: X | Z11: X | AA11: X | AB11: X | AC11: X | AD11: X | AG11: X | AI11: =COUNTIF(D11:AH11,"X")+COUNTIF(D11:AH11,"Tr")+COUNTIF(D11:AH11,"BL") -> 22
A12: 7 | B12: GIÁP THỊ | C12: VƯỢNG | E12: X | F12: X | G12: X | H12: X | I12: X | L12: X | M12: X | N12: X | O12: X | P12: X | S12: DL | T12: DL | U12: DL | V12: X | W12: X | X12: X | Z12: X | AA12: X | AB12: X | AC12: X | AD12: X | AG12: X | AI12: =COUNTIF(D12:AH12,"X")+COUNTIF(D12:AH12,"Tr")+COUNTIF(D12:AH12,"BL") -> 19
A13: 8 | B13: NGUYỄN YẾN | C13: NHI | E13: X | F13: X | G13: X | H13: X | I13: X | J13: P | L13: X | M13: X | N13: X | O13: X | P13: X | Q13: X | S13: X | T13: X | U13: X | V13: X | W13: X | X13: X | Z13: X | AA13: X | AB13: X | AC13: X | AD13: X | AE13: X | AG13: X | AI13: =COUNTIF(D13:AH13,"X")+COUNTIF(D13:AH13,"Tr")+COUNTIF(D13:AH13,"BL") -> 24
A14: 9 | B14: NGUYỄN THỊ | C14: THU | E14: X | F14: X | G14: X | H14: X | I14: X | J14: X | L14: X | M14: X | N14: X | O14: X | P14: X | Q14: X | S14: X | T14: X | U14: X | V14: Ho | W14: Ho | X14: X | Z14: X | AA14: X | AB14: X | AC14: X | AD14: X | AE14: X | AG14: X | AI14: =COUNTIF(D14:AH14,"X")+COUNTIF(D14:AH14,"Tr")+COUNTIF(D14:AH14,"BL") -> 23
B16: KÝ HIỆU: | C16: LÀM VIỆC | I16: X | L16: NGHỈ PHÉP | R16: P | U16: NGHỈ CON ỐM | AB16: CÔ | AE16: NGHỈ KHÔNG LƯƠNG Ro
C17: TRỰC TRƯỜNG | I17: Tr | L17: NGHỈ TAI NẠN LĐ | R17: T | U17: NGHỈ VIỆC RIÊNG | AB17: R | AE17: NGHỈ KHÔNG PHÉP KP
C18: ĐI HỌC | I18: Ho | L18: NGHỈ ỐM | R18: Ô | U18: NGHỈ LỄ , TẾT | AB18: L | AE18: NGHỈ THAI SẢN S
C19: Chủ nhật | L19: LÀM BÙ LỄ | R19: BL | U19: DU LỊCH HÈ | AB19: DL
V20: ="Ngày "&DAY(EOMONTH(D4,0))&" tháng "&P2&" năm "&T2 -> Ngày 30 tháng 6 năm 2014
C21: TRƯỞNG ĐƠN VỊ | W21: NGƯỜI CHẤM CÔNG
C25: HÀ PHƯỚC TUẤN | W25: HÀ PHƯỚC TUẤN

Sheet T07-2014
A1: TRƯỜNG CĐKT LÝ TƯ TRỌNG TP.HCM | J1: BẢNG CHẤM CÔNG
A2: ĐƠN VỊ : PHÒNG KT&KĐCLGD | M2: THÁNG | P2: 7 | R2: NĂM | T2: 2014
A4: STT | B4: HỌ VÀ TÊN | D4: 41821 | E4: =D4+1 -> 41822 | F4: =E4+1 -> 41823 | G4: =F4+1 -> 41824 | H4: =G4+1 -> 41825 | I4: =H4+1 -> 41826 | J4: =I4+1 -> 41827 | K4: =J4+1 -> 41828 | L4: =K4+1 -> 41829 | ... AH4: =AG4+1 -> 41851 | AI4: TS.NGÀY LV
C5: THỨ | D5: =IF(WEEKDAY(D4)=1,"CN",IF(WEEKDAY(D4)=2,"T2",IF(WEEKDAY(D4)=3,"T3",IF(WEEKDAY(D4)=4,"T4",IF(WEEKDAY(D4)=5,"T5",IF(WEEKDAY(D4)=6,"T6","T7")))))) -> T3 | E5: =IF(WEEKDAY(E4)=1,"CN",IF(WEEKDAY(E4)=2,"T2",IF(WEEKDAY(E4)=3,"T3",IF(WEEKDAY(E4)=4,"T4",IF(WEEKDAY(E4)=5,"T5",IF(WEEKDAY(E4)=6,"T6","T7")))))) -> T4 | F5: =IF(WEEKDAY(F4)=1,"CN",IF(WEEKDAY(F4)=2,"T2",IF(WEEKDAY(F4)=3,"T3",IF(WEEKDAY(F4)=4,"T4",IF(WEEKDAY(F4)=5,"T5",IF(WEEKDAY(F4)=6,"T6","T7")))))) -> T5 | G5: =IF(WEEKDAY(G4)=1,"CN",IF(WEEKDAY(G4)=2,"T2",IF(WEEKDAY(G4)=3,"T3",IF(WEEKDAY(G4)=4,"T4",IF(WEEKDAY(G4)=5,"T5",IF(WEEKDAY(G4)=6,"T6","T7")))))) -> T6 | H5: =IF(WEEKDAY(H4)=1,"CN",IF(WEEKDAY(H4)=2,"T2",IF(WEEKDAY(H4)=3,"T3",IF(WEEKDAY(H4)=4,"T4",IF(WEEKDAY(H4)=5,"T5",IF(WEEKDAY(H4)=6,"T6","T7")))))) -> T7 | I5: =IF(WEEKDAY(I4)=1,"CN",IF(WEEKDAY(I4)=2,"T2",IF(WEEKDAY(I4)=3,"T3",IF(WEEKDAY(I4)=4,"T4",IF(WEEKDAY(I4)=5,"T5",IF(WEEKDAY(I4)=6,"T6","T7")))))) -> CN | J5: =IF(WEEKDAY(J4)=1,"CN",IF(WEEKDAY(J4)=2,"T2",IF(WEEKDAY(J4)=3,"T3",IF(WEEKDAY(J4)=4,"T4",IF(WEEKDAY(J4)=5,"T5",IF(WEEKDAY(J4)=6,"T6","T7")))))) -> T2 | K5: =IF(WEEKDAY(K4)=1,"CN",IF(WEEKDAY(K4)=2,"T2",IF(WEEKDAY(K4)=3,"T3",IF(WEEKDAY(K4)=4,"T4",IF(WEEKDAY(K4)=5,"T5",IF(WEEKDAY(K4)=6,"T6","T7")))))) -> T3 | ... AH5: =IF(WEEKDAY(AH4)=1,"CN",IF(WEEKDAY(AH4)=2,"T2",IF(WEEKDAY(AH4)=3,"T3",IF(WEEKDAY(AH4)=4,"T4",IF(WEEKDAY(AH4)=5,"T5",IF(WEEKDAY(AH4)=6,"T6","T7")))))) -> T5
A6: 1 | B6: HÀ PHƯỚC | C6: TUẤN | D6: X | E6: X | F6: X | G6: CĐ | J6: X | K6: X | L6: X | M6: X | N6: X | Q6: X | R6: X | S6: X | T6: X | U6: X | V6: X | X6: X | Y6: X | Z6: X | AA6: X | AB6: X | AC6: X | AE6: X | AF6: X | AG6: X | AH6: X | AI6: =COUNTIF(D6:AH6,"X")+COUNTIF(D6:AH6,"Tr")+COUNTIF(D6:AH6,"BL") -> 24
A7: 2 | B7: VÕ THỊ ANH | C7: ĐÀO | D7: X | E7: X | F7: X | G7: X | J7: X | K7: X | L7: X | M7: X | N7: X | Q7: X | R7: X | S7: Ô | T7: Ô | U7: Ô | X7: Ô | Y7: Ô | Z7: X | AA7: X | AB7: X | AE7: X | AF7: X | AG7: X | AH7: X | AI7: =COUNTIF(D7:AH7,"X")+COUNTIF(D7:AH7,"Tr")+COUNTIF(D7:AH7,"BL") -> 18
A8: 3 | B8: NGUYỄN VĂN | C8: SƠN | D8: X | E8: X | F8: X | G8: X | J8: X | K8: X | L8: X | M8: X | N8: X | O8: X | Q8: X | R8: X | S8: X | T8: X | U8: X | X8: X | Y8: P | Z8: P | AA8: P | AB8: P | AE8: X | AF8: X | AG8: X | AH8: X | AI8: =COUNTIF(D8:AH8,"X")+COUNTIF(D8:AH8,"Tr")+COUNTIF(D8:AH8,"BL") -> 20
A9: 4 | B9: NGUYỄN THANH | C9: SƠN B | D9: X | E9: X | F9: X | G9: X | J9: X | K9: X | L9: X | M9: X | N9: X | Q9: X | R9: X | S9: P | T9: P | U9: P | X9: P | Y9: P | Z9: P | AA9: P | AB9: P | AE9: X | AF9: X | AG9: X | AH9: X | AI9: =COUNTIF(D9:AH9,"X")+COUNTIF(D9:AH9,"Tr")+COUNTIF(D9:AH9,"BL") -> 15
A10: 5 | B10: NGUYỄN THỊ ÁNH | C10: THU | D10: X | E10: X | F10: X | G10: X | J10: X | K10: X | L10: X | M10: X | N10: X | Q10: X | R10: X | S10: X | T10: P | U10: P | X10: X | Y10: X | Z10: X | AA10: X | AB10: P | AE10: X | AF10: X | AG10: X | AH10: X | AI10: =COUNTIF(D10:AH10,"X")+COUNTIF(D10:AH10,"Tr")+COUNTIF(D10:AH10,"BL") -> 20
A11: 6 | B11: NGUYỄN THỊ THANH | C11: THẢO | D11: X | E11: X | F11: X | G11: X | J11: X | K11: X | L11: X | M11: X | N11: X | Q11: X | R11: X | S11: X | T11: X | U11: X | V11: X | X11: X | Y11: X | Z11: X | AA11: X | AB11: X | AE11: X | AF11: X | AG11: X | AH11: X | AI11: =COUNTIF(D11:AH11,"X")+COUNTIF(D11:AH11,"Tr")+COUNTIF(D11:AH11,"BL") -> 24
A12: 7 | B12: GIÁP THỊ | C12: VƯỢNG | D12: X | E12: X | F12: X | G12: X | J12: X | K12: X | L12: X | M12: X | N12: X | O12: X | Q12: X | R12: X | S12: X | T12: X | U12: X | V12: X | X12: X | Y12: X | Z12: X | AA12: X | AB12: X | AE12: X | AF12: X | AG12: X | AH12: X | AI12: =COUNTIF(D12:AH12,"X")+COUNTIF(D12:AH12,"Tr")+COUNTIF(D12:AH12,"BL") -> 25
A13: 8 | B13: NGUYỄN YẾN | C13: NHI | D13: X | E13: X | F13: X | G13: X | H13: X | J13: X | K13: X | L13: X | M13: X | N13: X | O13: DL | Q13: X | R13: X | S13: X | T13: X | U13: X | V13: X | X13: X | Y13: X | Z13: X | AA13: X | AB13: X | AC13: X | AE13: X | AF13: X | AG13: X | AH13: X | AI13: =COUNTIF(D13:AH13,"X")+COUNTIF(D13:AH13,"Tr")+COUNTIF(D13:AH13,"BL") -> 26
A14: 9 | B14: NGUYỄN THỊ | C14: THU | D14: X | E14: X | F14: X | G14: X | H14: X | J14: X | K14: X | L14: X | M14: X | N14: X | O14: X | Q14: X | R14: X | S14: X | T14: P | U14: P | V14: P | X14: X | Y14: X | Z14: X | AA14: X | AB14: X | AC14: X | AE14: X | AF14: X | AG14: X | AH14: X | AI14: =COUNTIF(D14:AH14,"X")+COUNTIF(D14:AH14,"Tr")+COUNTIF(D14:AH14,"BL") -> 24
B16: KÝ HIỆU: | C16: LÀM VIỆC | I16: X | L16: NGHỈ PHÉP | R16: P | U16: NGHỈ CON ỐM | AB16: CÔ | AE16: NGHỈ KHÔNG LƯƠNG Ro
C17: TRỰC TRƯỜNG | I17: Tr | L17: NGHỈ TAI NẠN LĐ | R17: T | U17: NGHỈ VIỆC RIÊNG | AB17: R | AE17: NGHỈ KHÔNG PHÉP KP
C18: ĐI HỌC | I18: Ho | L18: NGHỈ ỐM | R18: Ô | U18: NGHỈ LỄ , TẾT | AB18: L | AE18: NGHỈ THAI SẢN S
C19: Chủ nhật | L19: LÀM BÙ LỄ | R19: BL | U19: DU LỊCH HÈ | AB19: DL | AE19: NGHỈ CHẾ ĐỘ CĐ
V20: Ngày 31 tháng 07 năm 2014
C21: TRƯỞNG ĐƠN VỊ | W21: NGƯỜI CHẤM CÔNG
C25: HÀ PHƯỚC TUẤN | W25: HÀ PHƯỚC TUẤN

Sheet T08-2014
A1: TRƯỜNG CĐKT LÝ TƯ TRỌNG TP.HCM | J1: BẢNG CHẤM CÔNG
A2: ĐƠN VỊ : PHÒNG KT&KĐCLGD | M2: THÁNG | P2: 8 | R2: NĂM | T2: 2014
A4: STT | B4: HỌ VÀ TÊN | D4: 41852 | E4: =D4+1 -> 41853 | F4: =E4+1 -> 41854 | G4: =F4+1 -> 41855 | H4: =G4+1 -> 41856 | I4: =H4+1 -> 41857 | J4: =I4+1 -> 41858 | K4: =J4+1 -> 41859 | L4: =K4+1 -> 41860 | ... AH4: =AG4+1 -> 41882 | AI4: TS.NGÀY LV
C5: THỨ | D5: =IF(WEEKDAY(D4)=1,"CN",IF(WEEKDAY(D4)=2,"T2",IF(WEEKDAY(D4)=3,"T3",IF(WEEKDAY(D4)=4,"T4",IF(WEEKDAY(D4)=5,"T5",IF(WEEKDAY(D4)=6,"T6","T7")))))) -> T6 | E5: =IF(WEEKDAY(E4)=1,"CN",IF(WEEKDAY(E4)=2,"T2",IF(WEEKDAY(E4)=3,"T3",IF(WEEKDAY(E4)=4,"T4",IF(WEEKDAY(E4)=5,"T5",IF(WEEKDAY(E4)=6,"T6","T7")))))) -> T7 | F5: =IF(WEEKDAY(F4)=1,"CN",IF(WEEKDAY(F4)=2,"T2",IF(WEEKDAY(F4)=3,"T3",IF(WEEKDAY(F4)=4,"T4",IF(WEEKDAY(F4)=5,"T5",IF(WEEKDAY(F4)=6,"T6","T7")))))) -> CN | G5: =IF(WEEKDAY(G4)=1,"CN",IF(WEEKDAY(G4)=2,"T2",IF(WEEKDAY(G4)=3,"T3",IF(WEEKDAY(G4)=4,"T4",IF(WEEKDAY(G4)=5,"T5",IF(WEEKDAY(G4)=6,"T6","T7")))))) -> T2 | H5: =IF(WEEKDAY(H4)=1,"CN",IF(WEEKDAY(H4)=2,"T2",IF(WEEKDAY(H4)=3,"T3",IF(WEEKDAY(H4)=4,"T4",IF(WEEKDAY(H4)=5,"T5",IF(WEEKDAY(H4)=6,"T6","T7")))))) -> T3 | I5: =IF(WEEKDAY(I4)=1,"CN",IF(WEEKDAY(I4)=2,"T2",IF(WEEKDAY(I4)=3,"T3",IF(WEEKDAY(I4)=4,"T4",IF(WEEKDAY(I4)=5,"T5",IF(WEEKDAY(I4)=6,"T6","T7")))))) -> T4 | J5: =IF(WEEKDAY(J4)=1,"CN",IF(WEEKDAY(J4)=2,"T2",IF(WEEKDAY(J4)=3,"T3",IF(WEEKDAY(J4)=4,"T4",IF(WEEKDAY(J4)=5,"T5",IF(WEEKDAY(J4)=6,"T6","T7")))))) -> T5 | K5: =IF(WEEKDAY(K4)=1,"CN",IF(WEEKDAY(K4)=2,"T2",IF(WEEKDAY(K4)=3,"T3",IF(WEEKDAY(K4)=4,"T4",IF(WEEKDAY(K4)=5,"T5",IF(WEEKDAY(K4)=6,"T6","T7")))))) -> T6 | ... AH5: =IF(WEEKDAY(AH4)=1,"CN",IF(WEEKDAY(AH4)=2,"T2",IF(WEEKDAY(AH4)=3,"T3",IF(WEEKDAY(AH4)=4,"T4",IF(WEEKDAY(AH4)=5,"T5",IF(WEEKDAY(AH4)=6,"T6","T7")))))) -> CN
A6: 1 | B6: HÀ PHƯỚC | C6: TUẤN | D6: X | E6: X | G6: X | H6: X | I6: X | J6: X | K6: X | L6: X | N6: X | O6: X | P6: X | Q6: X | R6: X | S6: X | U6: X | V6: X | W6: X | X6: X | Y6: X | Z6: X | AB6: VN | AC6: VN | AD6: VN | AE6: VN | AF6: X | AG6: X | AI6: =COUNTIF(D6:AH6,"X")+COUNTIF(D6:AH6,"Tr")+COUNTIF(D6:AH6,"BL") -> 22
A7: 2 | B7: VÕ THỊ ANH | C7: ĐÀO | D7: X | G7: X | H7: Ô | I7: Ô | J7: Ô | K7: Ô | N7: Ô | O7: X | P7: X | Q7: X | R7: X | U7: X | V7: X | W7: X | X7: X | Y7: X | Z7: X | AB7: X | AC7: Ô | AD7: Ô | AE7: Ô | AF7: Ô | AI7: =COUNTIF(D7:AH7,"X")+COUNTIF(D7:AH7,"Tr")+COUNTIF(D7:AH7,"BL") -> 13
A8: 3 | B8: NGUYỄN VĂN | C8: SƠN | D8: X | G8: X | H8: X | I8: X | J8: X | K8: X | N8: X | O8: X | P8: X | Q8: X | R8: X | U8: P | V8: P | W8: P | X8: X | Y8: X | AB8: X | AC8: X | AD8: X | AE8: X | AF8: X | AI8: =COUNTIF(D8:AH8,"X")+COUNTIF(D8:AH8,"Tr")+COUNTIF(D8:AH8,"BL") -> 18
A9: 4 | B9: NGUYỄN THANH | C9: SƠN B | D9: X | G9: X | H9: X | I9: X | J9: X | K9: X | N9: P | O9: P | P9: P | Q9: P | R9: P | U9: X | V9: X | W9: X | X9: X | Y9: X | AB9: X | AC9: X | AD9: X | AE9: X | AF9: X | AI9: =COUNTIF(D9:AH9,"X")+COUNTIF(D9:AH9,"Tr")+COUNTIF(D9:AH9,"BL") -> 16
A10: 5 | B10: NGUYỄN THỊ ÁNH | C10: THU | D10: X | G10: X | H10: X | I10: X | J10: X | K10: X | N10: X | O10: X | P10: X | Q10: X | R10: X | U10: X | V10: X | W10: X | X10: X | Y10: X | AB10: X | AC10: X | AD10: X | AE10: X | AF10: X | AI10: =COUNTIF(D10:AH10,"X")+COUNTIF(D10:AH10,"Tr")+COUNTIF(D10:AH10,"BL") -> 21
A11: 6 | B11: NGUYỄN THỊ THANH | C11: THẢO | D11: X | E11: X | G11: X | H11: X | I11: X | J11: X | K11: X | L11: X | N11: X | O11: X | P11: X | Q11: X | R11: X | U11: X | V11: X | W11: X | X11: X | Y11: X | Z11: X | AB11: X | AC11: X | AD11: X | AE11: X | AF11: X | AG11: X | AI11: =COUNTIF(D11:AH11,"X")+COUNTIF(D11:AH11,"Tr")+COUNTIF(D11:AH11,"BL") -> 25
A12: 7 | B12: GIÁP THỊ | C12: VƯỢNG | D12: X | E12: X | G12: X | H12: X | I12: X | J12: X | K12: X | N12: CÔ | O12: CÔ | P12: CÔ | Q12: CÔ | R12: CÔ | U12: X | V12: X | W12: X | X12: X | Y12: X | Z12: X | AB12: X | AC12: X | AD12: X | AE12: X | AF12: X | AI12: =COUNTIF(D12:AH12,"X")+COUNTIF(D12:AH12,"Tr")+COUNTIF(D12:AH12,"BL") -> 18
A13: 8 | B13: NGUYỄN YẾN | C13: NHI | D13: X | E13: X | G13: X | H13: X | I13: X | J13: X | K13: X | L13: X | N13: X | O13: X | P13: X | Q13: X | R13: X | S13: X | U13: X | V13: X | W13: X | X13: X | Y13: X | Z13: X | AB13: X | AC13: X | AD13: X | AE13: X | AF13: X | AG13: X | AI13: =COUNTIF(D13:AH13,"X")+COUNTIF(D13:AH13,"Tr")+COUNTIF(D13:AH13,"BL") -> 26
A14: 9 | B14: NGUYỄN THỊ | C14: THU | D14: X | E14: X | G14: X | H14: X | I14: X | J14: X | K14: X | L14: X | N14: X | O14: X | P14: X | Q14: X | R14: X | S14: X | U14: X | V14: X | W14: X | X14: X | Y14: X | Z14: X | AB14: X | AC14: X | AD14: X | AE14: X | AF14: X | AG14: X | AI14: =COUNTIF(D14:AH14,"X")+COUNTIF(D14:AH14,"Tr")+COUNTIF(D14:AH14,"BL") -> 26
B16: KÝ HIỆU: | C16: LÀM VIỆC | I16: X | L16: NGHỈ PHÉP | R16: P | U16: NGHỈ CON ỐM | AB16: CÔ | AE16: NGHỈ KHÔNG LƯƠNG Ro
C17: TRỰC TRƯỜNG | I17: Tr | L17: NGHỈ TAI NẠN LĐ | R17: T | U17: NGHỈ VIỆC RIÊNG | AB17: R | AE17: NGHỈ KHÔNG PHÉP KP
C18: ĐI HỌC | I18: Ho | L18: NGHỈ ỐM | R18: Ô | U18: NGHỈ LỄ , TẾT | AB18: L | AE18: NGHỈ THAI SẢN S
C19: Chủ nhật | L19: LÀM BÙ LỄ | R19: BL | U19: VỀ NGUỒN | AB19: VN
V20: Ngày 31 tháng 08 năm 2014
C21: TRƯỞNG ĐƠN VỊ | W21: NGƯỜI CHẤM CÔNG
C25: HÀ PHƯỚC TUẤN | W25: HÀ PHƯỚC TUẤN

Sheet T09-2014
A1: TRƯỜNG CĐKT LÝ TƯ TRỌNG TP.HCM | J1: BẢNG CHẤM CÔNG
A2: ĐƠN VỊ : PHÒNG KT&KĐCLGD | M2: THÁNG | P2: 9 | R2: NĂM | T2: 2014
A4: STT | B4: HỌ VÀ TÊN | D4: 41883 | E4: =D4+1 -> 41884 | F4: =E4+1 -> 41885 | G4: =F4+1 -> 41886 | H4: =G4+1 -> 41887 | I4: =H4+1 -> 41888 | J4: =I4+1 -> 41889 | K4: =J4+1 -> 41890 | L4: =K4+1 -> 41891 | ... AH4: =AG4+1 -> 41913 | AI4: TS.NGÀY LV
C5: THỨ | D5: =IF(WEEKDAY(D4)=1,"CN",IF(WEEKDAY(D4)=2,"T2",IF(WEEKDAY(D4)=3,"T3",IF(WEEKDAY(D4)=4,"T4",IF(WEEKDAY(D4)=5,"T5",IF(WEEKDAY(D4)=6,"T6","T7")))))) -> T2 | E5: =IF(WEEKDAY(E4)=1,"CN",IF(WEEKDAY(E4)=2,"T2",IF(WEEKDAY(E4)=3,"T3",IF(WEEKDAY(E4)=4,"T4",IF(WEEKDAY(E4)=5,"T5",IF(WEEKDAY(E4)=6,"T6","T7")))))) -> T3 | F5: =IF(WEEKDAY(F4)=1,"CN",IF(WEEKDAY(F4)=2,"T2",IF(WEEKDAY(F4)=3,"T3",IF(WEEKDAY(F4)=4,"T4",IF(WEEKDAY(F4)=5,"T5",IF(WEEKDAY(F4)=6,"T6","T7")))))) -> T4 | G5: =IF(WEEKDAY(G4)=1,"CN",IF(WEEKDAY(G4)=2,"T2",IF(WEEKDAY(G4)=3,"T3",IF(WEEKDAY(G4)=4,"T4",IF(WEEKDAY(G4)=5,"T5",IF(WEEKDAY(G4)=6,"T6","T7")))))) -> T5 | H5: =IF(WEEKDAY(H4)=1,"CN",IF(WEEKDAY(H4)=2,"T2",IF(WEEKDAY(H4)=3,"T3",IF(WEEKDAY(H4)=4,"T4",IF(WEEKDAY(H4)=5,"T5",IF(WEEKDAY(H4)=6,"T6","T7")))))) -> T6 | I5: =IF(WEEKDAY(I4)=1,"CN",IF(WEEKDAY(I4)=2,"T2",IF(WEEKDAY(I4)=3,"T3",IF(WEEKDAY(I4)=4,"T4",IF(WEEKDAY(I4)=5,"T5",IF(WEEKDAY(I4)=6,"T6","T7")))))) -> T7 | J5: =IF(WEEKDAY(J4)=1,"CN",IF(WEEKDAY(J4)=2,"T2",IF(WEEKDAY(J4)=3,"T3",IF(WEEKDAY(J4)=4,"T4",IF(WEEKDAY(J4)=5,"T5",IF(WEEKDAY(J4)=6,"T6","T7")))))) -> CN | K5: =IF(WEEKDAY(K4)=1,"CN",IF(WEEKDAY(K4)=2,"T2",IF(WEEKDAY(K4)=3,"T3",IF(WEEKDAY(K4)=4,"T4",IF(WEEKDAY(K4)=5,"T5",IF(WEEKDAY(K4)=6,"T6","T7")))))) -> T2 | ... AH5: =IF(WEEKDAY(AH4)=1,"CN",IF(WEEKDAY(AH4)=2,"T2",IF(WEEKDAY(AH4)=3,"T3",IF(WEEKDAY(AH4)=4,"T4",IF(WEEKDAY(AH4)=5,"T5",IF(WEEKDAY(AH4)=6,"T6","T7")))))) -> T4
A6: 1 | B6: HÀ PHƯỚC | C6: TUẤN | D6: X | F6: X | G6: X | H6: X | I6: X | K6: X | L6: X | M6: X | N6: X | O6: X | P6: X | R6: X | S6: X | T6: X | U6: X | V6: X | W6: X | Y6: X | Z6: X | AA6: X | AB6: X | AC6: X | AD6: X | AF6: X | AG6: X | AI6: =COUNTIF(D6:AH6,"X")+COUNTIF(D6:AH6,"Tr")+COUNTIF(D6:AH6,"BL") -> 25
A7: 2 | B7: VÕ THỊ ANH | C7: ĐÀO | D7: Ô | F7: X | G7: X | H7: X | K7: X | L7: X | M7: X | N7: X | O7: X | P7: X | R7: X | S7: Ô | T7: Ô | U7: Ô | V7: Ô | Y7: Ô | Z7: X | AA7: X | AB7: X | AC7: X | AD7: X | AF7: X | AG7: X | AI7: =COUNTIF(D7:AH7,"X")+COUNTIF(D7:AH7,"Tr")+COUNTIF(D7:AH7,"BL") -> 17
A8: 3 | B8: NGUYỄN VĂN | C8: SƠN | D8: X | F8: X | G8: X | H8: X | I8: X | K8: X | L8: X | M8: X | N8: X | O8: X | P8: X | R8: X | S8: X | T8: X | U8: X | V8: X | W8: X | Y8: X | Z8: X | AA8: X | AB8: X | AC8: X | AD8: X | AF8: X | AG8: X | AI8: =COUNTIF(D8:AH8,"X")+COUNTIF(D8:AH8,"Tr")+COUNTIF(D8:AH8,"BL") -> 25
A9: 4 | B9: NGUYỄN THANH | C9: SƠN B | D9: X | F9: X | G9: X | H9: X | K9: X | L9: X | M9: X | N9: X | O9: X | R9: X | S9: X | T9: X | U9: X | V9: X | Y9: X | Z9: X | AA9: X | AB9: X | AC9: X | AF9: X | AG9: X | AI9: =COUNTIF(D9:AH9,"X")+COUNTIF(D9:AH9,"Tr")+COUNTIF(D9:AH9,"BL") -> 21
A10: 5 | B10: NGUYỄN THỊ ÁNH | C10: THU | D10: X | F10: X | G10: X | H10: X | K10: X | L10: X | M10: X | N10: X | O10: X | R10: X | S10: X | T10: X | U10: X | V10: X | Y10: X | Z10: X | AA10: X | AB10: X | AC10: X | AF10: X | AG10: X | AI10: =COUNTIF(D10:AH10,"X")+COUNTIF(D10:AH10,"Tr")+COUNTIF(D10:AH10,"BL") -> 21
A11: 6 | B11: NGUYỄN THỊ THANH | C11: THẢO | D11: X | F11: X | G11: X | H11: X | I11: X | K11: X | L11: X | M11: X | N11: X | O11: X | P11: X | R11: X | S11: X | T11: X | U11: X | V11: X | W11: X | Y11: X | Z11: X | AA11: X | AB11: X | AC11: X | AD11: X | AF11: X | AG11: X | AI11: =COUNTIF(D11:AH11,"X")+COUNTIF(D11:AH11,"Tr")+COUNTIF(D11:AH11,"BL") -> 25
A12: 7 | B12: GIÁP THỊ | C12: VƯỢNG | D12: X | F12: X | G12: X | H12: X | K12: X | L12: X | M12: X | N12: X | O12: X | R12: X | S12: X | T12: X | U12: X | V12: X | Y12: X | Z12: X | AA12: X | AB12: X | AC12: X | AF12: X | AG12: X | AI12: =COUNTIF(D12:AH12,"X")+COUNTIF(D12:AH12,"Tr")+COUNTIF(D12:AH12,"BL") -> 21
A13: 8 | B13: NGUYỄN YẾN | C13: NHI | D13: P | F13: P | G13: P | H13: P | I13: P | K13: X | L13: X | M13: X | N13: X | O13: X | P13: X | R13: X | S13: X | T13: X | U13: X | V13: X | W13: X | Y13: X | Z13: X | AA13: X | AB13: X | AC13: X | AD13: X | AF13: X | AG13: X | AI13: =COUNTIF(D13:AH13,"X")+COUNTIF(D13:AH13,"Tr")+COUNTIF(D13:AH13,"BL") -> 20
A14: 9 | B14: NGUYỄN THỊ | C14: THU | D14: X | F14: X | G14: X | H14: X | I14: X | K14: X | L14: X | M14: X | N14: X | O14: X | P14: X | R14: X | S14: X | T14: X | U14: X | V14: X | W14: X | Y14: X | Z14: X | AA14: X | AB14: X | AC14: X | AD14: X | AF14: X | AG14: X | AI14: =COUNTIF(D14:AH14,"X")+COUNTIF(D14:AH14,"Tr")+COUNTIF(D14:AH14,"BL") -> 25
B16: KÝ HIỆU: | C16: LÀM VIỆC | I16: X | L16: NGHỈ PHÉP | R16: P | U16: NGHỈ CON ỐM | AB16: CÔ | AE16: NGHỈ KHÔNG LƯƠNG Ro
C17: TRỰC TRƯỜNG | I17: Tr | L17: NGHỈ TAI NẠN LĐ | R17: T | U17: NGHỈ VIỆC RIÊNG | AB17: R | AE17: NGHỈ KHÔNG PHÉP KP
C18: ĐI HỌC | I18: Ho | L18: NGHỈ ỐM | R18: Ô | U18: NGHỈ LỄ , TẾT | AB18: L | AE18: NGHỈ THAI SẢN S
C19: Chủ nhật | L19: LÀM BÙ LỄ | R19: BL
V20: Ngày 30 tháng 09 năm 2014
C21: TRƯỞNG ĐƠN VỊ | W21: NGƯỜI CHẤM CÔNG
C25: HÀ PHƯỚC TUẤN | W25: HÀ PHƯỚC TUẤN

Sheet T10-2014
A1: TRƯỜNG CĐKT LÝ TƯ TRỌNG TP.HCM | J1: BẢNG CHẤM CÔNG
A2: ĐƠN VỊ : PHÒNG KT&KĐCLGD | M2: THÁNG | P2: 10 | R2: NĂM | T2: 2014
A4: STT | B4: HỌ VÀ TÊN | D4: 41913 | E4: =D4+1 -> 41914 | F4: =E4+1 -> 41915 | G4: =F4+1 -> 41916 | H4: =G4+1 -> 41917 | I4: =H4+1 -> 41918 | J4: =I4+1 -> 41919 | K4: =J4+1 -> 41920 | L4: =K4+1 -> 41921 | ... AH4: =AG4+1 -> 41943 | AI4: TS.NGÀY LV
C5: THỨ | D5: =IF(WEEKDAY(D4)=1,"CN",IF(WEEKDAY(D4)=2,"T2",IF(WEEKDAY(D4)=3,"T3",IF(WEEKDAY(D4)=4,"T4",IF(WEEKDAY(D4)=5,"T5",IF(WEEKDAY(D4)=6,"T6","T7")))))) -> T4 | E5: =IF(WEEKDAY(E4)=1,"CN",IF(WEEKDAY(E4)=2,"T2",IF(WEEKDAY(E4)=3,"T3",IF(WEEKDAY(E4)=4,"T4",IF(WEEKDAY(E4)=5,"T5",IF(WEEKDAY(E4)=6,"T6","T7")))))) -> T5 | F5: =IF(WEEKDAY(F4)=1,"CN",IF(WEEKDAY(F4)=2,"T2",IF(WEEKDAY(F4)=3,"T3",IF(WEEKDAY(F4)=4,"T4",IF(WEEKDAY(F4)=5,"T5",IF(WEEKDAY(F4)=6,"T6","T7")))))) -> T6 | G5: =IF(WEEKDAY(G4)=1,"CN",IF(WEEKDAY(G4)=2,"T2",IF(WEEKDAY(G4)=3,"T3",IF(WEEKDAY(G4)=4,"T4",IF(WEEKDAY(G4)=5,"T5",IF(WEEKDAY(G4)=6,"T6","T7")))))) -> T7 | H5: =IF(WEEKDAY(H4)=1,"CN",IF(WEEKDAY(H4)=2,"T2",IF(WEEKDAY(H4)=3,"T3",IF(WEEKDAY(H4)=4,"T4",IF(WEEKDAY(H4)=5,"T5",IF(WEEKDAY(H4)=6,"T6","T7")))))) -> CN | I5: =IF(WEEKDAY(I4)=1,"CN",IF(WEEKDAY(I4)=2,"T2",IF(WEEKDAY(I4)=3,"T3",IF(WEEKDAY(I4)=4,"T4",IF(WEEKDAY(I4)=5,"T5",IF(WEEKDAY(I4)=6,"T6","T7")))))) -> T2 | J5: =IF(WEEKDAY(J4)=1,"CN",IF(WEEKDAY(J4)=2,"T2",IF(WEEKDAY(J4)=3,"T3",IF(WEEKDAY(J4)=4,"T4",IF(WEEKDAY(J4)=5,"T5",IF(WEEKDAY(J4)=6,"T6","T7")))))) -> T3 | K5: =IF(WEEKDAY(K4)=1,"CN",IF(WEEKDAY(K4)=2,"T2",IF(WEEKDAY(K4)=3,"T3",IF(WEEKDAY(K4)=4,"T4",IF(WEEKDAY(K4)=5,"T5",IF(WEEKDAY(K4)=6,"T6","T7")))))) -> T4 | ... AH5: =IF(WEEKDAY(AH4)=1,"CN",IF(WEEKDAY(AH4)=2,"T2",IF(WEEKDAY(AH4)=3,"T3",IF(WEEKDAY(AH4)=4,"T4",IF(WEEKDAY(AH4)=5,"T5",IF(WEEKDAY(AH4)=6,"T6","T7")))))) -> T6
A6: 1 | B6: HÀ PHƯỚC | C6: TUẤN | D6: X | E6: X | F6: X | G6: X | I6: TH | J6: TH | K6: TH | L6: TH | M6: X | N6: X | P6: X | Q6: X | R6: X | S6: X | T6: X | U6: X | W6: X | X6: X | Y6: X | Z6: X | AA6: X | AB6: X | AD6: X | AE6: X | AF6: X | AG6: X | AH6: X | AI6: =COUNTIF(D6:AH6,"X")+COUNTIF(D6:AH6,"Tr")+COUNTIF(D6:AH6,"BL") -> 23
A7: 2 | B7: VÕ THỊ ANH | C7: ĐÀO | D7: X | E7: X | F7: X | I7: X | J7: Ô | K7: Ô | L7: Ô | M7: Ô | N7: X | P7: Ô | Q7: X | R7: X | S7: X | T7: X | W7: X | X7: X | Y7: Ô | Z7: Ô | AA7: Ô | AD7: X | AE7: Ô | AF7: X | AG7: Ô | AH7: X | AI7: =COUNTIF(D7:AH7,"X")+COUNTIF(D7:AH7,"Tr")+COUNTIF(D7:AH7,"BL") -> 14
A8: 3 | B8: NGUYỄN VĂN | C8: SƠN | D8: X | E8: X | F8: X | I8: X | J8: X | K8: X | L8: X | M8: X | N8: X | P8: X | Q8: X | R8: X | S8: X | T8: X | U8: X | W8: X | X8: X | Y8: X | Z8: X | AA8: X | AB8: X | AD8: X | AE8: X | AF8: X | AG8: X | AH8: X | AI8: =COUNTIF(D8:AH8,"X")+COUNTIF(D8:AH8,"Tr")+COUNTIF(D8:AH8,"BL") -> 26
A9: 4 | B9: NGUYỄN THANH | C9: SƠN B | D9: X | E9: X | F9: X | I9: X | J9: X | K9: X | L9: X | M9: X | P9: X | Q9: X | R9: X | S9: X | T9: X | W9: P | X9: X | Y9: X | Z9: X | AA9: X | AD9: X | AE9: X | AF9: X | AG9: X | AH9: X | AI9: =COUNTIF(D9:AH9,"X")+COUNTIF(D9:AH9,"Tr")+COUNTIF(D9:AH9,"BL") -> 22
A10: 5 | B10: NGUYỄN THỊ THANH | C10: THẢO | D10: X | E10: X | F10: X | I10: X | J10: X | K10: X | L10: X | M10: X | N10: X | P10: X | Q10: X | R10: X | S10: X | T10: X | W10: X | X10: X | Y10: X | Z10: X | AA10: X | AD10: X | AE10: X | AF10: X | AG10: X | AH10: X | AI10: =COUNTIF(D10:AH10,"X")+COUNTIF(D10:AH10,"Tr")+COUNTIF(D10:AH10,"BL") -> 24
A11: 6 | B11: GIÁP THỊ | C11: VƯỢNG | D11: X | E11: X | F11: X | I11: X | J11: X | K11: X | L11: X | M11: X | N11: X | P11: X | Q11: X | R11: X | S11: X | T11: X | W11: X | X11: X | Y11: X | Z11: X | AA11: X | AD11: X | AE11: X | AF11: X | AG11: X | AH11: X | AI11: =COUNTIF(D11:AH11,"X")+COUNTIF(D11:AH11,"Tr")+COUNTIF(D11:AH11,"BL") -> 24
A12: 7 | B12: NGUYỄN YẾN | C12: NHI | D12: X | E12: X | F12: X | G12: X | I12: X | J12: X | K12: X | L12: X | M12: X | N12: X | P12: X | Q12: X | R12: X | S12: X | T12: X | U12: X | W12: X | X12: X | Y12: X | Z12: X | AA12: X | AB12: X | AD12: X | AE12: X | AF12: X | AG12: X | AH12: X | AI12: =COUNTIF(D12:AH12,"X")+COUNTIF(D12:AH12,"Tr")+COUNTIF(D12:AH12,"BL") -> 27
A13: 8 | B13: NGUYỄN THỊ | C13: THU | D13: X | E13: X | F13: X | G13: X | I13: X | J13: X | K13: X | L13: X | M13: X | N13: X | P13: X | Q13: X | R13: X | S13: X | T13: P | U13: P | W13: P | X13: X | Y13: X | Z13: X | AA13: X | AB13: X | AD13: X | AE13: X | AF13: X | AG13: X | AH13: X | AI13: =COUNTIF(D13:AH13,"X")+COUNTIF(D13:AH13,"Tr")+COUNTIF(D13:AH13,"BL") -> 24
B15: KÝ HIỆU: | C15: LÀM VIỆC | I15: X | L15: NGHỈ PHÉP | R15: P | U15: NGHỈ CON ỐM | AB15: CÔ | AE15: NGHỈ KHÔNG LƯƠNG Ro
C16: TRỰC TRƯỜNG | I16: Tr | L16: NGHỈ TAI NẠN LĐ | R16: T | U16: NGHỈ VIỆC RIÊNG | AB16: R | AE16: NGHỈ KHÔNG PHÉP KP
C17: ĐI HỌC | I17: Ho | L17: NGHỈ ỐM | R17: Ô | U17: NGHỈ LỄ , TẾT | AB17: L | AE17: NGHỈ THAI SẢN S
C18: Chủ nhật | L18: LÀM BÙ LỄ | R18: BL | U18: TẬP HUẤN | AB18: TH
V19: Ngày 31 tháng 10 năm 2014
C20: TRƯỞNG ĐƠN VỊ | W20: NGƯỜI CHẤM CÔNG
C24: HÀ PHƯỚC TUẤN | W24: HÀ PHƯỚC TUẤN

Sheet T11-2014
A1: TRƯỜNG CĐKT LÝ TƯ TRỌNG TP.HCM | J1: BẢNG CHẤM CÔNG
A2: ĐƠN VỊ : PHÒNG KT&KĐCLGD | M2: THÁNG | P2: =D4 -> 41944 | R2: NĂM | T2: =D4 -> 41944
A4: STT | B4: HỌ VÀ TÊN | D4: 41944 | E4: =D4+1 -> 41945 | F4: =E4+1 -> 41946 | G4: =F4+1 -> 41947 | H4: =G4+1 -> 41948 | I4: =H4+1 -> 41949 | J4: =I4+1 -> 41950 | K4: =J4+1 -> 41951 | L4: =K4+1 -> 41952 | ... AH4: =AG4+1 -> 41974 | AI4: TS.NGÀY LV
C5: THỨ | D5: =IF(WEEKDAY(D4)=1,"CN",IF(WEEKDAY(D4)=2,"T2",IF(WEEKDAY(D4)=3,"T3",IF(WEEKDAY(D4)=4,"T4",IF(WEEKDAY(D4)=5,"T5",IF(WEEKDAY(D4)=6,"T6","T7")))))) -> T7 | E5: =IF(WEEKDAY(E4)=1,"CN",IF(WEEKDAY(E4)=2,"T2",IF(WEEKDAY(E4)=3,"T3",IF(WEEKDAY(E4)=4,"T4",IF(WEEKDAY(E4)=5,"T5",IF(WEEKDAY(E4)=6,"T6","T7")))))) -> CN | F5: =IF(WEEKDAY(F4)=1,"CN",IF(WEEKDAY(F4)=2,"T2",IF(WEEKDAY(F4)=3,"T3",IF(WEEKDAY(F4)=4,"T4",IF(WEEKDAY(F4)=5,"T5",IF(WEEKDAY(F4)=6,"T6","T7")))))) -> T2 | G5: =IF(WEEKDAY(G4)=1,"CN",IF(WEEKDAY(G4)=2,"T2",IF(WEEKDAY(G4)=3,"T3",IF(WEEKDAY(G4)=4,"T4",IF(WEEKDAY(G4)=5,"T5",IF(WEEKDAY(G4)=6,"T6","T7")))))) -> T3 | H5: =IF(WEEKDAY(H4)=1,"CN",IF(WEEKDAY(H4)=2,"T2",IF(WEEKDAY(H4)=3,"T3",IF(WEEKDAY(H4)=4,"T4",IF(WEEKDAY(H4)=5,"T5",IF(WEEKDAY(H4)=6,"T6","T7")))))) -> T4 | I5: =IF(WEEKDAY(I4)=1,"CN",IF(WEEKDAY(I4)=2,"T2",IF(WEEKDAY(I4)=3,"T3",IF(WEEKDAY(I4)=4,"T4",IF(WEEKDAY(I4)=5,"T5",IF(WEEKDAY(I4)=6,"T6","T7")))))) -> T5 | J5: =IF(WEEKDAY(J4)=1,"CN",IF(WEEKDAY(J4)=2,"T2",IF(WEEKDAY(J4)=3,"T3",IF(WEEKDAY(J4)=4,"T4",IF(WEEKDAY(J4)=5,"T5",IF(WEEKDAY(J4)=6,"T6","T7")))))) -> T6 | K5: =IF(WEEKDAY(K4)=1,"CN",IF(WEEKDAY(K4)=2,"T2",IF(WEEKDAY(K4)=3,"T3",IF(WEEKDAY(K4)=4,"T4",IF(WEEKDAY(K4)=5,"T5",IF(WEEKDAY(K4)=6,"T6","T7")))))) -> T7 | ... AH5: =IF(WEEKDAY(AH4)=1,"CN",IF(WEEKDAY(AH4)=2,"T2",IF(WEEKDAY(AH4)=3,"T3",IF(WEEKDAY(AH4)=4,"T4",IF(WEEKDAY(AH4)=5,"T5",IF(WEEKDAY(AH4)=6,"T6","T7")))))) -> T2
A6: 1 | B6: HÀ PHƯỚC | C6: TUẤN | D6: X | F6: X | G6: X | H6: X | I6: X | J6: X | K6: X | M6: X | N6: X | O6: X | P6: X | Q6: X | R6: X | T6: CT | U6: L | V6: X | W6: X | X6: X | Y6: X | AA6: X | AB6: X | AC6: X | AD6: X | AE6: X | AF6: X | AI6: =COUNTIF(D6:AH6,"X")+COUNTIF(D6:AH6,"Tr")+COUNTIF(D6:AH6,"BL") -> 23
A7: 2 | B7: VÕ THỊ ANH | C7: ĐÀO | F7: X | G7: Ô | H7: X | I7: Ô | J7: X | M7: X | N7: Ô | O7: X | P7: Ô | Q7: X | T7: X | U7: L | V7: X | W7: Ô | X7: X | AA7: X | AB7: X | AC7: X | AD7: X | AE7: X | AI7: =COUNTIF(D7:AH7,"X")+COUNTIF(D7:AH7,"Tr")+COUNTIF(D7:AH7,"BL") -> 14
A8: 3 | B8: NGUYỄN VĂN | C8: SƠN | D8: X | F8: X | G8: X | H8: X | I8: X | J8: X | K8: X | M8: X | N8: X | O8: X | P8: X | Q8: X | R8: X | T8: X | U8: L | V8: X | W8: X | X8: X | Y8: X | AA8: X | AB8: X | AC8: X | AD8: X | AE8: X | AF8: X | AI8: =COUNTIF(D8:AH8,"X")+COUNTIF(D8:AH8,"Tr")+COUNTIF(D8:AH8,"BL") -> 24
A9: 4 | B9: NGUYỄN THANH | C9: SƠN B | F9: X | G9: X | H9: X | I9: X | J9: X | M9: X | N9: X | O9: X | P9: X | Q9: X | T9: X | U9: L | V9: X | W9: X | X9: X | AA9: X | AB9: X | AC9: X | AD9: X | AE9: X | AI9: =COUNTIF(D9:AH9,"X")+COUNTIF(D9:AH9,"Tr")+COUNTIF(D9:AH9,"BL") -> 19
A10: 5 | B10: NGUYỄN THỊ THANH | C10: THẢO | D10: X | F10: X | G10: X | H10: X | I10: X | J10: X | M10: X | N10: X | O10: X | P10: X | Q10: X | T10: X | U10: L | V10: P | W10: P | X10: P | AA10: P | AB10: P | AC10: P | AD10: P | AE10: P | AI10: =COUNTIF(D10:AH10,"X")+COUNTIF(D10:AH10,"Tr")+COUNTIF(D10:AH10,"BL") -> 12
A11: 6 | B11: GIÁP THỊ | C11: VƯỢNG | F11: X | G11: X | H11: X | I11: X | J11: X | M11: P | N11: P | O11: P | P11: P | Q11: P | T11: X | U11: L | V11: X | W11: X | X11: X | AA11: X | AB11: X | AC11: X | AD11: X | AE11: X | AI11: =COUNTIF(D11:AH11,"X")+COUNTIF(D11:AH11,"Tr")+COUNTIF(D11:AH11,"BL") -> 14
A12: 7 | B12: NGUYỄN YẾN | C12: NHI | D12: X | F12: X | G12: X | H12: X | I12: X | J12: X | K12: X | M12: X | N12: X | O12: X | P12: X | Q12: X | R12: X | T12: X | U12: L | V12: X | W12: X | X12: X | Y12: X | AA12: X | AB12: X | AC12: X | AD12: X | AE12: X | AF12: X | AI12: =COUNTIF(D12:AH12,"X")+COUNTIF(D12:AH12,"Tr")+COUNTIF(D12:AH12,"BL") -> 24
A13: 8 | B13: NGUYỄN THỊ | C13: THU | D13: X | F13: X | G13: X | H13: X | I13: X | J13: X | K13: X | M13: X | N13: X | O13: X | P13: X | Q13: X | R13: X | T13: X | U13: L | V13: X | W13: X | X13: X | Y13: X | AA13: X | AB13: X | AC13: X | AD13: X | AE13: P | AI13: =COUNTIF(D13:AH13,"X")+COUNTIF(D13:AH13,"Tr")+COUNTIF(D13:AH13,"BL") -> 22
B15: KÝ HIỆU: | C15: LÀM VIỆC | I15: X | L15: NGHỈ PHÉP | R15: P | U15: NGHỈ CON ỐM | AB15: CÔ | AE15: NGHỈ KHÔNG LƯƠNG Ro
C16: TRỰC TRƯỜNG | I16: Tr | L16: NGHỈ TAI NẠN LĐ | R16: T | U16: NGHỈ VIỆC RIÊNG | AB16: R | AE16: NGHỈ KHÔNG PHÉP KP
C17: ĐI HỌC | I17: Ho | L17: NGHỈ ỐM | R17: Ô | U17: NGHỈ LỄ , TẾT | AB17: L | AE17: NGHỈ THAI SẢN S
C18: Chủ nhật | L18: NGHỈ BÙ NGÀY THỨ 7 | R18: NB | U18: CÔNG TÁC | AB18: CT
V19: ="Ngày "&DAY(EOMONTH(D4,P2))-3&" tháng "&MONTH(P2)&" năm "&YEAR(T2) -> Ngày 28 tháng 11 năm 2014
C20: TRƯỞNG ĐƠN VỊ | W20: NGƯỜI CHẤM CÔNG
C24: HÀ PHƯỚC TUẤN | W24: HÀ PHƯỚC TUẤN

Sheet T12-2014
A1: TRƯỜNG CĐKT LÝ TƯ TRỌNG TP.HCM | J1: BẢNG CHẤM CÔNG
A2: ĐƠN VỊ : PHÒNG KT&ĐBCL | M2: THÁNG | P2: =D4 -> 41974 | R2: NĂM | T2: =D4 -> 41974
A4: STT | B4: HỌ VÀ TÊN | D4: 41974 | E4: =D4+1 -> 41975 | F4: =E4+1 -> 41976 | G4: =F4+1 -> 41977 | H4: =G4+1 -> 41978 | I4: =H4+1 -> 41979 | J4: =I4+1 -> 41980 | K4: =J4+1 -> 41981 | L4: =K4+1 -> 41982 | ... AH4: =AG4+1 -> 42004 | AI4: TS.NGÀY LV
C5: THỨ | D5: =IF(WEEKDAY(D4)=1,"CN",IF(WEEKDAY(D4)=2,"T2",IF(WEEKDAY(D4)=3,"T3",IF(WEEKDAY(D4)=4,"T4",IF(WEEKDAY(D4)=5,"T5",IF(WEEKDAY(D4)=6,"T6","T7")))))) -> T2 | E5: =IF(WEEKDAY(E4)=1,"CN",IF(WEEKDAY(E4)=2,"T2",IF(WEEKDAY(E4)=3,"T3",IF(WEEKDAY(E4)=4,"T4",IF(WEEKDAY(E4)=5,"T5",IF(WEEKDAY(E4)=6,"T6","T7")))))) -> T3 | F5: =IF(WEEKDAY(F4)=1,"CN",IF(WEEKDAY(F4)=2,"T2",IF(WEEKDAY(F4)=3,"T3",IF(WEEKDAY(F4)=4,"T4",IF(WEEKDAY(F4)=5,"T5",IF(WEEKDAY(F4)=6,"T6","T7")))))) -> T4 | G5: =IF(WEEKDAY(G4)=1,"CN",IF(WEEKDAY(G4)=2,"T2",IF(WEEKDAY(G4)=3,"T3",IF(WEEKDAY(G4)=4,"T4",IF(WEEKDAY(G4)=5,"T5",IF(WEEKDAY(G4)=6,"T6","T7")))))) -> T5 | H5: =IF(WEEKDAY(H4)=1,"CN",IF(WEEKDAY(H4)=2,"T2",IF(WEEKDAY(H4)=3,"T3",IF(WEEKDAY(H4)=4,"T4",IF(WEEKDAY(H4)=5,"T5",IF(WEEKDAY(H4)=6,"T6","T7")))))) -> T6 | I5: =IF(WEEKDAY(I4)=1,"CN",IF(WEEKDAY(I4)=2,"T2",IF(WEEKDAY(I4)=3,"T3",IF(WEEKDAY(I4)=4,"T4",IF(WEEKDAY(I4)=5,"T5",IF(WEEKDAY(I4)=6,"T6","T7")))))) -> T7 | J5: =IF(WEEKDAY(J4)=1,"CN",IF(WEEKDAY(J4)=2,"T2",IF(WEEKDAY(J4)=3,"T3",IF(WEEKDAY(J4)=4,"T4",IF(WEEKDAY(J4)=5,"T5",IF(WEEKDAY(J4)=6,"T6","T7")))))) -> CN | K5: =IF(WEEKDAY(K4)=1,"CN",IF(WEEKDAY(K4)=2,"T2",IF(WEEKDAY(K4)=3,"T3",IF(WEEKDAY(K4)=4,"T4",IF(WEEKDAY(K4)=5,"T5",IF(WEEKDAY(K4)=6,"T6","T7")))))) -> T2 | ... AH5: =IF(WEEKDAY(AH4)=1,"CN",IF(WEEKDAY(AH4)=2,"T2",IF(WEEKDAY(AH4)=3,"T3",IF(WEEKDAY(AH4)=4,"T4",IF(WEEKDAY(AH4)=5,"T5",IF(WEEKDAY(AH4)=6,"T6","T7")))))) -> T4
A6: 1 | B6: HÀ PHƯỚC | C6: TUẤN | D6: X | E6: X | F6: X | G6: X | H6: X | I6: X | K6: X | L6: X | M6: X | N6: X | O6: X | P6: X | Q6: X | R6: X | S6: X | T6: X | U6: X | V6: X | W6: HN | Y6: X | Z6: X | AA6: X | AB6: X | AC6: X | AD6: X | AF6: X | AG6: X | AH6: X | AI6: =COUNTIF(D6:AH6,"X")+COUNTIF(D6:AH6,"Tr")+COUNTIF(D6:AH6,"BL") -> 27
A7: 2 | B7: VÕ THỊ ANH | C7: ĐÀO | D7: X | E7: X | F7: X | G7: X | H7: X | I7: X | K7: X | L7: X | M7: X | N7: X | O7: X | P7: X | R7: X | S7: X | T7: X | U7: X | V7: X | W7: HN | Y7: X | Z7: X | AA7: X | AB7: X | AC7: X | AD7: X | AF7: X | AG7: X | AH7: X | AI7: =COUNTIF(D7:AH7,"X")+COUNTIF(D7:AH7,"Tr")+COUNTIF(D7:AH7,"BL") -> 26
A8: 3 | B8: NGUYỄN VĂN | C8: SƠN | D8: X | E8: X | F8: X | G8: X | H8: X | I8: X | K8: X | L8: X | M8: X | N8: X | O8: X | R8: X | S8: X | T8: X | U8: X | V8: X | W8: HN | Y8: X | Z8: X | AA8: X | AB8: X | AC8: X | AD8: X | AF8: X | AG8: X | AH8: X | AI8: =COUNTIF(D8:AH8,"X")+COUNTIF(D8:AH8,"Tr")+COUNTIF(D8:AH8,"BL") -> 25
A9: 4 | B9: NGUYỄN THANH | C9: SƠN B | D9: X | E9: X | F9: X | G9: X | H9: X | I9: X | K9: X | L9: X | M9: X | N9: X | O9: X | R9: X | S9: X | T9: X | U9: X | V9: X | W9: HN | Y9: X | Z9: X | AA9: X | AB9: X | AC9: X | AD9: X | AF9: X | AG9: X | AH9: X | AI9: =COUNTIF(D9:AH9,"X")+COUNTIF(D9:AH9,"Tr")+COUNTIF(D9:AH9,"BL") -> 25
A10: 5 | B10: NGUYỄN YẾN | C10: NHI | D10: X | E10: X | F10: X | G10: X | H10: X | I10: X | K10: X | L10: X | M10: X | N10: X | O10: X | P10: X | R10: X | S10: X | T10: X | U10: X | V10: X | W10: P | Y10: X | Z10: X | AA10: X | AB10: X | AC10: X | AD10: X | AF10: X | AG10: X | AH10: X | AI10: =COUNTIF(D10:AH10,"X")+COUNTIF(D10:AH10,"Tr")+COUNTIF(D10:AH10,"BL") -> 26
A11: 6 | B11: NGUYỄN THỊ | C11: THU | D11: NB | E11: X | F11: X | G11: X | H11: X | I11: X | K11: NB | L11: X | M11: X | N11: X | O11: X | P11: X | R11: NB | S11: X | T11: X | U11: X | V11: X | W11: HN | Y11: NB | Z11: X | AA11: X | AB11: X | AC11: X | AD11: X | AF11: X | AG11: X | AH11: X | AI11: =COUNTIF(D11:AH11,"X")+COUNTIF(D11:AH11,"Tr")+COUNTIF(D11:AH11,"BL") -> 22
B13: KÝ HIỆU: | C13: LÀM VIỆC | I13: X | L13: NGHỈ PHÉP | R13: P | U13: NGHỈ CON ỐM | AB13: CÔ | AE13: NGHỈ KHÔNG LƯƠNG Ro
C14: TRỰC TRƯỜNG | I14: Tr | L14: NGHỈ TAI NẠN LĐ | R14: T | U14: NGHỈ VIỆC RIÊNG | AB14: R | AE14: NGHỈ KHÔNG PHÉP KP
C15: ĐI HỌC | I15: Ho | L15: NGHỈ ỐM | R15: Ô | U15: NGHỈ LỄ , TẾT | AB15: L | AE15: NGHỈ THAI SẢN S
C16: Chủ nhật | L16: LÀM BÙ LỄ | R16: BL | U16: NGHỈ BÙ | AB16: NB
B17: GHI CHÚ: Ngày 15/12 và 22/12 Cô Nguyễn Thị Thu làm bù vào ngày 05/01 và 12/01/2015: phục vụ kỳ thi HTHP HK1
B18: GHI CHÚ: Ngày 14/12 Tuấn dự "Nghe thanh niên nói, nói thanh niên nghe" | V18: ="Ngày "&DAY(EOMONTH(D4,P2))&" tháng "&MONTH(P2)&" năm "&YEAR(T2) -> Ngày 31 tháng 12 năm 2014
C19: TRƯỞNG ĐƠN VỊ | W19: NGƯỜI CHẤM CÔNG
C23: HÀ PHƯỚC TUẤN | W23: HÀ PHƯỚC TUẤN

Sheet T01-2015
A1: TRƯỜNG CĐKT LÝ TƯ TRỌNG TP.HCM | J1: BẢNG CHẤM CÔNG
A2: ĐƠN VỊ : PHÒNG KT&ĐBCL | M2: THÁNG | P2: =D4 -> 42005 | R2: NĂM | T2: =D4 -> 42005
A4: STT | B4: HỌ VÀ TÊN | D4: 42005 | E4: =D4+1 -> 42006 | F4: =E4+1 -> 42007 | G4: =F4+1 -> 42008 | H4: =G4+1 -> 42009 | I4: =H4+1 -> 42010 | J4: =I4+1 -> 42011 | K4: =J4+1 -> 42012 | L4: =K4+1 -> 42013 | ... AH4: =AG4+1 -> 42035 | AI4: TS.NGÀY LV
C5: THỨ | D5: =IF(WEEKDAY(D4)=1,"CN",IF(WEEKDAY(D4)=2,"T2",IF(WEEKDAY(D4)=3,"T3",IF(WEEKDAY(D4)=4,"T4",IF(WEEKDAY(D4)=5,"T5",IF(WEEKDAY(D4)=6,"T6","T7")))))) -> T5 | E5: =IF(WEEKDAY(E4)=1,"CN",IF(WEEKDAY(E4)=2,"T2",IF(WEEKDAY(E4)=3,"T3",IF(WEEKDAY(E4)=4,"T4",IF(WEEKDAY(E4)=5,"T5",IF(WEEKDAY(E4)=6,"T6","T7")))))) -> T6 | F5: =IF(WEEKDAY(F4)=1,"CN",IF(WEEKDAY(F4)=2,"T2",IF(WEEKDAY(F4)=3,"T3",IF(WEEKDAY(F4)=4,"T4",IF(WEEKDAY(F4)=5,"T5",IF(WEEKDAY(F4)=6,"T6","T7")))))) -> T7 | G5: =IF(WEEKDAY(G4)=1,"CN",IF(WEEKDAY(G4)=2,"T2",IF(WEEKDAY(G4)=3,"T3",IF(WEEKDAY(G4)=4,"T4",IF(WEEKDAY(G4)=5,"T5",IF(WEEKDAY(G4)=6,"T6","T7")))))) -> CN | H5: =IF(WEEKDAY(H4)=1,"CN",IF(WEEKDAY(H4)=2,"T2",IF(WEEKDAY(H4)=3,"T3",IF(WEEKDAY(H4)=4,"T4",IF(WEEKDAY(H4)=5,"T5",IF(WEEKDAY(H4)=6,"T6","T7")))))) -> T2 | I5: =IF(WEEKDAY(I4)=1,"CN",IF(WEEKDAY(I4)=2,"T2",IF(WEEKDAY(I4)=3,"T3",IF(WEEKDAY(I4)=4,"T4",IF(WEEKDAY(I4)=5,"T5",IF(WEEKDAY(I4)=6,"T6","T7")))))) -> T3 | J5: =IF(WEEKDAY(J4)=1,"CN",IF(WEEKDAY(J4)=2,"T2",IF(WEEKDAY(J4)=3,"T3",IF(WEEKDAY(J4)=4,"T4",IF(WEEKDAY(J4)=5,"T5",IF(WEEKDAY(J4)=6,"T6","T7")))))) -> T4 | K5: =IF(WEEKDAY(K4)=1,"CN",IF(WEEKDAY(K4)=2,"T2",IF(WEEKDAY(K4)=3,"T3",IF(WEEKDAY(K4)=4,"T4",IF(WEEKDAY(K4)=5,"T5",IF(WEEKDAY(K4)=6,"T6","T7")))))) -> T5 | ... AH5: =IF(WEEKDAY(AH4)=1,"CN",IF(WEEKDAY(AH4)=2,"T2",IF(WEEKDAY(AH4)=3,"T3",IF(WEEKDAY(AH4)=4,"T4",IF(WEEKDAY(AH4)=5,"T5",IF(WEEKDAY(AH4)=6,"T6","T7")))))) -> T7
A6: 1 | B6: HÀ PHƯỚC | C6: TUẤN | H6: X | I6: X | J6: X | K6: X | L6: X | M6: X | O6: X | P6: X | Q6: X | R6: X | S6: X | T6: X | V6: X | W6: X | X6: X | Y6: X | Z6: X | AA6: X | AC6: X | AD6: X | AE6: X | AF6: X | AG6: X | AH6: X | AI6: =COUNTIF(D6:AH6,"X")+COUNTIF(D6:AH6,"Tr")+COUNTIF(D6:AH6,"BL") -> 24
A7: 2 | B7: VÕ THỊ ANH | C7: ĐÀO | H7: X | I7: X | J7: X | K7: X | L7: X | M7: X | O7: X | P7: X | Q7: X | R7: X | S7: X | T7: X | V7: X | W7: X | X7: X | Y7: X | Z7: X | AA7: X | AC7: X | AD7: X | AE7: X | AF7: X | AG7: X | AH7: X | AI7: =COUNTIF(D7:AH7,"X")+COUNTIF(D7:AH7,"Tr")+COUNTIF(D7:AH7,"BL") -> 24
A8: 3 | B8: NGUYỄN VĂN | C8: SƠN | H8: X | I8: X | J8: X | K8: X | L8: X | O8: X | P8: X | Q8: X | R8: X | S8: X | V8: X | W8: X | X8: X | Y8: X | Z8: X | AC8: X | AD8: X | AE8: X | AF8: X | AG8: X | AI8: =COUNTIF(D8:AH8,"X")+COUNTIF(D8:AH8,"Tr")+COUNTIF(D8:AH8,"BL") -> 20
A9: 4 | B9: NGUYỄN THANH | C9: SƠN B | H9: X | I9: X | J9: X | K9: X | L9: X | O9: X | P9: X | Q9: X | R9: X | S9: X | T9: X | V9: X | W9: X | X9: X | Y9: X | Z9: X | AC9: X | AD9: X | AE9: X | AF9: X | AG9: X | AI9: =COUNTIF(D9:AH9,"X")+COUNTIF(D9:AH9,"Tr")+COUNTIF(D9:AH9,"BL") -> 21
A10: 5 | B10: NGUYỄN YẾN | C10: NHI | H10: X | I10: X | J10: X | K10: X | L10: X | M10: X | O10: X | P10: X | Q10: X | R10: X | S10: X | T10: X | V10: X | W10: X | X10: X | Y10: X | Z10: X | AA10: X | AC10: X | AD10: X | AE10: X | AF10: X | AG10: X | AH10: X | AI10: =COUNTIF(D10:AH10,"X")+COUNTIF(D10:AH10,"Tr")+COUNTIF(D10:AH10,"BL") -> 24
A11: 6 | B11: NGUYỄN THỊ | C11: THU | H11: X | I11: X | J11: X | K11: X | L11: X | M11: X | O11: X | P11: X | Q11: X | R11: X | S11: X | T11: X | V11: X | W11: P | X11: P | Y11: X | Z11: X | AC11: X | AD11: X | AE11: X | AF11: X | AG11: X | AI11: =COUNTIF(D11:AH11,"X")+COUNTIF(D11:AH11,"Tr")+COUNTIF(D11:AH11,"BL") -> 20
B13: KÝ HIỆU: | C13: LÀM VIỆC | I13: X | L13: NGHỈ PHÉP | R13: P | U13: NGHỈ CON ỐM | AB13: CÔ | AE13: NGHỈ KHÔNG LƯƠNG Ro
C14: TRỰC TRƯỜNG | I14: Tr | L14: NGHỈ TAI NẠN LĐ | R14: T | U14: NGHỈ VIỆC RIÊNG | AB14: R | AE14: NGHỈ KHÔNG PHÉP KP
C15: ĐI HỌC | I15: Ho | L15: NGHỈ ỐM | R15: Ô | U15: NGHỈ LỄ , TẾT | AB15: L | AE15: NGHỈ THAI SẢN S
C16: Chủ nhật | L16: LÀM BÙ LỄ | R16: BL | U16: NGHỈ BÙ | AB16: NB
V17: ="Ngày "&DAY(EOMONTH(D4,P2))&" tháng "&MONTH(P2)&" năm "&YEAR(T2) -> Ngày 30 tháng 1 năm 2015
C18: TRƯỞNG ĐƠN VỊ | W18: NGƯỜI CHẤM CÔNG
C22: HÀ PHƯỚC TUẤN | W22: HÀ PHƯỚC TUẤN

Sheet T02-2015
A1: TRƯỜNG CĐKT LÝ TƯ TRỌNG TP.HCM | J1: BẢNG CHẤM CÔNG
A2: ĐƠN VỊ : PHÒNG KT&ĐBCL | M2: THÁNG | P2: =D4 -> 42036 | R2: NĂM | T2: =D4 -> 42036
D3: 41986 | E3: =D3+1 -> 41987 | F3: =E3+1 -> 41988 | G3: =F3+1 -> 41989 | H3: =G3+1 -> 41990 | I3: =H3+1 -> 41991 | J3: =I3+1 -> 41992 | K3: =J3+1 -> 41993 | L3: =K3+1 -> 41994 | ... U3: =T3+1 -> 42003 | V3: 42005 | W3: =V3+1 -> 42006 | X3: =W3+1 -> 42007 | Y3: =X3+1 -> 42008 | Z3: =Y3+1 -> 42009 | AA3: =Z3+1 -> 42010 | AB3: =AA3+1 -> 42011 | AC3: =AB3+1 -> 42012 | AD3: =AC3+1 -> 42013 | AE3: =AD3+1 -> 42014
A4: STT | B4: HỌ VÀ TÊN | D4: 42036 | E4: =D4+1 -> 42037 | F4: =E4+1 -> 42038 | G4: =F4+1 -> 42039 | H4: =G4+1 -> 42040 | I4: =H4+1 -> 42041 | J4: =I4+1 -> 42042 | K4: =J4+1 -> 42043 | L4: =K4+1 -> 42044 | ... AH4: =AG4+1 -> 42066 | AI4: TS.NGÀY LV
C5: THỨ | D5: =IF(WEEKDAY(D4)=1,"CN",IF(WEEKDAY(D4)=2,"T2",IF(WEEKDAY(D4)=3,"T3",IF(WEEKDAY(D4)=4,"T4",IF(WEEKDAY(D4)=5,"T5",IF(WEEKDAY(D4)=6,"T6","T7")))))) -> CN | E5: =IF(WEEKDAY(E4)=1,"CN",IF(WEEKDAY(E4)=2,"T2",IF(WEEKDAY(E4)=3,"T3",IF(WEEKDAY(E4)=4,"T4",IF(WEEKDAY(E4)=5,"T5",IF(WEEKDAY(E4)=6,"T6","T7")))))) -> T2 | F5: =IF(WEEKDAY(F4)=1,"CN",IF(WEEKDAY(F4)=2,"T2",IF(WEEKDAY(F4)=3,"T3",IF(WEEKDAY(F4)=4,"T4",IF(WEEKDAY(F4)=5,"T5",IF(WEEKDAY(F4)=6,"T6","T7")))))) -> T3 | G5: =IF(WEEKDAY(G4)=1,"CN",IF(WEEKDAY(G4)=2,"T2",IF(WEEKDAY(G4)=3,"T3",IF(WEEKDAY(G4)=4,"T4",IF(WEEKDAY(G4)=5,"T5",IF(WEEKDAY(G4)=6,"T6","T7")))))) -> T4 | H5: =IF(WEEKDAY(H4)=1,"CN",IF(WEEKDAY(H4)=2,"T2",IF(WEEKDAY(H4)=3,"T3",IF(WEEKDAY(H4)=4,"T4",IF(WEEKDAY(H4)=5,"T5",IF(WEEKDAY(H4)=6,"T6","T7")))))) -> T5 | I5: =IF(WEEKDAY(I4)=1,"CN",IF(WEEKDAY(I4)=2,"T2",IF(WEEKDAY(I4)=3,"T3",IF(WEEKDAY(I4)=4,"T4",IF(WEEKDAY(I4)=5,"T5",IF(WEEKDAY(I4)=6,"T6","T7")))))) -> T6 | J5: =IF(WEEKDAY(J4)=1,"CN",IF(WEEKDAY(J4)=2,"T2",IF(WEEKDAY(J4)=3,"T3",IF(WEEKDAY(J4)=4,"T4",IF(WEEKDAY(J4)=5,"T5",IF(WEEKDAY(J4)=6,"T6","T7")))))) -> T7 | K5: =IF(WEEKDAY(K4)=1,"CN",IF(WEEKDAY(K4)=2,"T2",IF(WEEKDAY(K4)=3,"T3",IF(WEEKDAY(K4)=4,"T4",IF(WEEKDAY(K4)=5,"T5",IF(WEEKDAY(K4)=6,"T6","T7")))))) -> CN | ... AH5: =IF(WEEKDAY(AH4)=1,"CN",IF(WEEKDAY(AH4)=2,"T2",IF(WEEKDAY(AH4)=3,"T3",IF(WEEKDAY(AH4)=4,"T4",IF(WEEKDAY(AH4)=5,"T5",IF(WEEKDAY(AH4)=6,"T6","T7")))))) -> T3
A6: 1 | B6: HÀ PHƯỚC | C6: TUẤN | E6: X | F6: X | G6: X | H6: X | I6: X | J6: X | L6: X | M6: X | N6: X | O6: X | P6: X | Q6: X | AA6: X | AB6: X | AC6: X | AD6: X | AE6: X | AI6: =COUNTIF(D6:AH6,"X")+COUNTIF(D6:AH6,"Tr")+COUNTIF(D6:AH6,"BL") -> 17
A7: 2 | B7: VÕ THỊ ANH | C7: ĐÀO | E7: X | F7: X | G7: X | H7: X | I7: X | L7: X | N7: X | P7: X | Q7: X | AA7: X | AB7: X | AC7: X | AD7: X | AI7: =COUNTIF(D7:AH7,"X")+COUNTIF(D7:AH7,"Tr")+COUNTIF(D7:AH7,"BL") -> 13
A8: 3 | B8: NGUYỄN VĂN | C8: SƠN | E8: X | F8: X | G8: X | H8: X | I8: X | L8: X | M8: P | N8: P | O8: P | P8: P | Q8: P | AA8: X | AB8: X | AC8: X | AD8: X | AI8: =COUNTIF(D8:AH8,"X")+COUNTIF(D8:AH8,"Tr")+COUNTIF(D8:AH8,"BL") -> 10
A9: 4 | B9: NGUYỄN THANH | C9: SƠN B | E9: X | F9: X | G9: X | H9: X | I9: X | M9: X | N9: X | O9: X | P9: P | Q9: P | AA9: X | AB9: X | AC9: X | AD9: X | AI9: =COUNTIF(D9:AH9,"X")+COUNTIF(D9:AH9,"Tr")+COUNTIF(D9:AH9,"BL") -> 12
A10: 5 | B10: NGUYỄN YẾN | C10: NHI | E10: X | F10: X | G10: X | H10: X | I10: X | J10: X | L10: X | M10: X | N10: X | P10: X | AB10: X | AC10: X | AD10: X | AE10: X | AI10: =COUNTIF(D10:AH10,"X")+COUNTIF(D10:AH10,"Tr")+COUNTIF(D10:AH10,"BL") -> 14
A11: 6 | B11: NGUYỄN THỊ | C11: THU | E11: X | F11: X | G11: X | H11: X | I11: X | M11: X | O11: X | Q11: X | AB11: X | AD11: X | AI11: =COUNTIF(D11:AH11,"X")+COUNTIF(D11:AH11,"Tr")+COUNTIF(D11:AH11,"BL") -> 10
B13: KÝ HIỆU: | C13: LÀM VIỆC | I13: X | L13: NGHỈ PHÉP | R13: P | U13: NGHỈ CON ỐM | AB13: CÔ | AE13: NGHỈ KHÔNG LƯƠNG Ro
C14: TRỰC TRƯỜNG | I14: Tr | L14: NGHỈ TAI NẠN LĐ | R14: T | U14: NGHỈ VIỆC RIÊNG | AB14: R | AE14: NGHỈ KHÔNG PHÉP KP
C15: ĐI HỌC | I15: Ho | L15: NGHỈ ỐM | R15: Ô | U15: NGHỈ LỄ , TẾT | AB15: L | AE15: NGHỈ THAI SẢN S
C16: Chủ nhật | L16: LÀM BÙ LỄ | R16: BL | U16: NGHỈ BÙ | AB16: NB
V17: ="Ngày "&DAY(EOMONTH(D4,P2))&" tháng "&MONTH(P2)&" năm "&YEAR(T2) -> Ngày 28 tháng 2 năm 2015
C18: TRƯỞNG ĐƠN VỊ | W18: NGƯỜI CHẤM CÔNG
C22: HÀ PHƯỚC TUẤN | W22: HÀ PHƯỚC TUẤN

Sheet T03-2015
A1: TRƯỜNG CĐKT LÝ TƯ TRỌNG TP.HCM | J1: BẢNG CHẤM CÔNG
A2: ĐƠN VỊ : PHÒNG KT&ĐBCL | M2: THÁNG | P2: =D4 -> 42064 | R2: NĂM | T2: =D4 -> 42064
D3: 42015 | E3: =D3+1 -> 42016 | F3: =E3+1 -> 42017 | G3: =F3+1 -> 42018 | H3: =G3+1 -> 42019 | I3: =H3+1 -> 42020 | J3: =I3+1 -> 42021 | K3: =J3+1 -> 42022 | L3: =K3+1 -> 42023 | ... V3: =U3+1 -> 42033 | W3: 42036 | X3: =W3+1 -> 42037 | Y3: =X3+1 -> 42038 | Z3: =Y3+1 -> 42039 | AA3: =Z3+1 -> 42040 | AB3: =AA3+1 -> 42041 | AC3: =AB3+1 -> 42042 | AD3: =AC3+1 -> 42043 | AE3: =AD3+1 -> 42044 | ... AH3: =AG3+1 -> 42047
A4: STT | B4: HỌ VÀ TÊN | D4: 42064 | E4: =D4+1 -> 42065 | F4: =E4+1 -> 42066 | G4: =F4+1 -> 42067 | H4: =G4+1 -> 42068 | I4: =H4+1 -> 42069 | J4: =I4+1 -> 42070 | K4: =J4+1 -> 42071 | L4: =K4+1 -> 42072 | ... AH4: =AG4+1 -> 42094 | AI4: TS.NGÀY LV
C5: THỨ | D5: =IF(WEEKDAY(D4)=1,"CN",IF(WEEKDAY(D4)=2,"T2",IF(WEEKDAY(D4)=3,"T3",IF(WEEKDAY(D4)=4,"T4",IF(WEEKDAY(D4)=5,"T5",IF(WEEKDAY(D4)=6,"T6","T7")))))) -> CN | E5: =IF(WEEKDAY(E4)=1,"CN",IF(WEEKDAY(E4)=2,"T2",IF(WEEKDAY(E4)=3,"T3",IF(WEEKDAY(E4)=4,"T4",IF(WEEKDAY(E4)=5,"T5",IF(WEEKDAY(E4)=6,"T6","T7")))))) -> T2 | F5: =IF(WEEKDAY(F4)=1,"CN",IF(WEEKDAY(F4)=2,"T2",IF(WEEKDAY(F4)=3,"T3",IF(WEEKDAY(F4)=4,"T4",IF(WEEKDAY(F4)=5,"T5",IF(WEEKDAY(F4)=6,"T6","T7")))))) -> T3 | G5: =IF(WEEKDAY(G4)=1,"CN",IF(WEEKDAY(G4)=2,"T2",IF(WEEKDAY(G4)=3,"T3",IF(WEEKDAY(G4)=4,"T4",IF(WEEKDAY(G4)=5,"T5",IF(WEEKDAY(G4)=6,"T6","T7")))))) -> T4 | H5: =IF(WEEKDAY(H4)=1,"CN",IF(WEEKDAY(H4)=2,"T2",IF(WEEKDAY(H4)=3,"T3",IF(WEEKDAY(H4)=4,"T4",IF(WEEKDAY(H4)=5,"T5",IF(WEEKDAY(H4)=6,"T6","T7")))))) -> T5 | I5: =IF(WEEKDAY(I4)=1,"CN",IF(WEEKDAY(I4)=2,"T2",IF(WEEKDAY(I4)=3,"T3",IF(WEEKDAY(I4)=4,"T4",IF(WEEKDAY(I4)=5,"T5",IF(WEEKDAY(I4)=6,"T6","T7")))))) -> T6 | J5: =IF(WEEKDAY(J4)=1,"CN",IF(WEEKDAY(J4)=2,"T2",IF(WEEKDAY(J4)=3,"T3",IF(WEEKDAY(J4)=4,"T4",IF(WEEKDAY(J4)=5,"T5",IF(WEEKDAY(J4)=6,"T6","T7")))))) -> T7 | K5: =IF(WEEKDAY(K4)=1,"CN",IF(WEEKDAY(K4)=2,"T2",IF(WEEKDAY(K4)=3,"T3",IF(WEEKDAY(K4)=4,"T4",IF(WEEKDAY(K4)=5,"T5",IF(WEEKDAY(K4)=6,"T6","T7")))))) -> CN | ... AH5: =IF(WEEKDAY(AH4)=1,"CN",IF(WEEKDAY(AH4)=2,"T2",IF(WEEKDAY(AH4)=3,"T3",IF(WEEKDAY(AH4)=4,"T4",IF(WEEKDAY(AH4)=5,"T5",IF(WEEKDAY(AH4)=6,"T6","T7")))))) -> T3
A6: 1 | B6: HÀ PHƯỚC | C6: TUẤN | E6: X | F6: X | G6: X | H6: X | I6: X | J6: X | L6: X | M6: X | N6: X | O6: X | P6: X | Q6: X | S6: X | T6: X | U6: X | V6: X | W6: X | X6: X | Z6: X | AA6: X | AB6: X | AC6: X | AD6: X | AE6: X | AG6: X | AH6: X | AI6: =COUNTIF(D6:AH6,"X")+COUNTIF(D6:AH6,"Tr")+COUNTIF(D6:AH6,"BL") -> 26
A7: 2 | B7: VÕ THỊ ANH | C7: ĐÀO | E7: X | F7: X | G7: X | H7: X | I7: X | J7: X | L7: X | M7: X | N7: X | O7: X | P7: X | Q7: X | S7: X | T7: X | U7: X | V7: X | W7: X | X7: X | Z7: X | AA7: X | AB7: X | AC7: X | AD7: X | AE7: X | AG7: X | AH7: X | AI7: =COUNTIF(D7:AH7,"X")+COUNTIF(D7:AH7,"Tr")+COUNTIF(D7:AH7,"BL") -> 26
A8: 3 | B8: NGUYỄN VĂN | C8: SƠN | E8: X | F8: X | G8: X | H8: X | I8: X | L8: X | M8: X | N8: X | O8: X | P8: X | S8: X | T8: X | U8: X | V8: X | W8: X | Z8: X | AA8: X | AB8: X | AC8: X | AD8: X | AG8: X | AH8: X | AI8: =COUNTIF(D8:AH8,"X")+COUNTIF(D8:AH8,"Tr")+COUNTIF(D8:AH8,"BL") -> 22
A9: 4 | B9: NGUYỄN THANH | C9: SƠN B | E9: X | F9: X | G9: X | H9: X | I9: X | L9: X | M9: X | N9: X | O9: X | P9: X | S9: X | T9: X | U9: X | V9: X | W9: X | Z9: X | AA9: X | AB9: X | AC9: X | AD9: X | AG9: X | AH9: X | AI9: =COUNTIF(D9:AH9,"X")+COUNTIF(D9:AH9,"Tr")+COUNTIF(D9:AH9,"BL") -> 22
A10: 5 | B10: NGUYỄN YẾN | C10: NHI | E10: X | F10: X | G10: X | H10: X | I10: X | J10: X | L10: X | M10: X | N10: X | O10: X | P10: X | Q10: X | R10: X | S10: X | T10: X | U10: X | V10: X | W10: X | X10: X | Z10: X | AA10: X | AB10: X | AC10: X | AD10: X | AE10: X | AG10: X | AH10: X | AI10: =COUNTIF(D10:AH10,"X")+COUNTIF(D10:AH10,"Tr")+COUNTIF(D10:AH10,"BL") -> 27
A11: 6 | B11: NGUYỄN THỊ | C11: THU | E11: X | F11: X | G11: X | H11: X | I11: Ro | L11: Ro | M11: Ro | N11: Ro | O11: Ro | P11: Ro | S11: Ro | T11: Ro | U11: Ro | V11: Ro | W11: Ro | Z11: Ro | AA11: Ro | AB11: Ro | AC11: Ro | AD11: Ro | AG11: Ro | AH11: Ro | AI11: =COUNTIF(D11:AH11,"X")+COUNTIF(D11:AH11,"Tr")+COUNTIF(D11:AH11,"BL") -> 4
A12: 7 | B12: NGUYỄN CHÍ | C12: NHÂN | S12: X | T12: X | U12: X | V12: X | W12: X | Z12: X | AA12: X | AB12: X | AC12: X | AD12: X | AG12: X | AH12: X | AI12: =COUNTIF(D12:AH12,"X")+COUNTIF(D12:AH12,"Tr")+COUNTIF(D12:AH12,"BL") -> 12
A13: 8 | B13: VŨ THỊ THU | C13: THUỶ | S13: X | T13: X | U13: X | V13: X | W13: X | X13: X | Z13: X | AA13: X | AB13: X | AC13: X | AD13: X | AE13: X | AG13: X | AH13: X | AI13: =COUNTIF(D13:AH13,"X")+COUNTIF(D13:AH13,"Tr")+COUNTIF(D13:AH13,"BL") -> 14
B15: KÝ HIỆU: | C15: LÀM VIỆC | I15: X | L15: NGHỈ PHÉP | R15: P | U15: NGHỈ CON ỐM | AB15: CÔ | AE15: NGHỈ KHÔNG LƯƠNG Ro
C16: TRỰC TRƯỜNG | I16: Tr | L16: NGHỈ TAI NẠN LĐ | R16: T | U16: NGHỈ VIỆC RIÊNG | AB16: R | AE16: NGHỈ KHÔNG PHÉP KP
C17: ĐI HỌC | I17: Ho | L17: NGHỈ ỐM | R17: Ô | U17: NGHỈ LỄ , TẾT | AB17: L | AE17: NGHỈ THAI SẢN S
C18: Chủ nhật | L18: LÀM BÙ LỄ | R18: BL
B19: GHI CHÚ: 15/03 Nhi tham gia kỳ thi KT năng lực Tiếng Anh | V19: ="Ngày "&DAY(EOMONTH(D4,P2))&" tháng "&MONTH(P2)&" năm "&YEAR(T2) -> Ngày 31 tháng 3 năm 2015
C20: TRƯỞNG ĐƠN VỊ | W20: NGƯỜI CHẤM CÔNG
C24: HÀ PHƯỚC TUẤN | W24: HÀ PHƯỚC TUẤN

Sheet T04-2015
A1: TRƯỜNG CĐKT LÝ TƯ TRỌNG TP.HCM | J1: BẢNG CHẤM CÔNG
A2: ĐƠN VỊ : PHÒNG KT&ĐBCL | M2: THÁNG | P2: =D4 -> 42095 | R2: NĂM | T2: =D4 -> 42095
D3: 42076 | E3: =D3+1 -> 42077 | F3: =E3+1 -> 42078 | G3: =F3+1 -> 42079 | H3: =G3+1 -> 42080 | I3: =H3+1 -> 42081 | J3: =I3+1 -> 42082 | K3: =J3+1 -> 42083 | L3: =K3+1 -> 42084 | ... U3: =T3+1 -> 42093 | V3: 42064 | W3: =V3+1 -> 42065 | X3: =W3+1 -> 42066 | Y3: =X3+1 -> 42067 | Z3: =Y3+1 -> 42068 | AA3: =Z3+1 -> 42069 | AB3: =AA3+1 -> 42070 | AC3: =AB3+1 -> 42071 | AD3: =AC3+1 -> 42072 | ... AG3: =AF3+1 -> 42075
A4: STT | B4: HỌ VÀ TÊN | D4: 42095 | E4: =D4+1 -> 42096 | F4: =E4+1 -> 42097 | G4: =F4+1 -> 42098 | H4: =G4+1 -> 42099 | I4: =H4+1 -> 42100 | J4: =I4+1 -> 42101 | K4: =J4+1 -> 42102 | L4: =K4+1 -> 42103 | ... AH4: =AG4+1 -> 42125 | AI4: TS.NGÀY LV
C5: THỨ | D5: =IF(WEEKDAY(D4)=1,"CN",IF(WEEKDAY(D4)=2,"T2",IF(WEEKDAY(D4)=3,"T3",IF(WEEKDAY(D4)=4,"T4",IF(WEEKDAY(D4)=5,"T5",IF(WEEKDAY(D4)=6,"T6","T7")))))) -> T4 | E5: =IF(WEEKDAY(E4)=1,"CN",IF(WEEKDAY(E4)=2,"T2",IF(WEEKDAY(E4)=3,"T3",IF(WEEKDAY(E4)=4,"T4",IF(WEEKDAY(E4)=5,"T5",IF(WEEKDAY(E4)=6,"T6","T7")))))) -> T5 | F5: =IF(WEEKDAY(F4)=1,"CN",IF(WEEKDAY(F4)=2,"T2",IF(WEEKDAY(F4)=3,"T3",IF(WEEKDAY(F4)=4,"T4",IF(WEEKDAY(F4)=5,"T5",IF(WEEKDAY(F4)=6,"T6","T7")))))) -> T6 | G5: =IF(WEEKDAY(G4)=1,"CN",IF(WEEKDAY(G4)=2,"T2",IF(WEEKDAY(G4)=3,"T3",IF(WEEKDAY(G4)=4,"T4",IF(WEEKDAY(G4)=5,"T5",IF(WEEKDAY(G4)=6,"T6","T7")))))) -> T7 | H5: =IF(WEEKDAY(H4)=1,"CN",IF(WEEKDAY(H4)=2,"T2",IF(WEEKDAY(H4)=3,"T3",IF(WEEKDAY(H4)=4,"T4",IF(WEEKDAY(H4)=5,"T5",IF(WEEKDAY(H4)=6,"T6","T7")))))) -> CN | I5: =IF(WEEKDAY(I4)=1,"CN",IF(WEEKDAY(I4)=2,"T2",IF(WEEKDAY(I4)=3,"T3",IF(WEEKDAY(I4)=4,"T4",IF(WEEKDAY(I4)=5,"T5",IF(WEEKDAY(I4)=6,"T6","T7")))))) -> T2 | J5: =IF(WEEKDAY(J4)=1,"CN",IF(WEEKDAY(J4)=2,"T2",IF(WEEKDAY(J4)=3,"T3",IF(WEEKDAY(J4)=4,"T4",IF(WEEKDAY(J4)=5,"T5",IF(WEEKDAY(J4)=6,"T6","T7")))))) -> T3 | K5: =IF(WEEKDAY(K4)=1,"CN",IF(WEEKDAY(K4)=2,"T2",IF(WEEKDAY(K4)=3,"T3",IF(WEEKDAY(K4)=4,"T4",IF(WEEKDAY(K4)=5,"T5",IF(WEEKDAY(K4)=6,"T6","T7")))))) -> T4 | ... AH5: =IF(WEEKDAY(AH4)=1,"CN",IF(WEEKDAY(AH4)=2,"T2",IF(WEEKDAY(AH4)=3,"T3",IF(WEEKDAY(AH4)=4,"T4",IF(WEEKDAY(AH4)=5,"T5",IF(WEEKDAY(AH4)=6,"T6","T7")))))) -> T6
A6: 1 | B6: HÀ PHƯỚC | C6: TUẤN | D6: X | E6: X | F6: X | G6: X | I6: X | J6: X | K6: X | L6: X | M6: X | N6: X | P6: X | Q6: X | R6: X | S6: X | T6: X | U6: X | V6: X | W6: X | X6: X | Y6: X | Z6: X | AA6: X | AB6: BL | AC6: X | AD6: X | AI6: =COUNTIF(D6:AH6,"X")+COUNTIF(D6:AH6,"Tr")+COUNTIF(D6:AH6,"BL") -> 25
A7: 2 | B7: VÕ THỊ ANH | C7: ĐÀO | D7: X | E7: X | F7: X | G7: X | I7: X | J7: X | K7: X | L7: X | M7: X | N7: X | P7: X | Q7: X | R7: X | S7: X | T7: X | U7: X | W7: X | X7: X | Y7: X | Z7: X | AA7: X | AB7: BL | AD7: X | AI7: =COUNTIF(D7:AH7,"X")+COUNTIF(D7:AH7,"Tr")+COUNTIF(D7:AH7,"BL") -> 23
A8: 3 | B8: NGUYỄN VĂN | C8: SƠN | D8: X | E8: X | F8: X | I8: X | J8: X | K8: X | L8: X | M8: X | P8: X | Q8: X | R8: X | S8: X | T8: X | V8: X | W8: X | X8: X | Y8: X | Z8: X | AA8: X | AB8: BL | AC8: X | AD8: X | AI8: =COUNTIF(D8:AH8,"X")+COUNTIF(D8:AH8,"Tr")+COUNTIF(D8:AH8,"BL") -> 22
A9: 4 | B9: NGUYỄN THANH | C9: SƠN B | D9: X | E9: X | F9: X | I9: X | J9: X | K9: X | L9: X | M9: X | P9: X | Q9: X | R9: X | S9: X | T9: X | W9: X | X9: X | Y9: X | Z9: X | AA9: X | AB9: BL | AC9: X | AD9: X | AI9: =COUNTIF(D9:AH9,"X")+COUNTIF(D9:AH9,"Tr")+COUNTIF(D9:AH9,"BL") -> 21
A10: 5 | B10: NGUYỄN YẾN | C10: NHI | D10: X | E10: X | F10: X | G10: X | I10: X | J10: X | K10: X | L10: X | M10: X | N10: X | P10: X | Q10: X | R10: X | S10: X | T10: X | U10: X | W10: X | X10: X | Y10: X | Z10: X | AA10: X | AB10: BL | AC10: X | AD10: X | AI10: =COUNTIF(D10:AH10,"X")+COUNTIF(D10:AH10,"Tr")+COUNTIF(D10:AH10,"BL") -> 24
A11: 6 | B11: NGUYỄN THỊ | C11: THU | D11: Ro | E11: Ro | F11: Ro | I11: Ro | J11: Ro | K11: Ro | L11: Ro | M11: Ro | P11: Ro | Q11: Ro | R11: Ro | S11: Ro | T11: Ro | W11: Ro | X11: Ro | Y11: Ro | Z11: Ro | AA11: Ro | AB11: Ro | AD11: Ro | AI11: =COUNTIF(D11:AH11,"X")+COUNTIF(D11:AH11,"Tr")+COUNTIF(D11:AH11,"BL") -> 0
A12: 7 | B12: NGUYỄN CHÍ | C12: NHÂN | D12: X | E12: X | F12: X | G12: X | I12: X | J12: X | K12: X | L12: X | M12: X | N12: X | P12: X | Q12: X | R12: X | S12: X | T12: X | U12: X | V12: X | W12: X | X12: X | Y12: X | Z12: X | AA12: X | AB12: BL | AC12: X | AD12: X | AI12: =COUNTIF(D12:AH12,"X")+COUNTIF(D12:AH12,"Tr")+COUNTIF(D12:AH12,"BL") -> 25
A13: 8 | B13: VŨ THỊ THU | C13: THUỶ | D13: X | E13: X | F13: X | G13: X | I13: X | J13: X | K13: P | L13: X | M13: X | N13: X | P13: X | Q13: X | R13: X | S13: X | T13: X | U13: X | W13: X | X13: X | Y13: X | Z13: X | AA13: X | AB13: BL | AD13: X | AI13: =COUNTIF(D13:AH13,"X")+COUNTIF(D13:AH13,"Tr")+COUNTIF(D13:AH13,"BL") -> 22
B15: KÝ HIỆU: | C15: LÀM VIỆC | I15: X | L15: NGHỈ PHÉP | R15: P | U15: NGHỈ CON ỐM | AB15: CÔ | AE15: NGHỈ KHÔNG LƯƠNG Ro
C16: TRỰC TRƯỜNG | I16: Tr | L16: NGHỈ TAI NẠN LĐ | R16: T | U16: NGHỈ VIỆC RIÊNG | AB16: R | AE16: NGHỈ KHÔNG PHÉP KP
C17: ĐI HỌC | I17: Ho | L17: NGHỈ ỐM | R17: Ô | U17: NGHỈ LỄ , TẾT | AB17: L | AE17: NGHỈ THAI SẢN S
C18: Chủ nhật | L18: LÀM BÙ LỄ | R18: BL
B19: Ghi chú: Ngày 19 và 26: tham dự hội thao công đoàn | V19: ="Ngày "&DAY(EOMONTH(D4,P2))-4&" tháng "&MONTH(P2)&" năm "&YEAR(T2) -> Ngày 27 tháng 4 năm 2015
C20: TRƯỞNG ĐƠN VỊ | W20: NGƯỜI CHẤM CÔNG
C24: HÀ PHƯỚC TUẤN | W24: HÀ PHƯỚC TUẤN

Sheet T05-2015
A1: TRƯỜNG CĐKT LÝ TƯ TRỌNG TP.HCM | J1: BẢNG CHẤM CÔNG
A2: ĐƠN VỊ : PHÒNG KT&ĐBCL | M2: THÁNG | P2: =D4 -> 42125 | R2: NĂM | T2: =D4 -> 42125
A4: STT | B4: HỌ VÀ TÊN | D4: 42125 | E4: =D4+1 -> 42126 | F4: =E4+1 -> 42127 | G4: =F4+1 -> 42128 | H4: =G4+1 -> 42129 | I4: =H4+1 -> 42130 | J4: =I4+1 -> 42131 | K4: =J4+1 -> 42132 | L4: =K4+1 -> 42133 | ... AH4: =AG4+1 -> 42155 | AI4: TS.NGÀY LV
C5: THỨ | D5: =IF(WEEKDAY(D4)=1,"CN",IF(WEEKDAY(D4)=2,"T2",IF(WEEKDAY(D4)=3,"T3",IF(WEEKDAY(D4)=4,"T4",IF(WEEKDAY(D4)=5,"T5",IF(WEEKDAY(D4)=6,"T6","T7")))))) -> T6 | E5: =IF(WEEKDAY(E4)=1,"CN",IF(WEEKDAY(E4)=2,"T2",IF(WEEKDAY(E4)=3,"T3",IF(WEEKDAY(E4)=4,"T4",IF(WEEKDAY(E4)=5,"T5",IF(WEEKDAY(E4)=6,"T6","T7")))))) -> T7 | F5: =IF(WEEKDAY(F4)=1,"CN",IF(WEEKDAY(F4)=2,"T2",IF(WEEKDAY(F4)=3,"T3",IF(WEEKDAY(F4)=4,"T4",IF(WEEKDAY(F4)=5,"T5",IF(WEEKDAY(F4)=6,"T6","T7")))))) -> CN | G5: =IF(WEEKDAY(G4)=1,"CN",IF(WEEKDAY(G4)=2,"T2",IF(WEEKDAY(G4)=3,"T3",IF(WEEKDAY(G4)=4,"T4",IF(WEEKDAY(G4)=5,"T5",IF(WEEKDAY(G4)=6,"T6","T7")))))) -> T2 | H5: =IF(WEEKDAY(H4)=1,"CN",IF(WEEKDAY(H4)=2,"T2",IF(WEEKDAY(H4)=3,"T3",IF(WEEKDAY(H4)=4,"T4",IF(WEEKDAY(H4)=5,"T5",IF(WEEKDAY(H4)=6,"T6","T7")))))) -> T3 | I5: =IF(WEEKDAY(I4)=1,"CN",IF(WEEKDAY(I4)=2,"T2",IF(WEEKDAY(I4)=3,"T3",IF(WEEKDAY(I4)=4,"T4",IF(WEEKDAY(I4)=5,"T5",IF(WEEKDAY(I4)=6,"T6","T7")))))) -> T4 | J5: =IF(WEEKDAY(J4)=1,"CN",IF(WEEKDAY(J4)=2,"T2",IF(WEEKDAY(J4)=3,"T3",IF(WEEKDAY(J4)=4,"T4",IF(WEEKDAY(J4)=5,"T5",IF(WEEKDAY(J4)=6,"T6","T7")))))) -> T5 | K5: =IF(WEEKDAY(K4)=1,"CN",IF(WEEKDAY(K4)=2,"T2",IF(WEEKDAY(K4)=3,"T3",IF(WEEKDAY(K4)=4,"T4",IF(WEEKDAY(K4)=5,"T5",IF(WEEKDAY(K4)=6,"T6","T7")))))) -> T6 | ... AH5: =IF(WEEKDAY(AH4)=1,"CN",IF(WEEKDAY(AH4)=2,"T2",IF(WEEKDAY(AH4)=3,"T3",IF(WEEKDAY(AH4)=4,"T4",IF(WEEKDAY(AH4)=5,"T5",IF(WEEKDAY(AH4)=6,"T6","T7")))))) -> CN
A6: 1 | B6: HÀ PHƯỚC | C6: TUẤN | G6: X | H6: X | I6: X | J6: X | K6: X | L6: X | N6: X | O6: X | P6: X | Q6: X | R6: X | S6: X | U6: X | V6: X | W6: X | X6: X | Y6: X | Z6: X | AB6: X | AC6: X | AD6: X | AE6: X | AF6: X | AI6: =COUNTIF(D6:AH6,"X")+COUNTIF(D6:AH6,"Tr")+COUNTIF(D6:AH6,"BL") -> 23
A7: 2 | B7: VÕ THỊ ANH | C7: ĐÀO | G7: X | H7: X | I7: X | J7: X | K7: X | L7: X | N7: X | O7: X | P7: X | Q7: X | R7: X | S7: X | U7: X | V7: X | W7: X | X7: X | Y7: X | AB7: X | AC7: X | AD7: X | AE7: X | AF7: X | AG7: X | AI7: =COUNTIF(D7:AH7,"X")+COUNTIF(D7:AH7,"Tr")+COUNTIF(D7:AH7,"BL") -> 23
A8: 3 | B8: NGUYỄN VĂN | C8: SƠN | G8: X | H8: X | I8: X | J8: X | K8: X | N8: X | O8: X | P8: X | Q8: X | R8: X | U8: X | V8: X | W8: X | X8: X | Y8: X | AB8: X | AC8: X | AD8: X | AE8: X | AF8: X | AI8: =COUNTIF(D8:AH8,"X")+COUNTIF(D8:AH8,"Tr")+COUNTIF(D8:AH8,"BL") -> 20
A9: 4 | B9: NGUYỄN THANH | C9: SƠN B | G9: X | H9: X | I9: X | J9: X | K9: X | N9: X | O9: X | P9: X | Q9: X | R9: X | U9: X | V9: X | W9: X | X9: X | Y9: X | AB9: X | AC9: X | AD9: X | AE9: P | AF9: X | AI9: =COUNTIF(D9:AH9,"X")+COUNTIF(D9:AH9,"Tr")+COUNTIF(D9:AH9,"BL") -> 19
A10: 5 | B10: NGUYỄN YẾN | C10: NHI | G10: X | H10: X | I10: X | J10: X | K10: X | L10: X | N10: X | O10: X | P10: X | Q10: X | R10: X | S10: X | T10: X | U10: X | V10: X | W10: X | X10: X | Y10: X | Z10: X | AB10: X | AC10: X | AD10: X | AE10: X | AF10: X | AG10: X | AI10: =COUNTIF(D10:AH10,"X")+COUNTIF(D10:AH10,"Tr")+COUNTIF(D10:AH10,"BL") -> 25
A11: 6 | B11: NGUYỄN THỊ | C11: THU | G11: Ro | H11: Ro | I11: Ro | J11: X | K11: X | N11: Ro | O11: Ro | P11: Ro | Q11: Ro | R11: Ro | U11: Ro | V11: Ro | W11: Ro | X11: Ro | Y11: Ro | AB11: Ro | AC11: Ro | AD11: Ro | AE11: Ro | AF11: Ro | AI11: =COUNTIF(D11:AH11,"X")+COUNTIF(D11:AH11,"Tr")+COUNTIF(D11:AH11,"BL") -> 2
A12: 7 | B12: NGUYỄN CHÍ | C12: NHÂN | G12: X | H12: X | I12: X | J12: X | K12: X | L12: X | N12: X | O12: X | P12: X | Q12: X | R12: X | S12: X | U12: X | V12: X | W12: X | X12: X | Y12: X | Z12: X | AB12: X | AC12: X | AD12: X | AE12: X | AF12: X | AG12: X | AI12: =COUNTIF(D12:AH12,"X")+COUNTIF(D12:AH12,"Tr")+COUNTIF(D12:AH12,"BL") -> 24
A13: 8 | B13: VŨ THỊ THU | C13: THUỶ | G13: X | H13: X | I13: X | J13: X | K13: X | N13: X | O13: X | P13: X | Q13: X | R13: X | U13: X | V13: X | W13: X | X13: X | Y13: X | AB13: X | AC13: X | AD13: X | AE13: X | AF13: X | AI13: =COUNTIF(D13:AH13,"X")+COUNTIF(D13:AH13,"Tr")+COUNTIF(D13:AH13,"BL") -> 20
B15: KÝ HIỆU: | C15: LÀM VIỆC | I15: X | L15: NGHỈ PHÉP | R15: P | U15: NGHỈ CON ỐM | AB15: CÔ | AE15: NGHỈ KHÔNG LƯƠNG Ro
C16: TRỰC TRƯỜNG | I16: Tr | L16: NGHỈ TAI NẠN LĐ | R16: T | U16: NGHỈ VIỆC RIÊNG | AB16: R | AE16: NGHỈ KHÔNG PHÉP KP
C17: ĐI HỌC | I17: Ho | L17: NGHỈ ỐM | R17: Ô | U17: NGHỈ LỄ , TẾT | AB17: L | AE17: NGHỈ THAI SẢN S
C18: Chủ nhật | L18: LÀM BÙ LỄ | R18: BL
B19: GHI CHÚ: 17/05 Nhi tham gia kỳ thi CC A, B Tiếng Anh | V19: ="Ngày "&DAY(EOMONTH(D4,P2))-2&" tháng "&MONTH(P2)&" năm "&YEAR(T2) -> Ngày 29 tháng 5 năm 2015
C20: TRƯỞNG ĐƠN VỊ | W20: NGƯỜI CHẤM CÔNG
C24: HÀ PHƯỚC TUẤN | W24: HÀ PHƯỚC TUẤN

Sheet T06-2015
A1: TRƯỜNG CĐKT LÝ TƯ TRỌNG TP.HCM | J1: BẢNG CHẤM CÔNG
A2: ĐƠN VỊ : PHÒNG KT&ĐBCL | M2: THÁNG | P2: =D4 -> 42156 | R2: NĂM | T2: =D4 -> 42156
A4: STT | B4: HỌ VÀ TÊN | D4: 42156 | E4: =D4+1 -> 42157 | F4: =E4+1 -> 42158 | G4: =F4+1 -> 42159 | H4: =G4+1 -> 42160 | I4: =H4+1 -> 42161 | J4: =I4+1 -> 42162 | K4: =J4+1 -> 42163 | L4: =K4+1 -> 42164 | ... AH4: =AG4+1 -> 42186 | AI4: TS.NGÀY LV
C5: THỨ | D5: =IF(WEEKDAY(D4)=1,"CN",IF(WEEKDAY(D4)=2,"T2",IF(WEEKDAY(D4)=3,"T3",IF(WEEKDAY(D4)=4,"T4",IF(WEEKDAY(D4)=5,"T5",IF(WEEKDAY(D4)=6,"T6","T7")))))) -> T2 | E5: =IF(WEEKDAY(E4)=1,"CN",IF(WEEKDAY(E4)=2,"T2",IF(WEEKDAY(E4)=3,"T3",IF(WEEKDAY(E4)=4,"T4",IF(WEEKDAY(E4)=5,"T5",IF(WEEKDAY(E4)=6,"T6","T7")))))) -> T3 | F5: =IF(WEEKDAY(F4)=1,"CN",IF(WEEKDAY(F4)=2,"T2",IF(WEEKDAY(F4)=3,"T3",IF(WEEKDAY(F4)=4,"T4",IF(WEEKDAY(F4)=5,"T5",IF(WEEKDAY(F4)=6,"T6","T7")))))) -> T4 | G5: =IF(WEEKDAY(G4)=1,"CN",IF(WEEKDAY(G4)=2,"T2",IF(WEEKDAY(G4)=3,"T3",IF(WEEKDAY(G4)=4,"T4",IF(WEEKDAY(G4)=5,"T5",IF(WEEKDAY(G4)=6,"T6","T7")))))) -> T5 | H5: =IF(WEEKDAY(H4)=1,"CN",IF(WEEKDAY(H4)=2,"T2",IF(WEEKDAY(H4)=3,"T3",IF(WEEKDAY(H4)=4,"T4",IF(WEEKDAY(H4)=5,"T5",IF(WEEKDAY(H4)=6,"T6","T7")))))) -> T6 | I5: =IF(WEEKDAY(I4)=1,"CN",IF(WEEKDAY(I4)=2,"T2",IF(WEEKDAY(I4)=3,"T3",IF(WEEKDAY(I4)=4,"T4",IF(WEEKDAY(I4)=5,"T5",IF(WEEKDAY(I4)=6,"T6","T7")))))) -> T7 | J5: =IF(WEEKDAY(J4)=1,"CN",IF(WEEKDAY(J4)=2,"T2",IF(WEEKDAY(J4)=3,"T3",IF(WEEKDAY(J4)=4,"T4",IF(WEEKDAY(J4)=5,"T5",IF(WEEKDAY(J4)=6,"T6","T7")))))) -> CN | K5: =IF(WEEKDAY(K4)=1,"CN",IF(WEEKDAY(K4)=2,"T2",IF(WEEKDAY(K4)=3,"T3",IF(WEEKDAY(K4)=4,"T4",IF(WEEKDAY(K4)=5,"T5",IF(WEEKDAY(K4)=6,"T6","T7")))))) -> T2 | ... AH5: =IF(WEEKDAY(AH4)=1,"CN",IF(WEEKDAY(AH4)=2,"T2",IF(WEEKDAY(AH4)=3,"T3",IF(WEEKDAY(AH4)=4,"T4",IF(WEEKDAY(AH4)=5,"T5",IF(WEEKDAY(AH4)=6,"T6","T7")))))) -> T4
A6: 1 | B6: HÀ PHƯỚC | C6: TUẤN | D6: X | E6: X | F6: X | G6: X | H6: X | I6: X | K6: X | L6: X | M6: X | N6: X | O6: X | P6: X | R6: X | S6: X | T6: X | U6: X | V6: X | W6: X | Y6: X | Z6: X | AA6: X | AB6: X | AC6: X | AD6: X | AF6: X | AG6: X | AI6: =COUNTIF(D6:AH6,"X")+COUNTIF(D6:AH6,"Tr")+COUNTIF(D6:AH6,"BL") -> 26
A7: 2 | B7: VÕ THỊ ANH | C7: ĐÀO | D7: X | E7: X | F7: X | G7: X | H7: X | I7: X | K7: X | L7: X | M7: X | N7: X | O7: X | P7: X | R7: X | S7: X | T7: X | U7: X | V7: X | Y7: X | Z7: X | AA7: X | AB7: X | AC7: X | AD7: X | AF7: X | AG7: X | AI7: =COUNTIF(D7:AH7,"X")+COUNTIF(D7:AH7,"Tr")+COUNTIF(D7:AH7,"BL") -> 25
A8: 3 | B8: NGUYỄN VĂN | C8: SƠN | D8: X | E8: X | F8: X | G8: X | H8: X | K8: X | L8: X | M8: X | N8: X | O8: X | R8: X | S8: X | T8: X | U8: X | V8: X | Y8: X | Z8: X | AA8: X | AB8: X | AC8: X | AF8: X | AG8: X | AI8: =COUNTIF(D8:AH8,"X")+COUNTIF(D8:AH8,"Tr")+COUNTIF(D8:AH8,"BL") -> 22
A9: 4 | B9: NGUYỄN THANH | C9: SƠN B | D9: X | E9: X | F9: X | G9: X | H9: X | K9: X | L9: X | M9: X | N9: X | O9: X | R9: X | S9: X | T9: X | U9: X | V9: X | Y9: X | Z9: X | AA9: X | AB9: X | AC9: X | AF9: X | AG9: P | AI9: =COUNTIF(D9:AH9,"X")+COUNTIF(D9:AH9,"Tr")+COUNTIF(D9:AH9,"BL") -> 21
A10: 5 | B10: NGUYỄN YẾN | C10: NHI | D10: X | E10: X | F10: X | G10: X | H10: X | I10: X | K10: X | L10: X | M10: X | N10: X | O10: X | P10: X | R10: X | S10: X | T10: X | U10: X | V10: X | W10: X | Y10: P | Z10: P | AA10: P | AB10: X | AC10: X | AD10: X | AF10: X | AG10: X | AI10: =COUNTIF(D10:AH10,"X")+COUNTIF(D10:AH10,"Tr")+COUNTIF(D10:AH10,"BL") -> 23
A11: 6 | B11: NGUYỄN THỊ | C11: THU | D11: Ro | E11: Ro | F11: Ro | G11: Ro | H11: Ro | K11: Ro | L11: Ro | M11: Ro | N11: Ro | O11: Ro | R11: Ro | S11: Ro | T11: Ro | U11: Ro | V11: Ro | Y11: Ro | Z11: Ro | AA11: Ro | AB11: Ro | AC11: Ro | AF11: Ro | AG11: Ro | AI11: =COUNTIF(D11:AH11,"X")+COUNTIF(D11:AH11,"Tr")+COUNTIF(D11:AH11,"BL") -> 0
A12: 7 | B12: NGUYỄN CHÍ | C12: NHÂN | D12: X | E12: X | F12: X | G12: X | H12: X | I12: X | K12: X | L12: X | M12: X | N12: X | O12: X | P12: X | R12: X | S12: X | T12: X | U12: X | V12: X | W12: X | Y12: X | Z12: X | AA12: X | AB12: X | AC12: X | AD12: X | AF12: X | AG12: X | AI12: =COUNTIF(D12:AH12,"X")+COUNTIF(D12:AH12,"Tr")+COUNTIF(D12:AH12,"BL") -> 26
A13: 8 | B13: VŨ THỊ THU | C13: THUỶ | D13: X | E13: X | F13: X | G13: X | H13: X | I13: X | K13: X | L13: X | M13: X | N13: X | O13: X | R13: X | S13: X | T13: X | U13: X | V13: X | Y13: X | Z13: X | AA13: X | AB13: X | AC13: X | AF13: X | AG13: X | AI13: =COUNTIF(D13:AH13,"X")+COUNTIF(D13:AH13,"Tr")+COUNTIF(D13:AH13,"BL") -> 23
B15: KÝ HIỆU: | C15: LÀM VIỆC | I15: X | L15: NGHỈ PHÉP | R15: P | U15: NGHỈ CON ỐM | AB15: CÔ | AE15: NGHỈ KHÔNG LƯƠNG Ro
C16: TRỰC TRƯỜNG | I16: Tr | L16: NGHỈ TAI NẠN LĐ | R16: T | U16: NGHỈ VIỆC RIÊNG | AB16: R | AE16: NGHỈ KHÔNG PHÉP KP
C17: ĐI HỌC | I17: Ho | L17: NGHỈ ỐM | R17: Ô | U17: NGHỈ LỄ , TẾT | AB17: L | AE17: NGHỈ THAI SẢN S
C18: Chủ nhật | L18: LÀM BÙ LỄ | R18: BL
V19: ="Ngày "&DAY(EOMONTH(D4,P2))&" tháng "&MONTH(P2)&" năm "&YEAR(T2) -> Ngày 30 tháng 6 năm 2015
C20: TRƯỞNG ĐƠN VỊ | W20: NGƯỜI CHẤM CÔNG
C24: HÀ PHƯỚC TUẤN | W24: HÀ PHƯỚC TUẤN

Sheet T07-2015
A1: TRƯỜNG CĐKT LÝ TƯ TRỌNG TP.HCM | J1: BẢNG CHẤM CÔNG
A2: ĐƠN VỊ : PHÒNG KT&ĐBCL | M2: THÁNG | P2: =D4 -> 42186 | R2: NĂM | T2: =D4 -> 42186
A4: STT | B4: HỌ VÀ TÊN | D4: 42186 | E4: =D4+1 -> 42187 | F4: =E4+1 -> 42188 | G4: =F4+1 -> 42189 | H4: =G4+1 -> 42190 | I4: =H4+1 -> 42191 | J4: =I4+1 -> 42192 | K4: =J4+1 -> 42193 | L4: =K4+1 -> 42194 | ... AH4: =AG4+1 -> 42216 | AI4: TS.NGÀY LV
C5: THỨ | D5: =IF(WEEKDAY(D4)=1,"CN",IF(WEEKDAY(D4)=2,"T2",IF(WEEKDAY(D4)=3,"T3",IF(WEEKDAY(D4)=4,"T4",IF(WEEKDAY(D4)=5,"T5",IF(WEEKDAY(D4)=6,"T6","T7")))))) -> T4 | E5: =IF(WEEKDAY(E4)=1,"CN",IF(WEEKDAY(E4)=2,"T2",IF(WEEKDAY(E4)=3,"T3",IF(WEEKDAY(E4)=4,"T4",IF(WEEKDAY(E4)=5,"T5",IF(WEEKDAY(E4)=6,"T6","T7")))))) -> T5 | F5: =IF(WEEKDAY(F4)=1,"CN",IF(WEEKDAY(F4)=2,"T2",IF(WEEKDAY(F4)=3,"T3",IF(WEEKDAY(F4)=4,"T4",IF(WEEKDAY(F4)=5,"T5",IF(WEEKDAY(F4)=6,"T6","T7")))))) -> T6 | G5: =IF(WEEKDAY(G4)=1,"CN",IF(WEEKDAY(G4)=2,"T2",IF(WEEKDAY(G4)=3,"T3",IF(WEEKDAY(G4)=4,"T4",IF(WEEKDAY(G4)=5,"T5",IF(WEEKDAY(G4)=6,"T6","T7")))))) -> T7 | H5: =IF(WEEKDAY(H4)=1,"CN",IF(WEEKDAY(H4)=2,"T2",IF(WEEKDAY(H4)=3,"T3",IF(WEEKDAY(H4)=4,"T4",IF(WEEKDAY(H4)=5,"T5",IF(WEEKDAY(H4)=6,"T6","T7")))))) -> CN | I5: =IF(WEEKDAY(I4)=1,"CN",IF(WEEKDAY(I4)=2,"T2",IF(WEEKDAY(I4)=3,"T3",IF(WEEKDAY(I4)=4,"T4",IF(WEEKDAY(I4)=5,"T5",IF(WEEKDAY(I4)=6,"T6","T7")))))) -> T2 | J5: =IF(WEEKDAY(J4)=1,"CN",IF(WEEKDAY(J4)=2,"T2",IF(WEEKDAY(J4)=3,"T3",IF(WEEKDAY(J4)=4,"T4",IF(WEEKDAY(J4)=5,"T5",IF(WEEKDAY(J4)=6,"T6","T7")))))) -> T3 | K5: =IF(WEEKDAY(K4)=1,"CN",IF(WEEKDAY(K4)=2,"T2",IF(WEEKDAY(K4)=3,"T3",IF(WEEKDAY(K4)=4,"T4",IF(WEEKDAY(K4)=5,"T5",IF(WEEKDAY(K4)=6,"T6","T7")))))) -> T4 | ... AH5: =IF(WEEKDAY(AH4)=1,"CN",IF(WEEKDAY(AH4)=2,"T2",IF(WEEKDAY(AH4)=3,"T3",IF(WEEKDAY(AH4)=4,"T4",IF(WEEKDAY(AH4)=5,"T5",IF(WEEKDAY(AH4)=6,"T6","T7")))))) -> T6
A6: 1 | B6: HÀ PHƯỚC | C6: TUẤN | D6: X | E6: X | F6: X | G6: X | I6: DL | J6: DL | K6: DL | L6: X | M6: X | N6: X | P6: X | Q6: X | R6: X | S6: X | T6: X | U6: X | W6: X | X6: X | Y6: X | Z6: X | AA6: X | AB6: X | AD6: X | AE6: X | AF6: X | AG6: X | AH6: X | AI6: =COUNTIF(D6:AH6,"X")+COUNTIF(D6:AH6,"Tr")+COUNTIF(D6:AH6,"BL") -> 24
A7: 2 | B7: VÕ THỊ ANH | C7: ĐÀO | D7: X | E7: X | F7: X | G7: X | I7: DL | J7: DL | K7: DL | L7: X | M7: X | P7: X | Q7: X | R7: X | S7: X | T7: X | U7: X | W7: X | X7: X | Y7: X | Z7: X | AA7: X | AB7: X | AD7: X | AE7: X | AF7: X | AG7: X | AH7: X | AI7: =COUNTIF(D7:AH7,"X")+COUNTIF(D7:AH7,"Tr")+COUNTIF(D7:AH7,"BL") -> 23
A8: 3 | B8: NGUYỄN VĂN | C8: SƠN | D8: X | E8: X | F8: X | I8: P | J8: P | K8: P | L8: P | M8: P | P8: P | Q8: X | R8: P | S8: P | T8: P | U8: X | W8: X | X8: X | Y8: X | Z8: X | AA8: X | AD8: X | AE8: X | AF8: X | AG8: X | AH8: X | AI8: =COUNTIF(D8:AH8,"X")+COUNTIF(D8:AH8,"Tr")+COUNTIF(D8:AH8,"BL") -> 15
A9: 4 | B9: NGUYỄN THANH | C9: SƠN B | D9: P | E9: P | F9: P | I9: P | J9: P | K9: P | L9: P | M9: P | P9: X | Q9: X | R9: X | S9: X | T9: X | U9: X | W9: X | X9: X | Y9: X | Z9: X | AA9: X | AD9: X | AE9: X | AF9: X | AG9: X | AH9: X | AI9: =COUNTIF(D9:AH9,"X")+COUNTIF(D9:AH9,"Tr")+COUNTIF(D9:AH9,"BL") -> 16
A10: 5 | B10: NGUYỄN YẾN | C10: NHI | D10: X | E10: X | F10: X | G10: X | I10: X | J10: X | K10: X | L10: X | M10: X | N10: X | P10: X | Q10: X | R10: X | S10: X | T10: X | U10: X | W10: X | X10: X | Y10: X | Z10: X | AA10: X | AB10: X | AD10: X | AE10: X | AF10: X | AG10: X | AH10: X | AI10: =COUNTIF(D10:AH10,"X")+COUNTIF(D10:AH10,"Tr")+COUNTIF(D10:AH10,"BL") -> 27
A11: 6 | B11: NGUYỄN THỊ | C11: THU | D11: Ro | E11: Ro | F11: Ro | I11: Ro | J11: Ro | K11: Ro | L11: Ro | M11: Ro | P11: P | Q11: P | R11: P | S11: X | T11: X | W11: X | X11: X | Y11: X | Z11: X | AA11: X | AD11: X | AE11: B7 | AF11: X | AG11: P | AH11: X | AI11: =COUNTIF(D11:AH11,"X")+COUNTIF(D11:AH11,"Tr")+COUNTIF(D11:AH11,"BL") -> 10
A12: 7 | B12: NGUYỄN CHÍ | C12: NHÂN | D12: X | E12: X | F12: X | I12: X | J12: X | K12: X | L12: X | M12: X | P12: X | Q12: X | R12: X | S12: X | T12: X | U12: X | W12: CĐ | X12: CĐ | Y12: CĐ | Z12: P | AA12: X | AB12: X | AD12: X | AE12: X | AF12: X | AG12: X | AH12: X | AI12: =COUNTIF(D12:AH12,"X")+COUNTIF(D12:AH12,"Tr")+COUNTIF(D12:AH12,"BL") -> 21
A13: 8 | B13: VŨ THỊ THU | C13: THUỶ | D13: X | E13: X | F13: X | I13: X | J13: X | K13: X | L13: X | M13: X | P13: X | Q13: X | R13: X | S13: X | T13: X | U13: X | W13: X | X13: X | Y13: X | Z13: X | AA13: X | AB13: X | AD13: X | AE13: X | AF13: X | AG13: X | AH13: X | AI13: =COUNTIF(D13:AH13,"X")+COUNTIF(D13:AH13,"Tr")+COUNTIF(D13:AH13,"BL") -> 25
B15: KÝ HIỆU: | C15: LÀM VIỆC | I15: X | L15: NGHỈ PHÉP | R15: P | U15: NGHỈ CON ỐM | AB15: CÔ | AE15: NGHỈ KHÔNG LƯƠNG Ro
C16: TRỰC TRƯỜNG | I16: Tr | L16: NGHỈ TAI NẠN LĐ | R16: T | U16: NGHỈ VIỆC RIÊNG | AB16: R | AE16: NGHỈ KHÔNG PHÉP KP
C17: ĐI HỌC | I17: Ho | L17: NGHỈ ỐM | R17: Ô | U17: NGHỈ LỄ , TẾT | AB17: L | AE17: NGHỈ THAI SẢN S
C18: Chủ nhật | L18: NGHỈ, LÀM BÙ THỨ 7 | R18: B7 | U18: DU LỊCH HÈ | AB18: DL | AE18: NGHỈ CHẾ ĐỘ CĐ
B19: Ghi chú: Ngày 28/07 Cô Thu báo ốm, xin nghỉ và làm bù vào thứ bảy ngày 01/08 | V19: ="Ngày "&DAY(EOMONTH(D4,P2))&" tháng "&MONTH(P2)&" năm "&YEAR(T2) -> Ngày 31 tháng 7 năm 2015
C20: TRƯỞNG ĐƠN VỊ | W20: NGƯỜI CHẤM CÔNG
C24: HÀ PHƯỚC TUẤN | W24: HÀ PHƯỚC TUẤN

Sheet T08-2015
A1: TRƯỜNG CĐKT LÝ TƯ TRỌNG TP.HCM | J1: BẢNG CHẤM CÔNG
A2: ĐƠN VỊ : PHÒNG KT&ĐBCL | M2: THÁNG | P2: =D4 -> 42217 | R2: NĂM | T2: =D4 -> 42217
A4: STT | B4: HỌ VÀ TÊN | D4: 42217 | E4: =D4+1 -> 42218 | F4: =E4+1 -> 42219 | G4: =F4+1 -> 42220 | H4: =G4+1 -> 42221 | I4: =H4+1 -> 42222 | J4: =I4+1 -> 42223 | K4: =J4+1 -> 42224 | L4: =K4+1 -> 42225 | ... AH4: =AG4+1 -> 42247 | AI4: TS.NGÀY LV
C5: THỨ | D5: =IF(WEEKDAY(D4)=1,"CN",IF(WEEKDAY(D4)=2,"T2",IF(WEEKDAY(D4)=3,"T3",IF(WEEKDAY(D4)=4,"T4",IF(WEEKDAY(D4)=5,"T5",IF(WEEKDAY(D4)=6,"T6","T7")))))) -> T7 | E5: =IF(WEEKDAY(E4)=1,"CN",IF(WEEKDAY(E4)=2,"T2",IF(WEEKDAY(E4)=3,"T3",IF(WEEKDAY(E4)=4,"T4",IF(WEEKDAY(E4)=5,"T5",IF(WEEKDAY(E4)=6,"T6","T7")))))) -> CN | F5: =IF(WEEKDAY(F4)=1,"CN",IF(WEEKDAY(F4)=2,"T2",IF(WEEKDAY(F4)=3,"T3",IF(WEEKDAY(F4)=4,"T4",IF(WEEKDAY(F4)=5,"T5",IF(WEEKDAY(F4)=6,"T6","T7")))))) -> T2 | G5: =IF(WEEKDAY(G4)=1,"CN",IF(WEEKDAY(G4)=2,"T2",IF(WEEKDAY(G4)=3,"T3",IF(WEEKDAY(G4)=4,"T4",IF(WEEKDAY(G4)=5,"T5",IF(WEEKDAY(G4)=6,"T6","T7")))))) -> T3 | H5: =IF(WEEKDAY(H4)=1,"CN",IF(WEEKDAY(H4)=2,"T2",IF(WEEKDAY(H4)=3,"T3",IF(WEEKDAY(H4)=4,"T4",IF(WEEKDAY(H4)=5,"T5",IF(WEEKDAY(H4)=6,"T6","T7")))))) -> T4 | I5: =IF(WEEKDAY(I4)=1,"CN",IF(WEEKDAY(I4)=2,"T2",IF(WEEKDAY(I4)=3,"T3",IF(WEEKDAY(I4)=4,"T4",IF(WEEKDAY(I4)=5,"T5",IF(WEEKDAY(I4)=6,"T6","T7")))))) -> T5 | J5: =IF(WEEKDAY(J4)=1,"CN",IF(WEEKDAY(J4)=2,"T2",IF(WEEKDAY(J4)=3,"T3",IF(WEEKDAY(J4)=4,"T4",IF(WEEKDAY(J4)=5,"T5",IF(WEEKDAY(J4)=6,"T6","T7")))))) -> T6 | K5: =IF(WEEKDAY(K4)=1,"CN",IF(WEEKDAY(K4)=2,"T2",IF(WEEKDAY(K4)=3,"T3",IF(WEEKDAY(K4)=4,"T4",IF(WEEKDAY(K4)=5,"T5",IF(WEEKDAY(K4)=6,"T6","T7")))))) -> T7 | ... AH5: =IF(WEEKDAY(AH4)=1,"CN",IF(WEEKDAY(AH4)=2,"T2",IF(WEEKDAY(AH4)=3,"T3",IF(WEEKDAY(AH4)=4,"T4",IF(WEEKDAY(AH4)=5,"T5",IF(WEEKDAY(AH4)=6,"T6","T7")))))) -> T2
A6: 1 | B6: HÀ PHƯỚC | C6: TUẤN | D6: X | F6: X | G6: X | H6: X | I6: X | J6: X | K6: X | M6: X | N6: X | O6: X | P6: X | Q6: X | R6: X | T6: X | U6: X | V6: X | W6: X | X6: X | Y6: X | AA6: X | AB6: X | AC6: X | AD6: X | AE6: X | AF6: X | AH6: X | AI6: =COUNTIF(D6:AH6,"X")+COUNTIF(D6:AH6,"Tr")+COUNTIF(D6:AH6,"BL") -> 26
A7: 2 | B7: VÕ THỊ ANH | C7: ĐÀO | D7: X | F7: X | G7: X | H7: X | I7: X | J7: X | M7: X | N7: X | O7: X | P7: X | Q7: X | R7: X | T7: X | U7: X | V7: X | W7: X | X7: X | AA7: X | AB7: X | AC7: X | AD7: X | AE7: X | AH7: X | AI7: =COUNTIF(D7:AH7,"X")+COUNTIF(D7:AH7,"Tr")+COUNTIF(D7:AH7,"BL") -> 23
A8: 3 | B8: NGUYỄN VĂN | C8: SƠN | F8: P | G8: P | H8: P | I8: P | J8: P | M8: X | N8: X | O8: X | P8: X | Q8: X | T8: X | U8: X | V8: X | W8: X | X8: P | AA8: P | AB8: P | AC8: P | AD8: P | AE8: P | AH8: P | AI8: =COUNTIF(D8:AH8,"X")+COUNTIF(D8:AH8,"Tr")+COUNTIF(D8:AH8,"BL") -> 9
A9: 4 | B9: NGUYỄN THANH | C9: SƠN B | F9: P | G9: P | H9: P | I9: P | J9: P | M9: X | N9: X | O9: X | P9: X | Q9: X | T9: X | U9: X | V9: X | W9: X | X9: X | AA9: X | AB9: X | AC9: X | AD9: X | AE9: X | AH9: X | AI9: =COUNTIF(D9:AH9,"X")+COUNTIF(D9:AH9,"Tr")+COUNTIF(D9:AH9,"BL") -> 16
A10: 5 | B10: NGUYỄN YẾN | C10: NHI | D10: X | F10: X | G10: X | H10: X | I10: X | J10: X | K10: X | M10: X | N10: X | O10: X | P10: X | Q10: X | R10: X | T10: X | U10: X | V10: P | W10: P | X10: P | Y10: P | AA10: P | AB10: P | AC10: P | AD10: X | AE10: X | AF10: X | AH10: X | AI10: =COUNTIF(D10:AH10,"X")+COUNTIF(D10:AH10,"Tr")+COUNTIF(D10:AH10,"BL") -> 19
A11: 6 | B11: NGUYỄN THỊ | C11: THU | D11: X | F11: X | G11: X | H11: X | I11: X | J11: X | M11: B7 | N11: X | O11: X | P11: X | Q11: X | R11: X | T11: X | U11: X | V11: X | W11: X | X11: X | AA11: X | AB11: X | AC11: X | AD11: X | AE11: X | AH11: X | AI11: =COUNTIF(D11:AH11,"X")+COUNTIF(D11:AH11,"Tr")+COUNTIF(D11:AH11,"BL") -> 22
A12: 7 | B12: NGUYỄN CHÍ | C12: NHÂN | D12: X | F12: X | G12: X | H12: X | I12: X | J12: X | K12: X | M12: X | N12: X | O12: X | P12: X | Q12: X | R12: X | T12: X | U12: X | V12: X | W12: P | X12: X | Y12: X | AA12: X | AB12: X | AC12: X | AD12: X | AE12: X | AF12: X | AH12: X | AI12: =COUNTIF(D12:AH12,"X")+COUNTIF(D12:AH12,"Tr")+COUNTIF(D12:AH12,"BL") -> 25
A13: 8 | B13: VŨ THỊ THU | C13: THUỶ | D13: X | F13: X | G13: X | H13: X | I13: X | J13: X | M13: X | N13: X | O13: X | P13: X | Q13: X | R13: X | T13: X | U13: X | V13: X | W13: P | X13: P | AA13: P | AB13: P | AC13: X | AD13: P | AE13: X | AF13: X | AH13: X | AI13: =COUNTIF(D13:AH13,"X")+COUNTIF(D13:AH13,"Tr")+COUNTIF(D13:AH13,"BL") -> 19
B15: KÝ HIỆU: | C15: LÀM VIỆC | I15: X | L15: NGHỈ PHÉP | R15: P | U15: NGHỈ CON ỐM | AB15: CÔ | AE15: NGHỈ KHÔNG LƯƠNG Ro
C16: TRỰC TRƯỜNG | I16: Tr | L16: NGHỈ TAI NẠN LĐ | R16: T | U16: NGHỈ VIỆC RIÊNG | AB16: R | AE16: NGHỈ KHÔNG PHÉP KP
C17: ĐI HỌC | I17: Ho | L17: NGHỈ ỐM | R17: Ô | U17: NGHỈ LỄ , TẾT | AB17: L | AE17: NGHỈ THAI SẢN S
C18: Chủ nhật | L18: NGHỈ, LÀM BÙ THỨ 7 | R18: B7
B19: Ghi chú: Ngày 10/08 Cô Thu báo ốm, xin nghỉ và làm bù vào thứ bảy ngày 15/08 | V19: ="Ngày "&DAY(EOMONTH(D4,P2))-1&" tháng "&MONTH(P2)&" năm "&YEAR(T2) -> Ngày 29 tháng 8 năm 2015
C20: TRƯỞNG ĐƠN VỊ | W20: NGƯỜI CHẤM CÔNG
C24: HÀ PHƯỚC TUẤN | W24: HÀ PHƯỚC TUẤN

Sheet T09-2015
A1: TRƯỜNG CĐKT LÝ TƯ TRỌNG TP.HCM | J1: BẢNG CHẤM CÔNG
A2: ĐƠN VỊ : PHÒNG KT&ĐBCL | M2: THÁNG | P2: =D4 -> 42248 | R2: NĂM | T2: =D4 -> 42248
A4: STT | B4: HỌ VÀ TÊN | D4: 42248 | E4: =D4+1 -> 42249 | F4: =E4+1 -> 42250 | G4: =F4+1 -> 42251 | H4: =G4+1 -> 42252 | I4: =H4+1 -> 42253 | J4: =I4+1 -> 42254 | K4: =J4+1 -> 42255 | L4: =K4+1 -> 42256 | ... AH4: =AG4+1 -> 42278 | AI4: TS.NGÀY LV
C5: THỨ | D5: =IF(WEEKDAY(D4)=1,"CN",IF(WEEKDAY(D4)=2,"T2",IF(WEEKDAY(D4)=3,"T3",IF(WEEKDAY(D4)=4,"T4",IF(WEEKDAY(D4)=5,"T5",IF(WEEKDAY(D4)=6,"T6","T7")))))) -> T3 | E5: =IF(WEEKDAY(E4)=1,"CN",IF(WEEKDAY(E4)=2,"T2",IF(WEEKDAY(E4)=3,"T3",IF(WEEKDAY(E4)=4,"T4",IF(WEEKDAY(E4)=5,"T5",IF(WEEKDAY(E4)=6,"T6","T7")))))) -> T4 | F5: =IF(WEEKDAY(F4)=1,"CN",IF(WEEKDAY(F4)=2,"T2",IF(WEEKDAY(F4)=3,"T3",IF(WEEKDAY(F4)=4,"T4",IF(WEEKDAY(F4)=5,"T5",IF(WEEKDAY(F4)=6,"T6","T7")))))) -> T5 | G5: =IF(WEEKDAY(G4)=1,"CN",IF(WEEKDAY(G4)=2,"T2",IF(WEEKDAY(G4)=3,"T3",IF(WEEKDAY(G4)=4,"T4",IF(WEEKDAY(G4)=5,"T5",IF(WEEKDAY(G4)=6,"T6","T7")))))) -> T6 | H5: =IF(WEEKDAY(H4)=1,"CN",IF(WEEKDAY(H4)=2,"T2",IF(WEEKDAY(H4)=3,"T3",IF(WEEKDAY(H4)=4,"T4",IF(WEEKDAY(H4)=5,"T5",IF(WEEKDAY(H4)=6,"T6","T7")))))) -> T7 | I5: =IF(WEEKDAY(I4)=1,"CN",IF(WEEKDAY(I4)=2,"T2",IF(WEEKDAY(I4)=3,"T3",IF(WEEKDAY(I4)=4,"T4",IF(WEEKDAY(I4)=5,"T5",IF(WEEKDAY(I4)=6,"T6","T7")))))) -> CN | J5: =IF(WEEKDAY(J4)=1,"CN",IF(WEEKDAY(J4)=2,"T2",IF(WEEKDAY(J4)=3,"T3",IF(WEEKDAY(J4)=4,"T4",IF(WEEKDAY(J4)=5,"T5",IF(WEEKDAY(J4)=6,"T6","T7")))))) -> T2 | K5: =IF(WEEKDAY(K4)=1,"CN",IF(WEEKDAY(K4)=2,"T2",IF(WEEKDAY(K4)=3,"T3",IF(WEEKDAY(K4)=4,"T4",IF(WEEKDAY(K4)=5,"T5",IF(WEEKDAY(K4)=6,"T6","T7")))))) -> T3 | ... AH5: =IF(WEEKDAY(AH4)=1,"CN",IF(WEEKDAY(AH4)=2,"T2",IF(WEEKDAY(AH4)=3,"T3",IF(WEEKDAY(AH4)=4,"T4",IF(WEEKDAY(AH4)=5,"T5",IF(WEEKDAY(AH4)=6,"T6","T7")))))) -> T5
A6: 1 | B6: HÀ PHƯỚC | C6: TUẤN | D6: X | F6: X | G6: X | H6: X | J6: X | K6: X | L6: X | M6: X | N6: X | O6: X | Q6: X | R6: X | S6: X | T6: X | U6: X | V6: X | X6: X | Y6: X | Z6: X | AA6: X | AB6: X | AC6: X | AE6: X | AF6: X | AG6: X | AI6: =COUNTIF(D6:AH6,"X")+COUNTIF(D6:AH6,"Tr")+COUNTIF(D6:AH6,"BL") -> 25
A7: 2 | B7: VÕ THỊ ANH | C7: ĐÀO | D7: X | F7: X | G7: X | H7: X | J7: X | K7: X | L7: X | M7: X | N7: X | Q7: X | R7: X | S7: X | T7: X | U7: X | V7: X | X7: X | Y7: X | Z7: X | AA7: X | AB7: X | AE7: X | AF7: X | AG7: X | AI7: =COUNTIF(D7:AH7,"X")+COUNTIF(D7:AH7,"Tr")+COUNTIF(D7:AH7,"BL") -> 23
A8: 3 | B8: NGUYỄN VĂN | C8: SƠN | D8: X | F8: X | G8: X | J8: X | K8: X | L8: X | M8: X | N8: X | Q8: X | R8: X | S8: X | T8: X | U8: X | X8: X | Y8: X | Z8: X | AA8: X | AB8: X | AE8: X | AF8: X | AG8: X | AI8: =COUNTIF(D8:AH8,"X")+COUNTIF(D8:AH8,"Tr")+COUNTIF(D8:AH8,"BL") -> 21
A9: 4 | B9: NGUYỄN THANH | C9: SƠN B | D9: X | F9: X | G9: X | J9: X | K9: X | L9: X | M9: X | N9: X | Q9: X | R9: X | S9: X | T9: X | U9: X | X9: X | Y9: X | Z9: X | AA9: X | AB9: X | AE9: X | AF9: X | AG9: X | AI9: =COUNTIF(D9:AH9,"X")+COUNTIF(D9:AH9,"Tr")+COUNTIF(D9:AH9,"BL") -> 21
A10: 5 | B10: NGUYỄN YẾN | C10: NHI | D10: X | F10: X | G10: X | H10: X | J10: X | K10: X | L10: X | M10: X | N10: X | O10: X | Q10: X | R10: X | S10: X | T10: X | U10: X | V10: X | X10: X | Y10: X | Z10: X | AA10: X | AB10: X | AC10: X | AE10: X | AF10: X | AG10: X | AI10: =COUNTIF(D10:AH10,"X")+COUNTIF(D10:AH10,"Tr")+COUNTIF(D10:AH10,"BL") -> 25
A11: 6 | B11: NGUYỄN THỊ | C11: THU | D11: B7 | F11: X | G11: X | H11: X | J11: X | K11: B7 | L11: X | M11: X | N11: X | O11: X | Q11: X | R11: X | S11: B7 | T11: X | U11: X | V11: X | X11: B7 | Y11: P | Z11: P | AA11: X | AB11: X | AC11: X | AE11: X | AF11: X | AG11: X | AI11: =COUNTIF(D11:AH11,"X")+COUNTIF(D11:AH11,"Tr")+COUNTIF(D11:AH11,"BL") -> 19
A12: 7 | B12: NGUYỄN CHÍ | C12: NHÂN | D12: X | F12: X | G12: X | H12: X | J12: X | K12: X | L12: X | M12: X | N12: X | O12: X | Q12: X | R12: X | S12: X | T12: X | U12: X | V12: X | X12: X | Y12: X | Z12: X | AA12: X | AB12: X | AC12: X | AE12: X | AF12: X | AG12: X | AI12: =COUNTIF(D12:AH12,"X")+COUNTIF(D12:AH12,"Tr")+COUNTIF(D12:AH12,"BL") -> 25
A13: 8 | B13: VŨ THỊ THU | C13: THUỶ | D13: X | F13: X | G13: X | J13: X | K13: X | L13: X | M13: X | N13: X | Q13: X | R13: X | S13: X | T13: X | U13: X | X13: B7 | Y13: X | Z13: X | AA13: X | AB13: X | AC13: X | AE13: X | AF13: X | AG13: X | AI13: =COUNTIF(D13:AH13,"X")+COUNTIF(D13:AH13,"Tr")+COUNTIF(D13:AH13,"BL") -> 21
B15: KÝ HIỆU: | C15: LÀM VIỆC | I15: X | L15: NGHỈ PHÉP | R15: P | U15: NGHỈ CON ỐM | AB15: CÔ | AE15: NGHỈ KHÔNG LƯƠNG Ro
C16: TRỰC TRƯỜNG | I16: Tr | L16: NGHỈ TAI NẠN LĐ | R16: T | U16: NGHỈ VIỆC RIÊNG | AB16: R | AE16: NGHỈ KHÔNG PHÉP KP
C17: ĐI HỌC | I17: Ho | L17: NGHỈ ỐM | R17: Ô | U17: NGHỈ LỄ , TẾT | AB17: L | AE17: NGHỈ THAI SẢN S
C18: Chủ nhật | L18: LÀM BÙ LỄ | R18: BL | U18: CHUYỂN LÀM BÙ THỨ 7 | AB18: B7
V19: ="Ngày "&DAY(EOMONTH(D4,P2))-1&" tháng "&MONTH(P2)&" năm "&YEAR(T2) -> Ngày 30 tháng 9 năm 2015
C20: TRƯỞNG ĐƠN VỊ | W20: NGƯỜI CHẤM CÔNG
C24: HÀ PHƯỚC TUẤN | W24: HÀ PHƯỚC TUẤN

Sheet T10-2015
A1: TRƯỜNG CĐKT LÝ TƯ TRỌNG TP.HCM | J1: BẢNG CHẤM CÔNG
A2: ĐƠN VỊ : PHÒNG KT&ĐBCL | M2: THÁNG | P2: =D4 -> 42278 | R2: NĂM | T2: =D4 -> 42278
A4: STT | B4: HỌ VÀ TÊN | D4: 42278 | E4: =D4+1 -> 42279 | F4: =E4+1 -> 42280 | G4: =F4+1 -> 42281 | H4: =G4+1 -> 42282 | I4: =H4+1 -> 42283 | J4: =I4+1 -> 42284 | K4: =J4+1 -> 42285 | L4: =K4+1 -> 42286 | ... AH4: =AG4+1 -> 42308 | AI4: TS.NGÀY LV
C5: THỨ | D5: =IF(WEEKDAY(D4)=1,"CN",IF(WEEKDAY(D4)=2,"T2",IF(WEEKDAY(D4)=3,"T3",IF(WEEKDAY(D4)=4,"T4",IF(WEEKDAY(D4)=5,"T5",IF(WEEKDAY(D4)=6,"T6","T7")))))) -> T5 | E5: =IF(WEEKDAY(E4)=1,"CN",IF(WEEKDAY(E4)=2,"T2",IF(WEEKDAY(E4)=3,"T3",IF(WEEKDAY(E4)=4,"T4",IF(WEEKDAY(E4)=5,"T5",IF(WEEKDAY(E4)=6,"T6","T7")))))) -> T6 | F5: =IF(WEEKDAY(F4)=1,"CN",IF(WEEKDAY(F4)=2,"T2",IF(WEEKDAY(F4)=3,"T3",IF(WEEKDAY(F4)=4,"T4",IF(WEEKDAY(F4)=5,"T5",IF(WEEKDAY(F4)=6,"T6","T7")))))) -> T7 | G5: =IF(WEEKDAY(G4)=1,"CN",IF(WEEKDAY(G4)=2,"T2",IF(WEEKDAY(G4)=3,"T3",IF(WEEKDAY(G4)=4,"T4",IF(WEEKDAY(G4)=5,"T5",IF(WEEKDAY(G4)=6,"T6","T7")))))) -> CN | H5: =IF(WEEKDAY(H4)=1,"CN",IF(WEEKDAY(H4)=2,"T2",IF(WEEKDAY(H4)=3,"T3",IF(WEEKDAY(H4)=4,"T4",IF(WEEKDAY(H4)=5,"T5",IF(WEEKDAY(H4)=6,"T6","T7")))))) -> T2 | I5: =IF(WEEKDAY(I4)=1,"CN",IF(WEEKDAY(I4)=2,"T2",IF(WEEKDAY(I4)=3,"T3",IF(WEEKDAY(I4)=4,"T4",IF(WEEKDAY(I4)=5,"T5",IF(WEEKDAY(I4)=6,"T6","T7")))))) -> T3 | J5: =IF(WEEKDAY(J4)=1,"CN",IF(WEEKDAY(J4)=2,"T2",IF(WEEKDAY(J4)=3,"T3",IF(WEEKDAY(J4)=4,"T4",IF(WEEKDAY(J4)=5,"T5",IF(WEEKDAY(J4)=6,"T6","T7")))))) -> T4 | K5: =IF(WEEKDAY(K4)=1,"CN",IF(WEEKDAY(K4)=2,"T2",IF(WEEKDAY(K4)=3,"T3",IF(WEEKDAY(K4)=4,"T4",IF(WEEKDAY(K4)=5,"T5",IF(WEEKDAY(K4)=6,"T6","T7")))))) -> T5 | ... AH5: =IF(WEEKDAY(AH4)=1,"CN",IF(WEEKDAY(AH4)=2,"T2",IF(WEEKDAY(AH4)=3,"T3",IF(WEEKDAY(AH4)=4,"T4",IF(WEEKDAY(AH4)=5,"T5",IF(WEEKDAY(AH4)=6,"T6","T7")))))) -> T7
A6: 1 | B6: HÀ PHƯỚC | C6: TUẤN | D6: X | E6: X | F6: X | H6: X | I6: X | J6: X | K6: X | L6: X | M6: X | O6: X | P6: X | Q6: X | R6: X | S6: X | T6: X | V6: X | W6: X | X6: X | Y6: X | Z6: X | AA6: X | AC6: X | AD6: X | AE6: X | AF6: X | AG6: X | AH6: X | AI6: =COUNTIF(D6:AH6,"X")+COUNTIF(D6:AH6,"Tr")+COUNTIF(D6:AH6,"BL") -> 27
A7: 2 | B7: VÕ THỊ ANH | C7: ĐÀO | D7: X | E7: X | H7: X | I7: X | J7: X | K7: X | L7: X | O7: X | P7: X | Q7: X | R7: X | S7: X | T7: X | V7: X | W7: X | X7: X | Y7: X | Z7: X | AC7: X | AD7: X | AE7: X | AF7: X | AG7: X | AH7: X | AI7: =COUNTIF(D7:AH7,"X")+COUNTIF(D7:AH7,"Tr")+COUNTIF(D7:AH7,"BL") -> 24
A8: 3 | B8: NGUYỄN VĂN | C8: SƠN | D8: X | E8: X | H8: X | I8: X | J8: X | K8: X | L8: X | O8: X | P8: X | Q8: X | R8: X | S8: X | T8: X | V8: X | W8: X | X8: X | Y8: X | Z8: X | AC8: X | AD8: X | AE8: X | AF8: X | AG8: X | AH8: X | AI8: =COUNTIF(D8:AH8,"X")+COUNTIF(D8:AH8,"Tr")+COUNTIF(D8:AH8,"BL") -> 24
A9: 4 | B9: NGUYỄN THANH | C9: SƠN B | D9: X | E9: X | H9: X | I9: X | J9: X | K9: X | L9: X | O9: X | P9: X | Q9: X | R9: X | S9: X | T9: X | V9: X | W9: X | X9: X | Y9: X | Z9: X | AC9: X | AD9: X | AE9: X | AF9: X | AG9: X | AH9: X | AI9: =COUNTIF(D9:AH9,"X")+COUNTIF(D9:AH9,"Tr")+COUNTIF(D9:AH9,"BL") -> 24
A10: 5 | B10: NGUYỄN YẾN | C10: NHI | D10: X | E10: X | F10: P | H10: X | I10: X | J10: X | K10: X | L10: X | M10: X | O10: X | P10: X | Q10: X | R10: X | S10: X | T10: X | V10: X | W10: X | X10: X | Y10: X | Z10: X | AA10: X | AC10: X | AD10: X | AE10: X | AF10: X | AG10: X | AH10: P | AI10: =COUNTIF(D10:AH10,"X")+COUNTIF(D10:AH10,"Tr")+COUNTIF(D10:AH10,"BL") -> 25
A11: 6 | B11: NGUYỄN THỊ | C11: THU | D11: X | E11: X | H11: X | I11: X | J11: X | K11: X | L11: X | O11: X | P11: X | Q11: X | R11: X | AI11: =COUNTIF(D11:AH11,"X")+COUNTIF(D11:AH11,"Tr")+COUNTIF(D11:AH11,"BL") -> 11
A12: 7 | B12: NGUYỄN CHÍ | C12: NHÂN | D12: X | E12: X | F12: X | H12: X | I12: X | J12: X | K12: X | L12: X | M12: X | O12: X | P12: X | Q12: X | R12: X | S12: X | T12: X | V12: X | W12: X | X12: X | Y12: X | Z12: X | AA12: X | AC12: X | AD12: X | AE12: X | AF12: X | AG12: X | AH12: X | AI12: =COUNTIF(D12:AH12,"X")+COUNTIF(D12:AH12,"Tr")+COUNTIF(D12:AH12,"BL") -> 27
A13: 8 | B13: VŨ THỊ THU | C13: THUỶ | D13: X | E13: X | F13: X | H13: B7 | I13: X | J13: X | K13: X | L13: X | M13: X | O13: X | P13: X | Q13: X | R13: X | S13: X | T13: X | V13: X | W13: X | X13: X | Y13: P | Z13: X | AC13: X | AD13: X | AE13: P | AF13: X | AG13: X | AH13: X | AI13: =COUNTIF(D13:AH13,"X")+COUNTIF(D13:AH13,"Tr")+COUNTIF(D13:AH13,"BL") -> 23
B15: KÝ HIỆU: | C15: LÀM VIỆC | I15: X | L15: NGHỈ PHÉP | R15: P | U15: NGHỈ CON ỐM | AB15: CÔ | AE15: NGHỈ KHÔNG LƯƠNG Ro
C16: TRỰC TRƯỜNG | I16: Tr | L16: NGHỈ TAI NẠN LĐ | R16: T | U16: NGHỈ VIỆC RIÊNG | AB16: R | AE16: NGHỈ KHÔNG PHÉP KP
C17: ĐI HỌC | I17: Ho | L17: NGHỈ ỐM | R17: Ô | U17: NGHỈ LỄ , TẾT | AB17: L | AE17: NGHỈ THAI SẢN S
C18: Chủ nhật | L18: LÀM BÙ LỄ | R18: BL | U18: CHUYỂN LÀM BÙ THỨ 7 | AB18: B7
B19: Ghi chú: Ngày 17/10 Hội nghị CB-VC phòng | V19: ="Ngày "&DAY(EOMONTH(D4,P2))&" tháng "&MONTH(P2)&" năm "&YEAR(T2) -> Ngày 31 tháng 10 năm 2015
C20: TRƯỞNG ĐƠN VỊ | W20: NGƯỜI CHẤM CÔNG
C24: HÀ PHƯỚC TUẤN | W24: HÀ PHƯỚC TUẤN

Sheet T11-2015
A1: TRƯỜNG CĐKT LÝ TƯ TRỌNG TP.HCM | J1: BẢNG CHẤM CÔNG
A2: ĐƠN VỊ : PHÒNG KT&ĐBCL | M2: THÁNG | P2: =D4 -> 42309 | R2: NĂM | T2: =D4 -> 42309
A4: STT | B4: HỌ VÀ TÊN | D4: 42309 | E4: =D4+1 -> 42310 | F4: =E4+1 -> 42311 | G4: =F4+1 -> 42312 | H4: =G4+1 -> 42313 | I4: =H4+1 -> 42314 | J4: =I4+1 -> 42315 | K4: =J4+1 -> 42316 | L4: =K4+1 -> 42317 | ... AH4: =AG4+1 -> 42339 | AI4: TS.NGÀY LV
C5: THỨ | D5: =IF(WEEKDAY(D4)=1,"CN",IF(WEEKDAY(D4)=2,"T2",IF(WEEKDAY(D4)=3,"T3",IF(WEEKDAY(D4)=4,"T4",IF(WEEKDAY(D4)=5,"T5",IF(WEEKDAY(D4)=6,"T6","T7")))))) -> CN | E5: =IF(WEEKDAY(E4)=1,"CN",IF(WEEKDAY(E4)=2,"T2",IF(WEEKDAY(E4)=3,"T3",IF(WEEKDAY(E4)=4,"T4",IF(WEEKDAY(E4)=5,"T5",IF(WEEKDAY(E4)=6,"T6","T7")))))) -> T2 | F5: =IF(WEEKDAY(F4)=1,"CN",IF(WEEKDAY(F4)=2,"T2",IF(WEEKDAY(F4)=3,"T3",IF(WEEKDAY(F4)=4,"T4",IF(WEEKDAY(F4)=5,"T5",IF(WEEKDAY(F4)=6,"T6","T7")))))) -> T3 | G5: =IF(WEEKDAY(G4)=1,"CN",IF(WEEKDAY(G4)=2,"T2",IF(WEEKDAY(G4)=3,"T3",IF(WEEKDAY(G4)=4,"T4",IF(WEEKDAY(G4)=5,"T5",IF(WEEKDAY(G4)=6,"T6","T7")))))) -> T4 | H5: =IF(WEEKDAY(H4)=1,"CN",IF(WEEKDAY(H4)=2,"T2",IF(WEEKDAY(H4)=3,"T3",IF(WEEKDAY(H4)=4,"T4",IF(WEEKDAY(H4)=5,"T5",IF(WEEKDAY(H4)=6,"T6","T7")))))) -> T5 | I5: =IF(WEEKDAY(I4)=1,"CN",IF(WEEKDAY(I4)=2,"T2",IF(WEEKDAY(I4)=3,"T3",IF(WEEKDAY(I4)=4,"T4",IF(WEEKDAY(I4)=5,"T5",IF(WEEKDAY(I4)=6,"T6","T7")))))) -> T6 | J5: =IF(WEEKDAY(J4)=1,"CN",IF(WEEKDAY(J4)=2,"T2",IF(WEEKDAY(J4)=3,"T3",IF(WEEKDAY(J4)=4,"T4",IF(WEEKDAY(J4)=5,"T5",IF(WEEKDAY(J4)=6,"T6","T7")))))) -> T7 | K5: =IF(WEEKDAY(K4)=1,"CN",IF(WEEKDAY(K4)=2,"T2",IF(WEEKDAY(K4)=3,"T3",IF(WEEKDAY(K4)=4,"T4",IF(WEEKDAY(K4)=5,"T5",IF(WEEKDAY(K4)=6,"T6","T7")))))) -> CN | ... AH5: =IF(WEEKDAY(AH4)=1,"CN",IF(WEEKDAY(AH4)=2,"T2",IF(WEEKDAY(AH4)=3,"T3",IF(WEEKDAY(AH4)=4,"T4",IF(WEEKDAY(AH4)=5,"T5",IF(WEEKDAY(AH4)=6,"T6","T7")))))) -> T3
A6: =IF(B6="",1,SUBTOTAL(3,$B6:B$6)) -> 1 | B6: HÀ PHƯỚC | C6: TUẤN | E6: X | F6: X | G6: X | H6: X | I6: X | L6: X | M6: X | N6: X | O6: X | P6: X | S6: X | T6: X | U6: X | V6: L | W6: X | X6: X | Z6: X | AA6: X | AB6: X | AC6: X | AD6: X | AE6: X | AG6: X | AI6: =COUNTIF(D6:AH6,"X")+COUNTIF(D6:AH6,"Tr")+COUNTIF(D6:AH6,"BL") -> 22
A7: =IF(B7="",1,SUBTOTAL(3,$B$6:B7)) -> 2 | B7: VÕ THỊ ANH | C7: ĐÀO | E7: X | F7: X | G7: X | H7: X | I7: X | L7: X | M7: X | N7: X | O7: X | P7: P | S7: P | T7: P | U7: X | V7: L | W7: X | Z7: X | AA7: X | AB7: X | AC7: X | AD7: X | AG7: X | AI7: =COUNTIF(D7:AH7,"X")+COUNTIF(D7:AH7,"Tr")+COUNTIF(D7:AH7,"BL") -> 17
A8: =IF(B8="",1,SUBTOTAL(3,$B$6:B8)) -> 3 | B8: NGUYỄN VĂN | C8: SƠN | E8: X | F8: X | G8: X | H8: X | I8: X | L8: X | M8: X | N8: X | O8: X | P8: X | S8: X | T8: X | U8: X | V8: L | W8: X | Z8: X | AA8: X | AB8: X | AC8: X | AD8: X | AG8: X | AI8: =COUNTIF(D8:AH8,"X")+COUNTIF(D8:AH8,"Tr")+COUNTIF(D8:AH8,"BL") -> 20
A9: =IF(B9="",1,SUBTOTAL(3,$B$6:B9)) -> 4 | B9: NGUYỄN THANH | C9: SƠN B | E9: X | F9: X | G9: X | H9: X | I9: X | L9: X | M9: X | N9: P | O9: P | P9: X | S9: X | T9: X | U9: X | V9: L | W9: X | Z9: X | AA9: X | AB9: X | AC9: X | AD9: X | AG9: X | AI9: =COUNTIF(D9:AH9,"X")+COUNTIF(D9:AH9,"Tr")+COUNTIF(D9:AH9,"BL") -> 18
A10: =IF(B10="",1,SUBTOTAL(3,$B$6:B10)) -> 5 | B10: NGUYỄN YẾN | C10: NHI | E10: X | F10: X | G10: X | H10: X | I10: X | J10: X | L10: X | M10: X | N10: X | O10: X | P10: X | Q10: X | S10: X | T10: X | U10: X | V10: L | W10: X | X10: X | Z10: X | AA10: X | AB10: X | AC10: X | AD10: X | AE10: X | AG10: X | AI10: =COUNTIF(D10:AH10,"X")+COUNTIF(D10:AH10,"Tr")+COUNTIF(D10:AH10,"BL") -> 24
A11: =IF(B11="",1,SUBTOTAL(3,$B$6:B11)) -> 6 | B11: NGUYỄN CHÍ | C11: NHÂN | E11: X | F11: X | G11: X | H11: X | I11: X | J11: X | L11: X | M11: X | N11: X | O11: X | P11: X | Q11: X | S11: X | T11: X | U11: X | V11: L | W11: X | Z11: X | AA11: X | AB11: X | AC11: X | AD11: X | AG11: X | AI11: =COUNTIF(D11:AH11,"X")+COUNTIF(D11:AH11,"Tr")+COUNTIF(D11:AH11,"BL") -> 22
A12: =IF(B12="",1,SUBTOTAL(3,$B$6:B12)) -> 7 | B12: VŨ THỊ THU | C12: THUỶ | E12: X | F12: X | G12: X | H12: X | I12: X | L12: X | M12: X | N12: X | O12: X | P12: X | S12: X | T12: X | U12: X | V12: L | W12: X | Z12: X | AA12: X | AB12: X | AC12: X | AD12: X | AG12: X | AI12: =COUNTIF(D12:AH12,"X")+COUNTIF(D12:AH12,"Tr")+COUNTIF(D12:AH12,"BL") -> 20
B14: KÝ HIỆU: | C14: LÀM VIỆC | I14: X | L14: NGHỈ PHÉP | R14: P | U14: NGHỈ CON ỐM | AB14: CÔ | AE14: NGHỈ KHÔNG LƯƠNG Ro
C15: TRỰC TRƯỜNG | I15: Tr | L15: NGHỈ TAI NẠN LĐ | R15: T | U15: NGHỈ VIỆC RIÊNG | AB15: R | AE15: NGHỈ KHÔNG PHÉP KP
C16: ĐI HỌC | I16: Ho | L16: NGHỈ ỐM | R16: Ô | U16: NGHỈ LỄ , TẾT | AB16: L | AE16: NGHỈ THAI SẢN S
C17: Chủ nhật | L17: LÀM BÙ LỄ | R17: BL
V18: ="Ngày "&DAY(EOMONTH(D4,P2))-1&" tháng "&MONTH(P2)&" năm "&YEAR(T2) -> Ngày 30 tháng 11 năm 2015
C19: TRƯỞNG ĐƠN VỊ | W19: NGƯỜI CHẤM CÔNG
C23: HÀ PHƯỚC TUẤN | W23: HÀ PHƯỚC TUẤN

Sheet T12-2015
A1: TRƯỜNG CĐKT LÝ TƯ TRỌNG TP.HCM | J1: BẢNG CHẤM CÔNG
A2: ĐƠN VỊ : PHÒNG KT&ĐBCL | M2: THÁNG | P2: =D4 -> 42339 | R2: NĂM | T2: =D4 -> 42339
A4: STT | B4: HỌ VÀ TÊN | D4: 42339 | E4: =D4+1 -> 42340 | F4: =E4+1 -> 42341 | G4: =F4+1 -> 42342 | H4: =G4+1 -> 42343 | I4: =H4+1 -> 42344 | J4: =I4+1 -> 42345 | K4: =J4+1 -> 42346 | L4: =K4+1 -> 42347 | ... AH4: =AG4+1 -> 42369 | AI4: TS.NGÀY LV
C5: THỨ | D5: =IF(WEEKDAY(D4)=1,"CN",IF(WEEKDAY(D4)=2,"T2",IF(WEEKDAY(D4)=3,"T3",IF(WEEKDAY(D4)=4,"T4",IF(WEEKDAY(D4)=5,"T5",IF(WEEKDAY(D4)=6,"T6","T7")))))) -> T3 | E5: =IF(WEEKDAY(E4)=1,"CN",IF(WEEKDAY(E4)=2,"T2",IF(WEEKDAY(E4)=3,"T3",IF(WEEKDAY(E4)=4,"T4",IF(WEEKDAY(E4)=5,"T5",IF(WEEKDAY(E4)=6,"T6","T7")))))) -> T4 | F5: =IF(WEEKDAY(F4)=1,"CN",IF(WEEKDAY(F4)=2,"T2",IF(WEEKDAY(F4)=3,"T3",IF(WEEKDAY(F4)=4,"T4",IF(WEEKDAY(F4)=5,"T5",IF(WEEKDAY(F4)=6,"T6","T7")))))) -> T5 | G5: =IF(WEEKDAY(G4)=1,"CN",IF(WEEKDAY(G4)=2,"T2",IF(WEEKDAY(G4)=3,"T3",IF(WEEKDAY(G4)=4,"T4",IF(WEEKDAY(G4)=5,"T5",IF(WEEKDAY(G4)=6,"T6","T7")))))) -> T6 | H5: =IF(WEEKDAY(H4)=1,"CN",IF(WEEKDAY(H4)=2,"T2",IF(WEEKDAY(H4)=3,"T3",IF(WEEKDAY(H4)=4,"T4",IF(WEEKDAY(H4)=5,"T5",IF(WEEKDAY(H4)=6,"T6","T7")))))) -> T7 | I5: =IF(WEEKDAY(I4)=1,"CN",IF(WEEKDAY(I4)=2,"T2",IF(WEEKDAY(I4)=3,"T3",IF(WEEKDAY(I4)=4,"T4",IF(WEEKDAY(I4)=5,"T5",IF(WEEKDAY(I4)=6,"T6","T7")))))) -> CN | J5: =IF(WEEKDAY(J4)=1,"CN",IF(WEEKDAY(J4)=2,"T2",IF(WEEKDAY(J4)=3,"T3",IF(WEEKDAY(J4)=4,"T4",IF(WEEKDAY(J4)=5,"T5",IF(WEEKDAY(J4)=6,"T6","T7")))))) -> T2 | K5: =IF(WEEKDAY(K4)=1,"CN",IF(WEEKDAY(K4)=2,"T2",IF(WEEKDAY(K4)=3,"T3",IF(WEEKDAY(K4)=4,"T4",IF(WEEKDAY(K4)=5,"T5",IF(WEEKDAY(K4)=6,"T6","T7")))))) -> T3 | ... AH5: =IF(WEEKDAY(AH4)=1,"CN",IF(WEEKDAY(AH4)=2,"T2",IF(WEEKDAY(AH4)=3,"T3",IF(WEEKDAY(AH4)=4,"T4",IF(WEEKDAY(AH4)=5,"T5",IF(WEEKDAY(AH4)=6,"T6","T7")))))) -> T5
A6: =IF(B6="",1,SUBTOTAL(3,$B6:B$6)) -> 1 | B6: HÀ PHƯỚC | C6: TUẤN | D6: X | E6: X | F6: X | G6: X | H6: X | J6: X | K6: X | L6: X | M6: X | N6: X | O6: X | Q6: X | R6: X | S6: X | T6: X | U6: X | V6: X | X6: X | Y6: X | Z6: X | AA6: X | AB6: X | AC6: X | AE6: X | AF6: X | AG6: X | AH6: X | AI6: =COUNTIF(D6:AH6,"X")+COUNTIF(D6:AH6,"Tr")+COUNTIF(D6:AH6,"BL") -> 27
A7: =IF(B7="",1,SUBTOTAL(3,$B$6:B7)) -> 2 | B7: VÕ THỊ ANH | C7: ĐÀO | D7: X | E7: X | F7: X | G7: X | J7: X | K7: X | L7: X | M7: X | N7: X | Q7: X | R7: X | S7: X | T7: X | U7: X | X7: X | Y7: X | Z7: X | AA7: X | AB7: X | AE7: X | AF7: X | AG7: X | AH7: X | AI7: =COUNTIF(D7:AH7,"X")+COUNTIF(D7:AH7,"Tr")+COUNTIF(D7:AH7,"BL") -> 23
A8: =IF(B8="",1,SUBTOTAL(3,$B$6:B8)) -> 3 | B8: NGUYỄN VĂN | C8: SƠN | D8: X | E8: X | F8: X | G8: X | J8: X | K8: X | L8: X | M8: X | N8: X | Q8: X | R8: X | S8: X | T8: X | U8: X | X8: X | Y8: X | Z8: X | AA8: X | AB8: X | AE8: X | AF8: X | AG8: X | AH8: X | AI8: =COUNTIF(D8:AH8,"X")+COUNTIF(D8:AH8,"Tr")+COUNTIF(D8:AH8,"BL") -> 23
A9: =IF(B9="",1,SUBTOTAL(3,$B$6:B9)) -> 4 | B9: NGUYỄN THANH | C9: SƠN B | D9: X | E9: X | F9: X | G9: X | J9: X | K9: X | L9: X | M9: X | N9: X | Q9: X | R9: X | S9: X | T9: X | U9: X | X9: X | Y9: X | Z9: X | AA9: X | AB9: X | AE9: X | AF9: X | AG9: X | AH9: X | AI9: =COUNTIF(D9:AH9,"X")+COUNTIF(D9:AH9,"Tr")+COUNTIF(D9:AH9,"BL") -> 23
A10: =IF(B10="",1,SUBTOTAL(3,$B$6:B10)) -> 5 | B10: NGUYỄN YẾN | C10: NHI | D10: X | E10: X | F10: X | G10: X | H10: X | J10: X | K10: X | L10: X | M10: X | N10: X | O10: X | Q10: X | R10: X | S10: X | T10: X | U10: X | V10: X | X10: X | Y10: X | Z10: X | AA10: X | AB10: X | AC10: X | AE10: X | AF10: X | AG10: X | AH10: X | AI10: =COUNTIF(D10:AH10,"X")+COUNTIF(D10:AH10,"Tr")+COUNTIF(D10:AH10,"BL") -> 27
A11: =IF(B11="",1,SUBTOTAL(3,$B$6:B11)) -> 6 | B11: NGUYỄN CHÍ | C11: NHÂN | D11: X | E11: X | F11: X | G11: X | J11: X | K11: X | L11: X | M11: X | N11: X | Q11: X | R11: X | S11: X | T11: X | U11: X | X11: X | Y11: X | Z11: X | AA11: X | AB11: X | AE11: X | AF11: X | AG11: X | AH11: X | AI11: =COUNTIF(D11:AH11,"X")+COUNTIF(D11:AH11,"Tr")+COUNTIF(D11:AH11,"BL") -> 23
A12: =IF(B12="",1,SUBTOTAL(3,$B$6:B12)) -> 7 | B12: VŨ THỊ THU | C12: THUỶ | D12: X | E12: X | F12: X | G12: X | J12: X | K12: X | L12: X | M12: X | N12: X | Q12: X | R12: X | S12: X | T12: X | U12: X | X12: X | Y12: X | Z12: X | AA12: X | AB12: X | AE12: X | AF12: X | AG12: X | AH12: X | AI12: =COUNTIF(D12:AH12,"X")+COUNTIF(D12:AH12,"Tr")+COUNTIF(D12:AH12,"BL") -> 23
B14: KÝ HIỆU: | C14: LÀM VIỆC | I14: X | L14: NGHỈ PHÉP | R14: P | U14: NGHỈ CON ỐM | AB14: CÔ | AE14: NGHỈ KHÔNG LƯƠNG Ro
C15: TRỰC TRƯỜNG | I15: Tr | L15: NGHỈ TAI NẠN LĐ | R15: T | U15: NGHỈ VIỆC RIÊNG | AB15: R | AE15: NGHỈ KHÔNG PHÉP KP
C16: ĐI HỌC | I16: Ho | L16: NGHỈ ỐM | R16: Ô | U16: NGHỈ LỄ , TẾT | AB16: L | AE16: NGHỈ THAI SẢN S
C17: Chủ nhật | L17: LÀM BÙ LỄ | R17: BL
V18: ="Ngày "&DAY(EOMONTH(D4,P2))-1&" tháng "&MONTH(P2)&" năm "&YEAR(T2) -> Ngày 30 tháng 12 năm 2015
C19: TRƯỞNG ĐƠN VỊ | W19: NGƯỜI CHẤM CÔNG
C23: HÀ PHƯỚC TUẤN | W23: HÀ PHƯỚC TUẤN

Sheet T01-2016
A1: TRƯỜNG CĐKT LÝ TƯ TRỌNG TP.HCM | J1: BẢNG CHẤM CÔNG
A2: ĐƠN VỊ : PHÒNG KT&ĐBCL | M2: THÁNG | P2: =D4 -> 42370 | R2: NĂM | T2: =D4 -> 42370
A4: STT | B4: HỌ VÀ TÊN | D4: 42370 | E4: =D4+1 -> 42371 | F4: =E4+1 -> 42372 | G4: =F4+1 -> 42373 | H4: =G4+1 -> 42374 | I4: =H4+1 -> 42375 | J4: =I4+1 -> 42376 | K4: =J4+1 -> 42377 | L4: =K4+1 -> 42378 | ... AH4: =AG4+1 -> 42400 | AI4: TS.NGÀY LV
C5: THỨ | D5: =IF(WEEKDAY(D4)=1,"CN",IF(WEEKDAY(D4)=2,"T2",IF(WEEKDAY(D4)=3,"T3",IF(WEEKDAY(D4)=4,"T4",IF(WEEKDAY(D4)=5,"T5",IF(WEEKDAY(D4)=6,"T6","T7")))))) -> T6 | E5: =IF(WEEKDAY(E4)=1,"CN",IF(WEEKDAY(E4)=2,"T2",IF(WEEKDAY(E4)=3,"T3",IF(WEEKDAY(E4)=4,"T4",IF(WEEKDAY(E4)=5,"T5",IF(WEEKDAY(E4)=6,"T6","T7")))))) -> T7 | F5: =IF(WEEKDAY(F4)=1,"CN",IF(WEEKDAY(F4)=2,"T2",IF(WEEKDAY(F4)=3,"T3",IF(WEEKDAY(F4)=4,"T4",IF(WEEKDAY(F4)=5,"T5",IF(WEEKDAY(F4)=6,"T6","T7")))))) -> CN | G5: =IF(WEEKDAY(G4)=1,"CN",IF(WEEKDAY(G4)=2,"T2",IF(WEEKDAY(G4)=3,"T3",IF(WEEKDAY(G4)=4,"T4",IF(WEEKDAY(G4)=5,"T5",IF(WEEKDAY(G4)=6,"T6","T7")))))) -> T2 | H5: =IF(WEEKDAY(H4)=1,"CN",IF(WEEKDAY(H4)=2,"T2",IF(WEEKDAY(H4)=3,"T3",IF(WEEKDAY(H4)=4,"T4",IF(WEEKDAY(H4)=5,"T5",IF(WEEKDAY(H4)=6,"T6","T7")))))) -> T3 | I5: =IF(WEEKDAY(I4)=1,"CN",IF(WEEKDAY(I4)=2,"T2",IF(WEEKDAY(I4)=3,"T3",IF(WEEKDAY(I4)=4,"T4",IF(WEEKDAY(I4)=5,"T5",IF(WEEKDAY(I4)=6,"T6","T7")))))) -> T4 | J5: =IF(WEEKDAY(J4)=1,"CN",IF(WEEKDAY(J4)=2,"T2",IF(WEEKDAY(J4)=3,"T3",IF(WEEKDAY(J4)=4,"T4",IF(WEEKDAY(J4)=5,"T5",IF(WEEKDAY(J4)=6,"T6","T7")))))) -> T5 | K5: =IF(WEEKDAY(K4)=1,"CN",IF(WEEKDAY(K4)=2,"T2",IF(WEEKDAY(K4)=3,"T3",IF(WEEKDAY(K4)=4,"T4",IF(WEEKDAY(K4)=5,"T5",IF(WEEKDAY(K4)=6,"T6","T7")))))) -> T6 | ... AH5: =IF(WEEKDAY(AH4)=1,"CN",IF(WEEKDAY(AH4)=2,"T2",IF(WEEKDAY(AH4)=3,"T3",IF(WEEKDAY(AH4)=4,"T4",IF(WEEKDAY(AH4)=5,"T5",IF(WEEKDAY(AH4)=6,"T6","T7")))))) -> CN
A6: =IF(B6="",1,SUBTOTAL(3,$B6:B$6)) -> 1 | B6: HÀ PHƯỚC | C6: TUẤN | E6: X | G6: X | H6: X | I6: X | J6: X | K6: X | L6: X | N6: X | O6: X | P6: X | Q6: X | R6: X | S6: X | U6: X | V6: X | W6: X | X6: X | Y6: X | Z6: X | AB6: X | AC6: X | AD6: X | AE6: X | AF6: X | AG6: X | AI6: =COUNTIF(D6:AH6,"X")+COUNTIF(D6:AH6,"Tr")+COUNTIF(D6:AH6,"BL") -> 25
A7: =IF(B7="",1,SUBTOTAL(3,$B$6:B7)) -> 2 | B7: VÕ THỊ ANH | C7: ĐÀO | G7: X | H7: X | I7: X | J7: X | K7: X | N7: X | O7: X | P7: X | Q7: X | R7: X | U7: X | V7: X | W7: X | X7: X | Y7: X | AB7: X | AC7: X | AD7: X | AE7: X | AF7: X | AI7: =COUNTIF(D7:AH7,"X")+COUNTIF(D7:AH7,"Tr")+COUNTIF(D7:AH7,"BL") -> 20
A8: =IF(B8="",1,SUBTOTAL(3,$B$6:B8)) -> 3 | B8: NGUYỄN VĂN | C8: SƠN | G8: X | H8: X | I8: X | J8: X | K8: X | N8: X | O8: X | P8: X | Q8: X | R8: X | U8: X | V8: X | W8: X | X8: X | Y8: X | AB8: X | AC8: X | AD8: X | AE8: X | AF8: X | AI8: =COUNTIF(D8:AH8,"X")+COUNTIF(D8:AH8,"Tr")+COUNTIF(D8:AH8,"BL") -> 20
A9: =IF(B9="",1,SUBTOTAL(3,$B$6:B9)) -> 4 | B9: NGUYỄN THANH | C9: SƠN B | G9: X | H9: X | I9: X | J9: X | K9: X | N9: X | O9: X | P9: X | Q9: X | R9: X | U9: X | V9: X | W9: X | X9: X | Y9: X | AB9: X | AC9: X | AD9: X | AE9: X | AF9: X | AI9: =COUNTIF(D9:AH9,"X")+COUNTIF(D9:AH9,"Tr")+COUNTIF(D9:AH9,"BL") -> 20
A10: =IF(B10="",1,SUBTOTAL(3,$B$6:B10)) -> 5 | B10: NGUYỄN YẾN | C10: NHI | E10: X | G10: X | H10: X | I10: X | J10: X | K10: X | L10: X | N10: X | O10: X | P10: X | Q10: X | R10: X | S10: X | U10: X | V10: X | W10: X | X10: X | Y10: X | Z10: X | AB10: X | AC10: X | AD10: X | AE10: X | AF10: X | AG10: X | AI10: =COUNTIF(D10:AH10,"X")+COUNTIF(D10:AH10,"Tr")+COUNTIF(D10:AH10,"BL") -> 25
A11: =IF(B11="",1,SUBTOTAL(3,$B$6:B11)) -> 6 | B11: NGUYỄN CHÍ | C11: NHÂN | G11: X | H11: X | I11: X | J11: X | K11: X | N11: X | O11: X | P11: X | Q11: X | R11: X | U11: X | V11: X | W11: X | X11: X | Y11: X | AB11: X | AC11: X | AD11: X | AE11: X | AF11: X | AI11: =COUNTIF(D11:AH11,"X")+COUNTIF(D11:AH11,"Tr")+COUNTIF(D11:AH11,"BL") -> 20
A12: =IF(B12="",1,SUBTOTAL(3,$B$6:B12)) -> 7 | B12: VŨ THỊ THU | C12: THUỶ | G12: X | H12: X | I12: X | J12: X | K12: X | N12: X | O12: X | P12: X | Q12: X | R12: X | U12: X | V12: X | W12: X | X12: X | Y12: X | AB12: X | AC12: X | AD12: X | AE12: X | AF12: X | AI12: =COUNTIF(D12:AH12,"X")+COUNTIF(D12:AH12,"Tr")+COUNTIF(D12:AH12,"BL") -> 20
B14: KÝ HIỆU: | C14: LÀM VIỆC | I14: X | L14: NGHỈ PHÉP | R14: P | U14: NGHỈ CON ỐM | AB14: CÔ | AE14: NGHỈ KHÔNG LƯƠNG Ro
C15: TRỰC TRƯỜNG | I15: Tr | L15: NGHỈ TAI NẠN LĐ | R15: T | U15: NGHỈ VIỆC RIÊNG | AB15: R | AE15: NGHỈ KHÔNG PHÉP KP
C16: ĐI HỌC | I16: Ho | L16: NGHỈ ỐM | R16: Ô | U16: NGHỈ LỄ , TẾT | AB16: L | AE16: NGHỈ THAI SẢN S
C17: Chủ nhật | L17: LÀM BÙ LỄ | R17: BL
V18: ="Ngày "&DAY(EOMONTH(D4,P2))-1&" tháng "&MONTH(P2)&" năm "&YEAR(T2) -> Ngày 29 tháng 1 năm 2016
C19: TRƯỞNG ĐƠN VỊ | W19: NGƯỜI CHẤM CÔNG
C23: HÀ PHƯỚC TUẤN | W23: HÀ PHƯỚC TUẤN

Sheet T02-2016
A1: TRƯỜNG CĐKT LÝ TƯ TRỌNG TP.HCM | J1: BẢNG CHẤM CÔNG
A2: ĐƠN VỊ : PHÒNG KT&ĐBCL | M2: THÁNG | P2: =D4 -> 42401 | R2: NĂM | T2: =D4 -> 42401
J3: 29 | K3: 1 | L3: 2 | M3: 3 | N3: 4 | O3: 5 | P3: 6
A4: STT | B4: HỌ VÀ TÊN | D4: 42401 | E4: =D4+1 -> 42402 | F4: =E4+1 -> 42403 | G4: =F4+1 -> 42404 | H4: =G4+1 -> 42405 | I4: =H4+1 -> 42406 | J4: =I4+1 -> 42407 | K4: =J4+1 -> 42408 | L4: =K4+1 -> 42409 | ... AH4: =AG4+1 -> 42431 | AI4: TS.NGÀY LV
C5: THỨ | D5: =IF(WEEKDAY(D4)=1,"CN",IF(WEEKDAY(D4)=2,"T2",IF(WEEKDAY(D4)=3,"T3",IF(WEEKDAY(D4)=4,"T4",IF(WEEKDAY(D4)=5,"T5",IF(WEEKDAY(D4)=6,"T6","T7")))))) -> T2 | E5: =IF(WEEKDAY(E4)=1,"CN",IF(WEEKDAY(E4)=2,"T2",IF(WEEKDAY(E4)=3,"T3",IF(WEEKDAY(E4)=4,"T4",IF(WEEKDAY(E4)=5,"T5",IF(WEEKDAY(E4)=6,"T6","T7")))))) -> T3 | F5: =IF(WEEKDAY(F4)=1,"CN",IF(WEEKDAY(F4)=2,"T2",IF(WEEKDAY(F4)=3,"T3",IF(WEEKDAY(F4)=4,"T4",IF(WEEKDAY(F4)=5,"T5",IF(WEEKDAY(F4)=6,"T6","T7")))))) -> T4 | G5: =IF(WEEKDAY(G4)=1,"CN",IF(WEEKDAY(G4)=2,"T2",IF(WEEKDAY(G4)=3,"T3",IF(WEEKDAY(G4)=4,"T4",IF(WEEKDAY(G4)=5,"T5",IF(WEEKDAY(G4)=6,"T6","T7")))))) -> T5 | H5: =IF(WEEKDAY(H4)=1,"CN",IF(WEEKDAY(H4)=2,"T2",IF(WEEKDAY(H4)=3,"T3",IF(WEEKDAY(H4)=4,"T4",IF(WEEKDAY(H4)=5,"T5",IF(WEEKDAY(H4)=6,"T6","T7")))))) -> T6 | I5: =IF(WEEKDAY(I4)=1,"CN",IF(WEEKDAY(I4)=2,"T2",IF(WEEKDAY(I4)=3,"T3",IF(WEEKDAY(I4)=4,"T4",IF(WEEKDAY(I4)=5,"T5",IF(WEEKDAY(I4)=6,"T6","T7")))))) -> T7 | J5: =IF(WEEKDAY(J4)=1,"CN",IF(WEEKDAY(J4)=2,"T2",IF(WEEKDAY(J4)=3,"T3",IF(WEEKDAY(J4)=4,"T4",IF(WEEKDAY(J4)=5,"T5",IF(WEEKDAY(J4)=6,"T6","T7")))))) -> CN | K5: =IF(WEEKDAY(K4)=1,"CN",IF(WEEKDAY(K4)=2,"T2",IF(WEEKDAY(K4)=3,"T3",IF(WEEKDAY(K4)=4,"T4",IF(WEEKDAY(K4)=5,"T5",IF(WEEKDAY(K4)=6,"T6","T7")))))) -> T2 | ... AH5: =IF(WEEKDAY(AH4)=1,"CN",IF(WEEKDAY(AH4)=2,"T2",IF(WEEKDAY(AH4)=3,"T3",IF(WEEKDAY(AH4)=4,"T4",IF(WEEKDAY(AH4)=5,"T5",IF(WEEKDAY(AH4)=6,"T6","T7")))))) -> T4
A6: =IF(B6="",1,SUBTOTAL(3,$B6:B$6)) -> 1 | B6: HÀ PHƯỚC | C6: TUẤN | D6: X | E6: X | F6: X | G6: X | H6: X | I6: X | R6: X | S6: X | T6: X | U6: X | V6: X | W6: X | Y6: X | Z6: X | AA6: X | AB6: X | AC6: X | AD6: X | AF6: X | AI6: =COUNTIF(D6:AH6,"X")+COUNTIF(D6:AH6,"Tr")+COUNTIF(D6:AH6,"BL") -> 19
A7: =IF(B7="",1,SUBTOTAL(3,$B$6:B7)) -> 2 | B7: VÕ THỊ ANH | C7: ĐÀO | D7: X | E7: X | F7: X | G7: X | H7: X | R7: X | S7: X | T7: X | U7: X | V7: X | Y7: X | Z7: X | AA7: X | AB7: X | AC7: X | AF7: X | AI7: =COUNTIF(D7:AH7,"X")+COUNTIF(D7:AH7,"Tr")+COUNTIF(D7:AH7,"BL") -> 16
A8: =IF(B8="",1,SUBTOTAL(3,$B$6:B8)) -> 3 | B8: NGUYỄN VĂN | C8: SƠN | D8: X | E8: X | F8: X | G8: X | H8: X | R8: X | S8: X | T8: X | U8: X | V8: X | Y8: X | Z8: X | AA8: X | AB8: X | AC8: X | AF8: X | AI8: =COUNTIF(D8:AH8,"X")+COUNTIF(D8:AH8,"Tr")+COUNTIF(D8:AH8,"BL") -> 16
A9: =IF(B9="",1,SUBTOTAL(3,$B$6:B9)) -> 4 | B9: NGUYỄN THANH | C9: SƠN B | D9: X | E9: X | F9: X | G9: X | H9: X | R9: X | S9: X | T9: X | U9: X | V9: X | Y9: X | Z9: X | AA9: X | AB9: X | AC9: X | AF9: X | AI9: =COUNTIF(D9:AH9,"X")+COUNTIF(D9:AH9,"Tr")+COUNTIF(D9:AH9,"BL") -> 16
A10: =IF(B10="",1,SUBTOTAL(3,$B$6:B10)) -> 5 | B10: NGUYỄN YẾN | C10: NHI | D10: X | E10: X | F10: X | G10: X | H10: X | I10: X | R10: X | S10: X | T10: X | U10: X | V10: X | W10: X | Y10: X | Z10: X | AA10: X | AB10: X | AC10: X | AD10: X | AF10: X | AI10: =COUNTIF(D10:AH10,"X")+COUNTIF(D10:AH10,"Tr")+COUNTIF(D10:AH10,"BL") -> 19
A11: =IF(B11="",1,SUBTOTAL(3,$B$6:B11)) -> 6 | B11: NGUYỄN CHÍ | C11: NHÂN | D11: X | E11: X | F11: X | G11: X | H11: X | R11: X | S11: X | T11: X | U11: X | V11: X | Y11: X | Z11: X | AA11: X | AB11: X | AC11: X | AF11: X | AI11: =COUNTIF(D11:AH11,"X")+COUNTIF(D11:AH11,"Tr")+COUNTIF(D11:AH11,"BL") -> 16
A12: =IF(B12="",1,SUBTOTAL(3,$B$6:B12)) -> 7 | B12: VŨ THỊ THU | C12: THUỶ | D12: X | E12: X | F12: X | G12: X | H12: X | R12: X | S12: X | T12: X | U12: X | V12: X | Y12: X | Z12: X | AA12: X | AB12: X | AC12: X | AF12: X | AI12: =COUNTIF(D12:AH12,"X")+COUNTIF(D12:AH12,"Tr")+COUNTIF(D12:AH12,"BL") -> 16
B14: KÝ HIỆU: | C14: LÀM VIỆC | I14: X | L14: NGHỈ PHÉP | R14: P | U14: NGHỈ CON ỐM | AB14: CÔ | AE14: NGHỈ KHÔNG LƯƠNG Ro
C15: TRỰC TRƯỜNG | I15: Tr | L15: NGHỈ TAI NẠN LĐ | R15: T | U15: NGHỈ VIỆC RIÊNG | AB15: R | AE15: NGHỈ KHÔNG PHÉP KP
C16: ĐI HỌC | I16: Ho | L16: NGHỈ ỐM | R16: Ô | U16: NGHỈ LỄ , TẾT | AB16: L | AE16: NGHỈ THAI SẢN S
C17: Chủ nhật | L17: LÀM BÙ LỄ | R17: BL
V18: ="Ngày "&DAY(EOMONTH(D4,P2))-4&" tháng "&MONTH(P2)&" năm "&YEAR(T2) -> Ngày 27 tháng 2 năm 2016
C19: TRƯỞNG ĐƠN VỊ | W19: NGƯỜI CHẤM CÔNG
C23: HÀ PHƯỚC TUẤN | W23: HÀ PHƯỚC TUẤN

Sheet T03-2016
A1: TRƯỜNG CĐKT LÝ TƯ TRỌNG TP.HCM | J1: BẢNG CHẤM CÔNG
A2: ĐƠN VỊ : PHÒNG KT&ĐBCL | M2: THÁNG | P2: =D4 -> 42430 | R2: NĂM | T2: =D4 -> 42430
A4: STT | B4: HỌ VÀ TÊN | D4: 42430 | E4: =D4+1 -> 42431 | F4: =E4+1 -> 42432 | G4: =F4+1 -> 42433 | H4: =G4+1 -> 42434 | I4: =H4+1 -> 42435 | J4: =I4+1 -> 42436 | K4: =J4+1 -> 42437 | L4: =K4+1 -> 42438 | ... AH4: =AG4+1 -> 42460 | AI4: TS.NGÀY LV
C5: THỨ | D5: =IF(WEEKDAY(D4)=1,"CN",IF(WEEKDAY(D4)=2,"T2",IF(WEEKDAY(D4)=3,"T3",IF(WEEKDAY(D4)=4,"T4",IF(WEEKDAY(D4)=5,"T5",IF(WEEKDAY(D4)=6,"T6","T7")))))) -> T3 | E5: =IF(WEEKDAY(E4)=1,"CN",IF(WEEKDAY(E4)=2,"T2",IF(WEEKDAY(E4)=3,"T3",IF(WEEKDAY(E4)=4,"T4",IF(WEEKDAY(E4)=5,"T5",IF(WEEKDAY(E4)=6,"T6","T7")))))) -> T4 | F5: =IF(WEEKDAY(F4)=1,"CN",IF(WEEKDAY(F4)=2,"T2",IF(WEEKDAY(F4)=3,"T3",IF(WEEKDAY(F4)=4,"T4",IF(WEEKDAY(F4)=5,"T5",IF(WEEKDAY(F4)=6,"T6","T7")))))) -> T5 | G5: =IF(WEEKDAY(G4)=1,"CN",IF(WEEKDAY(G4)=2,"T2",IF(WEEKDAY(G4)=3,"T3",IF(WEEKDAY(G4)=4,"T4",IF(WEEKDAY(G4)=5,"T5",IF(WEEKDAY(G4)=6,"T6","T7")))))) -> T6 | H5: =IF(WEEKDAY(H4)=1,"CN",IF(WEEKDAY(H4)=2,"T2",IF(WEEKDAY(H4)=3,"T3",IF(WEEKDAY(H4)=4,"T4",IF(WEEKDAY(H4)=5,"T5",IF(WEEKDAY(H4)=6,"T6","T7")))))) -> T7 | I5: =IF(WEEKDAY(I4)=1,"CN",IF(WEEKDAY(I4)=2,"T2",IF(WEEKDAY(I4)=3,"T3",IF(WEEKDAY(I4)=4,"T4",IF(WEEKDAY(I4)=5,"T5",IF(WEEKDAY(I4)=6,"T6","T7")))))) -> CN | J5: =IF(WEEKDAY(J4)=1,"CN",IF(WEEKDAY(J4)=2,"T2",IF(WEEKDAY(J4)=3,"T3",IF(WEEKDAY(J4)=4,"T4",IF(WEEKDAY(J4)=5,"T5",IF(WEEKDAY(J4)=6,"T6","T7")))))) -> T2 | K5: =IF(WEEKDAY(K4)=1,"CN",IF(WEEKDAY(K4)=2,"T2",IF(WEEKDAY(K4)=3,"T3",IF(WEEKDAY(K4)=4,"T4",IF(WEEKDAY(K4)=5,"T5",IF(WEEKDAY(K4)=6,"T6","T7")))))) -> T3 | ... AH5: =IF(WEEKDAY(AH4)=1,"CN",IF(WEEKDAY(AH4)=2,"T2",IF(WEEKDAY(AH4)=3,"T3",IF(WEEKDAY(AH4)=4,"T4",IF(WEEKDAY(AH4)=5,"T5",IF(WEEKDAY(AH4)=6,"T6","T7")))))) -> T5
A6: =IF(B6="",1,SUBTOTAL(3,$B6:B$6)) -> 1 | B6: HÀ PHƯỚC | C6: TUẤN | D6: X | E6: X | F6: X | G6: X | H6: X | J6: X | K6: X | L6: X | M6: X | N6: X | O6: X | Q6: X | R6: X | S6: X | T6: X | U6: X | V6: X | X6: X | Y6: X | Z6: X | AA6: X | AB6: X | AC6: X | AE6: X | AF6: X | AG6: X | AH6: X | AI6: =COUNTIF(D6:AH6,"X")+COUNTIF(D6:AH6,"Tr")+COUNTIF(D6:AH6,"BL") -> 27
A7: =IF(B7="",1,SUBTOTAL(3,$B$6:B7)) -> 2 | B7: VÕ THỊ ANH | C7: ĐÀO | D7: X | E7: X | F7: X | G7: X | J7: X | K7: X | L7: X | M7: X | N7: X | Q7: X | R7: X | S7: X | T7: X | U7: X | X7: X | Y7: X | Z7: X | AA7: X | AB7: X | AE7: X | AF7: X | AG7: X | AH7: X | AI7: =COUNTIF(D7:AH7,"X")+COUNTIF(D7:AH7,"Tr")+COUNTIF(D7:AH7,"BL") -> 23
A8: =IF(B8="",1,SUBTOTAL(3,$B$6:B8)) -> 3 | B8: NGUYỄN VĂN | C8: SƠN | D8: X | E8: X | F8: X | G8: X | J8: X | K8: X | L8: X | M8: X | N8: X | Q8: X | R8: X | S8: X | T8: X | U8: X | X8: X | Y8: X | Z8: X | AA8: X | AB8: X | AE8: X | AF8: X | AG8: X | AH8: X | AI8: =COUNTIF(D8:AH8,"X")+COUNTIF(D8:AH8,"Tr")+COUNTIF(D8:AH8,"BL") -> 23
A9: =IF(B9="",1,SUBTOTAL(3,$B$6:B9)) -> 4 | B9: NGUYỄN THANH | C9: SƠN B | D9: X | E9: X | F9: X | G9: X | J9: X | K9: X | L9: X | M9: X | N9: X | Q9: X | R9: X | S9: X | T9: X | U9: X | X9: X | Y9: X | Z9: X | AA9: X | AB9: X | AE9: X | AF9: X | AG9: X | AH9: X | AI9: =COUNTIF(D9:AH9,"X")+COUNTIF(D9:AH9,"Tr")+COUNTIF(D9:AH9,"BL") -> 23
A10: =IF(B10="",1,SUBTOTAL(3,$B$6:B10)) -> 5 | B10: NGUYỄN YẾN | C10: NHI | D10: X | E10: X | F10: X | G10: X | H10: X | J10: X | K10: X | L10: X | M10: X | N10: X | O10: X | Q10: X | R10: X | S10: X | T10: X | U10: X | V10: X | X10: X | Y10: X | Z10: X | AA10: X | AB10: X | AC10: X | AE10: X | AF10: X | AG10: X | AH10: X | AI10: =COUNTIF(D10:AH10,"X")+COUNTIF(D10:AH10,"Tr")+COUNTIF(D10:AH10,"BL") -> 27
A11: =IF(B11="",1,SUBTOTAL(3,$B$6:B11)) -> 6 | B11: NGUYỄN CHÍ | C11: NHÂN | D11: X | E11: X | F11: X | G11: X | J11: X | K11: X | L11: X | M11: X | N11: X | Q11: X | R11: X | S11: X | T11: X | U11: X | X11: X | Y11: X | Z11: X | AA11: X | AB11: X | AE11: X | AF11: X | AG11: X | AH11: X | AI11: =COUNTIF(D11:AH11,"X")+COUNTIF(D11:AH11,"Tr")+COUNTIF(D11:AH11,"BL") -> 23
A12: =IF(B12="",1,SUBTOTAL(3,$B$6:B12)) -> 7 | B12: VŨ THỊ THU | C12: THUỶ | D12: X | E12: X | F12: X | G12: X | J12: X | K12: X | L12: X | M12: X | N12: X | Q12: X | R12: X | S12: X | T12: X | U12: X | X12: X | Y12: X | Z12: X | AA12: X | AB12: X | AE12: X | AF12: X | AG12: X | AH12: X | AI12: =COUNTIF(D12:AH12,"X")+COUNTIF(D12:AH12,"Tr")+COUNTIF(D12:AH12,"BL") -> 23
B14: KÝ HIỆU: | C14: LÀM VIỆC | I14: X | L14: NGHỈ PHÉP | R14: P | U14: NGHỈ CON ỐM | AB14: CÔ | AE14: NGHỈ KHÔNG LƯƠNG Ro
C15: TRỰC TRƯỜNG | I15: Tr | L15: NGHỈ TAI NẠN LĐ | R15: T | U15: NGHỈ VIỆC RIÊNG | AB15: R | AE15: NGHỈ KHÔNG PHÉP KP
C16: ĐI HỌC | I16: Ho | L16: NGHỈ ỐM | R16: Ô | U16: NGHỈ LỄ , TẾT | AB16: L | AE16: NGHỈ THAI SẢN S
C17: Chủ nhật | L17: LÀM BÙ LỄ | R17: BL
V18: ="Ngày "&DAY(EOMONTH(D4,P2))-4&" tháng "&MONTH(P2)&" năm "&YEAR(T2) -> Ngày 27 tháng 3 năm 2016
C19: TRƯỞNG ĐƠN VỊ | W19: NGƯỜI CHẤM CÔNG
C23: HÀ PHƯỚC TUẤN | W23: HÀ PHƯỚC TUẤN

Sheet T04-2016
A1: TRƯỜNG CĐKT LÝ TƯ TRỌNG TP.HCM | J1: BẢNG CHẤM CÔNG
A2: ĐƠN VỊ : PHÒNG KT&ĐBCL | M2: THÁNG | P2: =D4 -> 42461 | R2: NĂM | T2: =D4 -> 42461
A4: STT | B4: HỌ VÀ TÊN | D4: 42461 | E4: =D4+1 -> 42462 | F4: =E4+1 -> 42463 | G4: =F4+1 -> 42464 | H4: =G4+1 -> 42465 | I4: =H4+1 -> 42466 | J4: =I4+1 -> 42467 | K4: =J4+1 -> 42468 | L4: =K4+1 -> 42469 | ... AH4: =AG4+1 -> 42491 | AI4: TS.NGÀY LV
C5: THỨ | D5: =IF(WEEKDAY(D4)=1,"CN",IF(WEEKDAY(D4)=2,"T2",IF(WEEKDAY(D4)=3,"T3",IF(WEEKDAY(D4)=4,"T4",IF(WEEKDAY(D4)=5,"T5",IF(WEEKDAY(D4)=6,"T6","T7")))))) -> T6 | E5: =IF(WEEKDAY(E4)=1,"CN",IF(WEEKDAY(E4)=2,"T2",IF(WEEKDAY(E4)=3,"T3",IF(WEEKDAY(E4)=4,"T4",IF(WEEKDAY(E4)=5,"T5",IF(WEEKDAY(E4)=6,"T6","T7")))))) -> T7 | F5: =IF(WEEKDAY(F4)=1,"CN",IF(WEEKDAY(F4)=2,"T2",IF(WEEKDAY(F4)=3,"T3",IF(WEEKDAY(F4)=4,"T4",IF(WEEKDAY(F4)=5,"T5",IF(WEEKDAY(F4)=6,"T6","T7")))))) -> CN | G5: =IF(WEEKDAY(G4)=1,"CN",IF(WEEKDAY(G4)=2,"T2",IF(WEEKDAY(G4)=3,"T3",IF(WEEKDAY(G4)=4,"T4",IF(WEEKDAY(G4)=5,"T5",IF(WEEKDAY(G4)=6,"T6","T7")))))) -> T2 | H5: =IF(WEEKDAY(H4)=1,"CN",IF(WEEKDAY(H4)=2,"T2",IF(WEEKDAY(H4)=3,"T3",IF(WEEKDAY(H4)=4,"T4",IF(WEEKDAY(H4)=5,"T5",IF(WEEKDAY(H4)=6,"T6","T7")))))) -> T3 | I5: =IF(WEEKDAY(I4)=1,"CN",IF(WEEKDAY(I4)=2,"T2",IF(WEEKDAY(I4)=3,"T3",IF(WEEKDAY(I4)=4,"T4",IF(WEEKDAY(I4)=5,"T5",IF(WEEKDAY(I4)=6,"T6","T7")))))) -> T4 | J5: =IF(WEEKDAY(J4)=1,"CN",IF(WEEKDAY(J4)=2,"T2",IF(WEEKDAY(J4)=3,"T3",IF(WEEKDAY(J4)=4,"T4",IF(WEEKDAY(J4)=5,"T5",IF(WEEKDAY(J4)=6,"T6","T7")))))) -> T5 | K5: =IF(WEEKDAY(K4)=1,"CN",IF(WEEKDAY(K4)=2,"T2",IF(WEEKDAY(K4)=3,"T3",IF(WEEKDAY(K4)=4,"T4",IF(WEEKDAY(K4)=5,"T5",IF(WEEKDAY(K4)=6,"T6","T7")))))) -> T6 | ... AH5: =IF(WEEKDAY(AH4)=1,"CN",IF(WEEKDAY(AH4)=2,"T2",IF(WEEKDAY(AH4)=3,"T3",IF(WEEKDAY(AH4)=4,"T4",IF(WEEKDAY(AH4)=5,"T5",IF(WEEKDAY(AH4)=6,"T6","T7")))))) -> CN
A6: =IF(B6="",1,SUBTOTAL(3,$B6:B$6)) -> 1 | B6: HÀ PHƯỚC | C6: TUẤN | D6: X | E6: X | G6: X | H6: X | I6: X | J6: X | K6: X | L6: X | N6: X | O6: X | P6: X | Q6: X | R6: X | U6: X | V6: X | W6: X | X6: X | Y6: X | Z6: X | AB6: X | AC6: X | AD6: X | AE6: X | AF6: X | AI6: =COUNTIF(D6:AH6,"X")+COUNTIF(D6:AH6,"Tr")+COUNTIF(D6:AH6,"BL") -> 24
A7: =IF(B7="",1,SUBTOTAL(3,$B$6:B7)) -> 2 | B7: VÕ THỊ ANH | C7: ĐÀO | D7: X | G7: X | H7: X | I7: X | J7: X | K7: X | N7: X | O7: X | P7: X | Q7: X | R7: X | U7: X | V7: X | W7: X | X7: X | Y7: X | AB7: X | AC7: X | AD7: X | AE7: X | AF7: X | AI7: =COUNTIF(D7:AH7,"X")+COUNTIF(D7:AH7,"Tr")+COUNTIF(D7:AH7,"BL") -> 21
A8: =IF(B8="",1,SUBTOTAL(3,$B$6:B8)) -> 3 | B8: NGUYỄN VĂN | C8: SƠN | D8: X | G8: X | H8: X | I8: X | J8: X | K8: X | N8: X | O8: X | P8: X | Q8: X | R8: X | U8: X | V8: X | W8: X | X8: X | Y8: X | AB8: X | AC8: X | AD8: X | AE8: X | AF8: X | AI8: =COUNTIF(D8:AH8,"X")+COUNTIF(D8:AH8,"Tr")+COUNTIF(D8:AH8,"BL") -> 21
A9: =IF(B9="",1,SUBTOTAL(3,$B$6:B9)) -> 4 | B9: NGUYỄN THANH | C9: SƠN B | D9: X | G9: X | H9: X | I9: X | J9: X | K9: X | N9: X | O9: X | P9: X | Q9: X | R9: X | U9: X | V9: X | W9: X | X9: X | Y9: X | AB9: X | AC9: X | AD9: X | AE9: X | AF9: X | AI9: =COUNTIF(D9:AH9,"X")+COUNTIF(D9:AH9,"Tr")+COUNTIF(D9:AH9,"BL") -> 21
A10: =IF(B10="",1,SUBTOTAL(3,$B$6:B10)) -> 5 | B10: NGUYỄN YẾN | C10: NHI | D10: X | E10: X | G10: X | H10: X | I10: X | J10: X | K10: X | L10: X | N10: X | O10: X | P10: X | Q10: X | R10: X | U10: X | V10: X | W10: X | X10: X | Y10: X | Z10: X | AB10: X | AC10: X | AD10: X | AE10: X | AF10: X | AI10: =COUNTIF(D10:AH10,"X")+COUNTIF(D10:AH10,"Tr")+COUNTIF(D10:AH10,"BL") -> 24
A11: =IF(B11="",1,SUBTOTAL(3,$B$6:B11)) -> 6 | B11: NGUYỄN CHÍ | C11: NHÂN | D11: X | G11: X | H11: X | I11: X | J11: X | K11: X | N11: X | O11: X | P11: X | Q11: X | R11: X | U11: X | V11: X | W11: X | X11: X | Y11: X | AB11: X | AC11: X | AD11: X | AE11: X | AF11: X | AI11: =COUNTIF(D11:AH11,"X")+COUNTIF(D11:AH11,"Tr")+COUNTIF(D11:AH11,"BL") -> 21
A12: =IF(B12="",1,SUBTOTAL(3,$B$6:B12)) -> 7 | B12: VŨ THỊ THU | C12: THUỶ | D12: X | G12: X | H12: X | I12: X | J12: X | K12: X | N12: X | O12: X | P12: X | Q12: X | R12: X | U12: X | V12: X | W12: X | X12: X | Y12: X | AB12: X | AC12: X | AD12: X | AE12: X | AF12: X | AI12: =COUNTIF(D12:AH12,"X")+COUNTIF(D12:AH12,"Tr")+COUNTIF(D12:AH12,"BL") -> 21
B14: KÝ HIỆU: | C14: LÀM VIỆC | I14: X | L14: NGHỈ PHÉP | R14: P | U14: NGHỈ CON ỐM | AB14: CÔ | AE14: NGHỈ KHÔNG LƯƠNG Ro
C15: TRỰC TRƯỜNG | I15: Tr | L15: NGHỈ TAI NẠN LĐ | R15: T | U15: NGHỈ VIỆC RIÊNG | AB15: R | AE15: NGHỈ KHÔNG PHÉP KP
C16: ĐI HỌC | I16: Ho | L16: NGHỈ ỐM | R16: Ô | U16: NGHỈ LỄ , TẾT | AB16: L | AE16: NGHỈ THAI SẢN S
C17: Chủ nhật | L17: LÀM BÙ LỄ | R17: BL
V18: ="Ngày "&DAY(EOMONTH(D4,P2))-4&" tháng "&MONTH(P2)&" năm "&YEAR(T2) -> Ngày 26 tháng 4 năm 2016
C19: TRƯỞNG ĐƠN VỊ | W19: NGƯỜI CHẤM CÔNG
C23: HÀ PHƯỚC TUẤN | W23: HÀ PHƯỚC TUẤN

Sheet T05-2016
A1: TRƯỜNG CĐKT LÝ TƯ TRỌNG TP.HCM | J1: BẢNG CHẤM CÔNG
A2: ĐƠN VỊ : PHÒNG KT&ĐBCL | M2: THÁNG | P2: =D4 -> 42491 | R2: NĂM | T2: =D4 -> 42491
A4: STT | B4: HỌ VÀ TÊN | D4: 42491 | E4: =D4+1 -> 42492 | F4: =E4+1 -> 42493 | G4: =F4+1 -> 42494 | H4: =G4+1 -> 42495 | I4: =H4+1 -> 42496 | J4: =I4+1 -> 42497 | K4: =J4+1 -> 42498 | L4: =K4+1 -> 42499 | ... AH4: =AG4+1 -> 42521 | AI4: TS.NGÀY LV
C5: THỨ | D5: =IF(WEEKDAY(D4)=1,"CN",IF(WEEKDAY(D4)=2,"T2",IF(WEEKDAY(D4)=3,"T3",IF(WEEKDAY(D4)=4,"T4",IF(WEEKDAY(D4)=5,"T5",IF(WEEKDAY(D4)=6,"T6","T7")))))) -> CN | E5: =IF(WEEKDAY(E4)=1,"CN",IF(WEEKDAY(E4)=2,"T2",IF(WEEKDAY(E4)=3,"T3",IF(WEEKDAY(E4)=4,"T4",IF(WEEKDAY(E4)=5,"T5",IF(WEEKDAY(E4)=6,"T6","T7")))))) -> T2 | F5: =IF(WEEKDAY(F4)=1,"CN",IF(WEEKDAY(F4)=2,"T2",IF(WEEKDAY(F4)=3,"T3",IF(WEEKDAY(F4)=4,"T4",IF(WEEKDAY(F4)=5,"T5",IF(WEEKDAY(F4)=6,"T6","T7")))))) -> T3 | G5: =IF(WEEKDAY(G4)=1,"CN",IF(WEEKDAY(G4)=2,"T2",IF(WEEKDAY(G4)=3,"T3",IF(WEEKDAY(G4)=4,"T4",IF(WEEKDAY(G4)=5,"T5",IF(WEEKDAY(G4)=6,"T6","T7")))))) -> T4 | H5: =IF(WEEKDAY(H4)=1,"CN",IF(WEEKDAY(H4)=2,"T2",IF(WEEKDAY(H4)=3,"T3",IF(WEEKDAY(H4)=4,"T4",IF(WEEKDAY(H4)=5,"T5",IF(WEEKDAY(H4)=6,"T6","T7")))))) -> T5 | I5: =IF(WEEKDAY(I4)=1,"CN",IF(WEEKDAY(I4)=2,"T2",IF(WEEKDAY(I4)=3,"T3",IF(WEEKDAY(I4)=4,"T4",IF(WEEKDAY(I4)=5,"T5",IF(WEEKDAY(I4)=6,"T6","T7")))))) -> T6 | J5: =IF(WEEKDAY(J4)=1,"CN",IF(WEEKDAY(J4)=2,"T2",IF(WEEKDAY(J4)=3,"T3",IF(WEEKDAY(J4)=4,"T4",IF(WEEKDAY(J4)=5,"T5",IF(WEEKDAY(J4)=6,"T6","T7")))))) -> T7 | K5: =IF(WEEKDAY(K4)=1,"CN",IF(WEEKDAY(K4)=2,"T2",IF(WEEKDAY(K4)=3,"T3",IF(WEEKDAY(K4)=4,"T4",IF(WEEKDAY(K4)=5,"T5",IF(WEEKDAY(K4)=6,"T6","T7")))))) -> CN | ... AH5: =IF(WEEKDAY(AH4)=1,"CN",IF(WEEKDAY(AH4)=2,"T2",IF(WEEKDAY(AH4)=3,"T3",IF(WEEKDAY(AH4)=4,"T4",IF(WEEKDAY(AH4)=5,"T5",IF(WEEKDAY(AH4)=6,"T6","T7")))))) -> T3
A6: =IF(B6="",1,SUBTOTAL(3,$B6:B$6)) -> 1 | B6: HÀ PHƯỚC | C6: TUẤN | G6: X | H6: X | I6: X | J6: X | L6: X | M6: X | N6: X | O6: X | P6: X | Q6: X | R6: HT | S6: X | T6: X | U6: X | V6: X | W6: X | X6: X | Z6: X | AA6: X | AB6: X | AC6: X | AD6: X | AE6: X | AF6: HT | AG6: X | AH6: X | AI6: =COUNTIF(D6:AH6,"X")+COUNTIF(D6:AH6,"Tr")+COUNTIF(D6:AH6,"BL") -> 24
A7: =IF(B7="",1,SUBTOTAL(3,$B$6:B7)) -> 2 | B7: VÕ THỊ ANH | C7: ĐÀO | G7: X | H7: X | I7: X | L7: X | M7: X | N7: X | O7: X | P7: X | S7: X | T7: X | U7: X | V7: X | W7: X | Z7: X | AA7: X | AB7: X | AC7: X | AD7: X | AF7: HT | AG7: X | AH7: X | AI7: =COUNTIF(D7:AH7,"X")+COUNTIF(D7:AH7,"Tr")+COUNTIF(D7:AH7,"BL") -> 20
A8: =IF(B8="",1,SUBTOTAL(3,$B$6:B8)) -> 3 | B8: NGUYỄN VĂN | C8: SƠN | G8: X | H8: X | I8: X | L8: X | M8: X | N8: P | O8: X | P8: X | R8: HT | S8: X | T8: X | U8: X | V8: X | W8: X | Z8: X | AA8: X | AB8: X | AC8: X | AD8: X | AF8: HT | AG8: X | AH8: X | AI8: =COUNTIF(D8:AH8,"X")+COUNTIF(D8:AH8,"Tr")+COUNTIF(D8:AH8,"BL") -> 19
A9: =IF(B9="",1,SUBTOTAL(3,$B$6:B9)) -> 4 | B9: NGUYỄN THANH | C9: SƠN B | G9: X | H9: X | I9: X | L9: X | M9: X | N9: X | O9: X | P9: X | S9: X | T9: X | U9: X | V9: X | W9: X | Z9: X | AA9: X | AB9: X | AC9: X | AD9: X | AF9: HT | AG9: X | AH9: X | AI9: =COUNTIF(D9:AH9,"X")+COUNTIF(D9:AH9,"Tr")+COUNTIF(D9:AH9,"BL") -> 20
A10: =IF(B10="",1,SUBTOTAL(3,$B$6:B10)) -> 5 | B10: NGUYỄN YẾN | C10: NHI | G10: X | H10: X | I10: X | J10: X | L10: X | M10: X | N10: X | O10: X | P10: X | Q10: X | S10: X | T10: X | U10: X | V10: X | W10: X | X10: X | Z10: X | AA10: X | AB10: X | AC10: X | AD10: X | AE10: X | AF10: HT | AG10: X | AH10: X | AI10: =COUNTIF(D10:AH10,"X")+COUNTIF(D10:AH10,"Tr")+COUNTIF(D10:AH10,"BL") -> 24
A11: =IF(B11="",1,SUBTOTAL(3,$B$6:B11)) -> 6 | B11: NGUYỄN CHÍ | C11: NHÂN | G11: X | H11: X | I11: X | L11: X | M11: X | N11: X | O11: X | P11: X | R11: HT | S11: X | T11: X | U11: X | V11: X | W11: X | Z11: X | AA11: X | AB11: X | AC11: B7 | AD11: X | AE11: X | AF11: HT | AG11: X | AH11: X | AI11: =COUNTIF(D11:AH11,"X")+COUNTIF(D11:AH11,"Tr")+COUNTIF(D11:AH11,"BL") -> 20
A12: =IF(B12="",1,SUBTOTAL(3,$B$6:B12)) -> 7 | B12: VŨ THỊ THU | C12: THUỶ | G12: X | H12: X | I12: X | L12: X | M12: B7 | N12: X | O12: X | P12: X | Q12: X | S12: X | T12: X | U12: X | V12: X | W12: X | X12: X | Z12: X | AA12: X | AB12: X | AC12: X | AD12: P | AG12: P | AH12: P | AI12: =COUNTIF(D12:AH12,"X")+COUNTIF(D12:AH12,"Tr")+COUNTIF(D12:AH12,"BL") -> 18
B14: KÝ HIỆU: | C14: LÀM VIỆC | I14: X | L14: NGHỈ PHÉP | R14: P | U14: NGHỈ CON ỐM | AB14: CÔ | AE14: NGHỈ KHÔNG LƯƠNG Ro
C15: TRỰC TRƯỜNG | I15: Tr | L15: NGHỈ TAI NẠN LĐ | R15: T | U15: NGHỈ VIỆC RIÊNG | AB15: R | AE15: NGHỈ KHÔNG PHÉP KP
C16: ĐI HỌC | I16: Ho | L16: NGHỈ ỐM | R16: Ô | U16: NGHỈ LỄ , TẾT | AB16: L | AE16: NGHỈ THAI SẢN S
C17: Chủ nhật | L17: LÀM BÙ LỄ | R17: BL | U17: NGHỈ, LÀM BÙ THỨ 7 | AA17: B7 | AE17: HỘI THAO TRƯỜNG HT
V18: ="Ngày "&DAY(EOMONTH(D4,P2))-0&" tháng "&MONTH(P2)&" năm "&YEAR(T2) -> Ngày 30 tháng 5 năm 2016
C19: TRƯỞNG ĐƠN VỊ | W19: NGƯỜI CHẤM CÔNG
C23: HÀ PHƯỚC TUẤN | W23: HÀ PHƯỚC TUẤN

Sheet T06-2016
A1: TRƯỜNG CĐKT LÝ TƯ TRỌNG TP.HCM | J1: BẢNG CHẤM CÔNG
A2: ĐƠN VỊ : PHÒNG KT&ĐBCL | M2: THÁNG | P2: =D4 -> 42522 | R2: NĂM | T2: =D4 -> 42522
A4: STT | B4: HỌ VÀ TÊN | D4: 42522 | E4: =D4+1 -> 42523 | F4: =E4+1 -> 42524 | G4: =F4+1 -> 42525 | H4: =G4+1 -> 42526 | I4: =H4+1 -> 42527 | J4: =I4+1 -> 42528 | K4: =J4+1 -> 42529 | L4: =K4+1 -> 42530 | ... AH4: =AG4+1 -> 42552 | AI4: TS.NGÀY LV
C5: THỨ | D5: =IF(WEEKDAY(D4)=1,"CN",IF(WEEKDAY(D4)=2,"T2",IF(WEEKDAY(D4)=3,"T3",IF(WEEKDAY(D4)=4,"T4",IF(WEEKDAY(D4)=5,"T5",IF(WEEKDAY(D4)=6,"T6","T7")))))) -> T4 | E5: =IF(WEEKDAY(E4)=1,"CN",IF(WEEKDAY(E4)=2,"T2",IF(WEEKDAY(E4)=3,"T3",IF(WEEKDAY(E4)=4,"T4",IF(WEEKDAY(E4)=5,"T5",IF(WEEKDAY(E4)=6,"T6","T7")))))) -> T5 | F5: =IF(WEEKDAY(F4)=1,"CN",IF(WEEKDAY(F4)=2,"T2",IF(WEEKDAY(F4)=3,"T3",IF(WEEKDAY(F4)=4,"T4",IF(WEEKDAY(F4)=5,"T5",IF(WEEKDAY(F4)=6,"T6","T7")))))) -> T6 | G5: =IF(WEEKDAY(G4)=1,"CN",IF(WEEKDAY(G4)=2,"T2",IF(WEEKDAY(G4)=3,"T3",IF(WEEKDAY(G4)=4,"T4",IF(WEEKDAY(G4)=5,"T5",IF(WEEKDAY(G4)=6,"T6","T7")))))) -> T7 | H5: =IF(WEEKDAY(H4)=1,"CN",IF(WEEKDAY(H4)=2,"T2",IF(WEEKDAY(H4)=3,"T3",IF(WEEKDAY(H4)=4,"T4",IF(WEEKDAY(H4)=5,"T5",IF(WEEKDAY(H4)=6,"T6","T7")))))) -> CN | I5: =IF(WEEKDAY(I4)=1,"CN",IF(WEEKDAY(I4)=2,"T2",IF(WEEKDAY(I4)=3,"T3",IF(WEEKDAY(I4)=4,"T4",IF(WEEKDAY(I4)=5,"T5",IF(WEEKDAY(I4)=6,"T6","T7")))))) -> T2 | J5: =IF(WEEKDAY(J4)=1,"CN",IF(WEEKDAY(J4)=2,"T2",IF(WEEKDAY(J4)=3,"T3",IF(WEEKDAY(J4)=4,"T4",IF(WEEKDAY(J4)=5,"T5",IF(WEEKDAY(J4)=6,"T6","T7")))))) -> T3 | K5: =IF(WEEKDAY(K4)=1,"CN",IF(WEEKDAY(K4)=2,"T2",IF(WEEKDAY(K4)=3,"T3",IF(WEEKDAY(K4)=4,"T4",IF(WEEKDAY(K4)=5,"T5",IF(WEEKDAY(K4)=6,"T6","T7")))))) -> T4 | ... AH5: =IF(WEEKDAY(AH4)=1,"CN",IF(WEEKDAY(AH4)=2,"T2",IF(WEEKDAY(AH4)=3,"T3",IF(WEEKDAY(AH4)=4,"T4",IF(WEEKDAY(AH4)=5,"T5",IF(WEEKDAY(AH4)=6,"T6","T7")))))) -> T6
A6: =IF(B6="",1,SUBTOTAL(3,$B6:B$6)) -> 1 | B6: HÀ PHƯỚC | C6: TUẤN | D6: X | E6: X | F6: X | G6: X | I6: X | J6: X | K6: X | L6: X | M6: X | N6: X | P6: X | Q6: X | R6: X | S6: X | T6: X | U6: X | W6: X | X6: X | Y6: X | Z6: X | AA6: X | AD6: X | AE6: X | AF6: X | AG6: X | AI6: =COUNTIF(D6:AH6,"X")+COUNTIF(D6:AH6,"Tr")+COUNTIF(D6:AH6,"BL") -> 25
A7: =IF(B7="",1,SUBTOTAL(3,$B$6:B7)) -> 2 | B7: VÕ THỊ ANH | C7: ĐÀO | D7: X | E7: X | F7: X | I7: X | J7: X | K7: X | L7: X | M7: X | P7: X | Q7: X | R7: X | S7: X | T7: X | W7: X | X7: X | Y7: X | Z7: X | AA7: X | AB7: X | AD7: X | AE7: X | AF7: X | AG7: X | AI7: =COUNTIF(D7:AH7,"X")+COUNTIF(D7:AH7,"Tr")+COUNTIF(D7:AH7,"BL") -> 23
A8: =IF(B8="",1,SUBTOTAL(3,$B$6:B8)) -> 3 | B8: NGUYỄN VĂN | C8: SƠN | D8: X | E8: X | F8: X | I8: X | J8: X | K8: X | L8: X | M8: X | P8: X | Q8: X | R8: X | S8: X | T8: X | W8: X | X8: X | Y8: X | Z8: X | AA8: X | AD8: X | AE8: X | AF8: X | AG8: X | AI8: =COUNTIF(D8:AH8,"X")+COUNTIF(D8:AH8,"Tr")+COUNTIF(D8:AH8,"BL") -> 22
A9: =IF(B9="",1,SUBTOTAL(3,$B$6:B9)) -> 4 | B9: NGUYỄN THANH | C9: SƠN B | D9: X | E9: X | F9: X | I9: X | J9: X | K9: X | L9: X | M9: X | P9: X | Q9: X | R9: X | S9: X | T9: X | W9: X | X9: X | Y9: X | Z9: X | AA9: X | AD9: X | AE9: X | AF9: X | AG9: X | AI9: =COUNTIF(D9:AH9,"X")+COUNTIF(D9:AH9,"Tr")+COUNTIF(D9:AH9,"BL") -> 22
A10: =IF(B10="",1,SUBTOTAL(3,$B$6:B10)) -> 5 | B10: NGUYỄN YẾN | C10: NHI | D10: X | E10: X | F10: X | G10: X | I10: X | J10: X | K10: X | L10: X | M10: X | N10: X | P10: X | Q10: X | R10: X | S10: X | T10: X | U10: X | W10: X | X10: X | Y10: X | Z10: X | AA10: X | AB10: X | AD10: X | AE10: X | AF10: X | AG10: X | AI10: =COUNTIF(D10:AH10,"X")+COUNTIF(D10:AH10,"Tr")+COUNTIF(D10:AH10,"BL") -> 26
A11: =IF(B11="",1,SUBTOTAL(3,$B$6:B11)) -> 6 | B11: NGUYỄN CHÍ | C11: NHÂN | D11: X | E11: X | F11: X | I11: X | J11: X | K11: X | L11: X | M11: X | N11: Ho | P11: X | Q11: X | R11: X | S11: X | T11: X | U11: Ho | W11: X | X11: X | Y11: X | Z11: X | AA11: X | AD11: X | AE11: X | AF11: X | AG11: X | AI11: =COUNTIF(D11:AH11,"X")+COUNTIF(D11:AH11,"Tr")+COUNTIF(D11:AH11,"BL") -> 22
A12: =IF(B12="",1,SUBTOTAL(3,$B$6:B12)) -> 7 | B12: VŨ THỊ THU | C12: THUỶ | D12: P | E12: P | F12: Ô | I12: Ô | J12: Ô | K12: Ô | L12: Ô | M12: X | P12: X | Q12: X | R12: X | S12: X | T12: X | W12: X | X12: X | Y12: X | Z12: P | AA12: X | AD12: X | AE12: X | AF12: X | AG12: X | AI12: =COUNTIF(D12:AH12,"X")+COUNTIF(D12:AH12,"Tr")+COUNTIF(D12:AH12,"BL") -> 14
B14: KÝ HIỆU: | C14: LÀM VIỆC | I14: X | L14: NGHỈ PHÉP | R14: P | U14: NGHỈ CON ỐM | AB14: CÔ | AE14: NGHỈ KHÔNG LƯƠNG Ro
C15: TRỰC TRƯỜNG | I15: Tr | L15: NGHỈ TAI NẠN LĐ | R15: T | U15: NGHỈ VIỆC RIÊNG | AB15: R | AE15: NGHỈ KHÔNG PHÉP KP
C16: ĐI HỌC | I16: Ho | L16: NGHỈ ỐM | R16: Ô | U16: NGHỈ LỄ , TẾT | AB16: L | AE16: NGHỈ THAI SẢN S
C17: Chủ nhật | L17: LÀM BÙ LỄ | R17: BL
V18: ="Ngày "&DAY(EOMONTH(D4,P2))-1&" tháng "&MONTH(P2)&" năm "&YEAR(T2) -> Ngày 30 tháng 6 năm 2016
C19: TRƯỞNG ĐƠN VỊ | W19: NGƯỜI CHẤM CÔNG
C23: HÀ PHƯỚC TUẤN | W23: HÀ PHƯỚC TUẤN

Sheet T07-2016
A1: TRƯỜNG CĐKT LÝ TƯ TRỌNG TP.HCM | J1: BẢNG CHẤM CÔNG
A2: ĐƠN VỊ : PHÒNG KT&ĐBCL | M2: THÁNG | P2: =D4 -> 42552 | R2: NĂM | T2: =D4 -> 42552
A4: STT | B4: HỌ VÀ TÊN | D4: 42552 | E4: =D4+1 -> 42553 | F4: =E4+1 -> 42554 | G4: =F4+1 -> 42555 | H4: =G4+1 -> 42556 | I4: =H4+1 -> 42557 | J4: =I4+1 -> 42558 | K4: =J4+1 -> 42559 | L4: =K4+1 -> 42560 | ... AH4: =AG4+1 -> 42582 | AI4: TS.NGÀY LV
C5: THỨ | D5: =IF(WEEKDAY(D4)=1,"CN",IF(WEEKDAY(D4)=2,"T2",IF(WEEKDAY(D4)=3,"T3",IF(WEEKDAY(D4)=4,"T4",IF(WEEKDAY(D4)=5,"T5",IF(WEEKDAY(D4)=6,"T6","T7")))))) -> T6 | E5: =IF(WEEKDAY(E4)=1,"CN",IF(WEEKDAY(E4)=2,"T2",IF(WEEKDAY(E4)=3,"T3",IF(WEEKDAY(E4)=4,"T4",IF(WEEKDAY(E4)=5,"T5",IF(WEEKDAY(E4)=6,"T6","T7")))))) -> T7 | F5: =IF(WEEKDAY(F4)=1,"CN",IF(WEEKDAY(F4)=2,"T2",IF(WEEKDAY(F4)=3,"T3",IF(WEEKDAY(F4)=4,"T4",IF(WEEKDAY(F4)=5,"T5",IF(WEEKDAY(F4)=6,"T6","T7")))))) -> CN | G5: =IF(WEEKDAY(G4)=1,"CN",IF(WEEKDAY(G4)=2,"T2",IF(WEEKDAY(G4)=3,"T3",IF(WEEKDAY(G4)=4,"T4",IF(WEEKDAY(G4)=5,"T5",IF(WEEKDAY(G4)=6,"T6","T7")))))) -> T2 | H5: =IF(WEEKDAY(H4)=1,"CN",IF(WEEKDAY(H4)=2,"T2",IF(WEEKDAY(H4)=3,"T3",IF(WEEKDAY(H4)=4,"T4",IF(WEEKDAY(H4)=5,"T5",IF(WEEKDAY(H4)=6,"T6","T7")))))) -> T3 | I5: =IF(WEEKDAY(I4)=1,"CN",IF(WEEKDAY(I4)=2,"T2",IF(WEEKDAY(I4)=3,"T3",IF(WEEKDAY(I4)=4,"T4",IF(WEEKDAY(I4)=5,"T5",IF(WEEKDAY(I4)=6,"T6","T7")))))) -> T4 | J5: =IF(WEEKDAY(J4)=1,"CN",IF(WEEKDAY(J4)=2,"T2",IF(WEEKDAY(J4)=3,"T3",IF(WEEKDAY(J4)=4,"T4",IF(WEEKDAY(J4)=5,"T5",IF(WEEKDAY(J4)=6,"T6","T7")))))) -> T5 | K5: =IF(WEEKDAY(K4)=1,"CN",IF(WEEKDAY(K4)=2,"T2",IF(WEEKDAY(K4)=3,"T3",IF(WEEKDAY(K4)=4,"T4",IF(WEEKDAY(K4)=5,"T5",IF(WEEKDAY(K4)=6,"T6","T7")))))) -> T6 | ... AH5: =IF(WEEKDAY(AH4)=1,"CN",IF(WEEKDAY(AH4)=2,"T2",IF(WEEKDAY(AH4)=3,"T3",IF(WEEKDAY(AH4)=4,"T4",IF(WEEKDAY(AH4)=5,"T5",IF(WEEKDAY(AH4)=6,"T6","T7")))))) -> CN
A6: =IF(B6="",1,SUBTOTAL(3,$B6:B$6)) -> 1 | B6: HÀ PHƯỚC | C6: TUẤN | D6: X | E6: X | G6: X | H6: X | I6: X | J6: X | K6: X | L6: X | N6: P | O6: P | P6: P | Q6: P | R6: P | U6: X | V6: X | W6: P | X6: P | Y6: X | Z6: X | AB6: X | AC6: P | AD6: P | AE6: X | AF6: X | AG6: X | AI6: =COUNTIF(D6:AH6,"X")+COUNTIF(D6:AH6,"Tr")+COUNTIF(D6:AH6,"BL") -> 16
A7: =IF(B7="",1,SUBTOTAL(3,$B$6:B7)) -> 2 | B7: VÕ THỊ ANH | C7: ĐÀO | D7: X | E7: X | G7: X | H7: X | I7: X | J7: X | K7: X | L7: X | N7: X | O7: X | P7: X | Q7: X | R7: X | S7: X | U7: DL | V7: DL | W7: X | X7: X | Y7: X | Z7: X | AB7: X | AC7: X | AD7: X | AE7: X | AF7: X | AG7: X | AI7: =COUNTIF(D7:AH7,"X")+COUNTIF(D7:AH7,"Tr")+COUNTIF(D7:AH7,"BL") -> 24
A8: =IF(B8="",1,SUBTOTAL(3,$B$6:B8)) -> 3 | B8: NGUYỄN VĂN | C8: SƠN | D8: X | G8: X | H8: X | I8: X | J8: P | K8: P | N8: P | O8: P | P8: P | Q8: P | R8: P | U8: X | V8: X | W8: X | X8: X | Y8: X | AB8: X | AC8: X | AD8: X | AE8: X | AF8: X | AI8: =COUNTIF(D8:AH8,"X")+COUNTIF(D8:AH8,"Tr")+COUNTIF(D8:AH8,"BL") -> 14
A9: =IF(B9="",1,SUBTOTAL(3,$B$6:B9)) -> 4 | B9: NGUYỄN THANH | C9: SƠN B | D9: X | E9: X | G9: X | H9: X | I9: X | J9: X | K9: X | L9: X | N9: X | O9: X | P9: X | Q9: P | R9: X | U9: P | V9: P | W9: P | X9: P | Y9: P | AB9: X | AC9: X | AD9: X | AE9: X | AF9: X | AG9: X | AI9: =COUNTIF(D9:AH9,"X")+COUNTIF(D9:AH9,"Tr")+COUNTIF(D9:AH9,"BL") -> 18
A10: =IF(B10="",1,SUBTOTAL(3,$B$6:B10)) -> 5 | B10: NGUYỄN YẾN | C10: NHI | D10: X | E10: X | G10: X | H10: X | I10: X | J10: X | K10: X | L10: X | N10: X | O10: X | P10: X | Q10: X | R10: X | S10: X | U10: DL | V10: DL | W10: X | X10: X | Y10: X | Z10: X | AB10: X | AC10: X | AD10: X | AE10: X | AF10: X | AG10: X | AI10: =COUNTIF(D10:AH10,"X")+COUNTIF(D10:AH10,"Tr")+COUNTIF(D10:AH10,"BL") -> 24
A11: =IF(B11="",1,SUBTOTAL(3,$B$6:B11)) -> 6 | B11: NGUYỄN CHÍ | C11: NHÂN | D11: X | E11: X | G11: X | H11: X | I11: X | J11: X | K11: X | L11: X | N11: X | O11: X | P11: X | Q11: X | R11: X | S11: X | U11: DL | V11: DL | W11: X | X11: X | Y11: X | AB11: X | AC11: X | AD11: X | AE11: X | AF11: X | AG11: X | AI11: =COUNTIF(D11:AH11,"X")+COUNTIF(D11:AH11,"Tr")+COUNTIF(D11:AH11,"BL") -> 23
A12: =IF(B12="",1,SUBTOTAL(3,$B$6:B12)) -> 7 | B12: VŨ THỊ THU | C12: THUỶ | D12: X | E12: X | G12: X | H12: X | I12: X | J12: X | K12: X | L12: X | N12: X | O12: X | P12: X | Q12: X | R12: X | U12: X | V12: X | W12: X | X12: X | Y12: X | Z12: X | AB12: X | AC12: X | AD12: X | AE12: X | AF12: X | AG12: X | AI12: =COUNTIF(D12:AH12,"X")+COUNTIF(D12:AH12,"Tr")+COUNTIF(D12:AH12,"BL") -> 25
B14: KÝ HIỆU: | C14: LÀM VIỆC | I14: X | L14: NGHỈ PHÉP | R14: P | U14: NGHỈ CON ỐM | AB14: CÔ | AE14: NGHỈ KHÔNG LƯƠNG Ro
C15: TRỰC TRƯỜNG | I15: Tr | L15: NGHỈ TAI NẠN LĐ | R15: T | U15: NGHỈ VIỆC RIÊNG | AB15: R | AE15: NGHỈ KHÔNG PHÉP KP
C16: ĐI HỌC | I16: Ho | L16: NGHỈ ỐM | R16: Ô | U16: NGHỈ LỄ , TẾT | AB16: L | AE16: NGHỈ THAI SẢN S
C17: Chủ nhật | L17: LÀM BÙ LỄ | R17: BL
V18: ="Ngày "&DAY(EOMONTH(D4,P2))-4&" tháng "&MONTH(P2)&" năm "&YEAR(T2) -> Ngày 27 tháng 7 năm 2016
C19: TRƯỞNG ĐƠN VỊ | W19: NGƯỜI CHẤM CÔNG
C23: HÀ PHƯỚC TUẤN | W23: HÀ PHƯỚC TUẤN

Sheet T08-2016
A1: TRƯỜNG CAO ĐẲNG KỸ THUẬT LÝ TỰ TRỌNG TP.HỒ CHÍ MINH | J1: BẢNG CHẤM CÔNG
A2: ĐƠN VỊ : PHÒNG KT&ĐBCL | M2: THÁNG | P2: =D4 -> 42583 | R2: NĂM | T2: =D4 -> 42583
T3: 1 | U3: 2 | V3: 3 | W3: 4 | X3: 5 | Y3: 6 | Z3: 7 | AA3: 8 | AB3: 9 | AC3: 10 | AD3: 11 | AE3: 12 | AF3: 13 | AG3: 14 | AH3: 15
A4: STT | B4: HỌ VÀ TÊN | D4: 42583 | E4: =D4+1 -> 42584 | F4: =E4+1 -> 42585 | G4: =F4+1 -> 42586 | H4: =G4+1 -> 42587 | I4: =H4+1 -> 42588 | J4: =I4+1 -> 42589 | K4: =J4+1 -> 42590 | L4: =K4+1 -> 42591 | ... AH4: =AG4+1 -> 42613 | AI4: TS.NGÀY LV
C5: THỨ | D5: =IF(WEEKDAY(D4)=1,"CN",IF(WEEKDAY(D4)=2,"T2",IF(WEEKDAY(D4)=3,"T3",IF(WEEKDAY(D4)=4,"T4",IF(WEEKDAY(D4)=5,"T5",IF(WEEKDAY(D4)=6,"T6","T7")))))) -> T2 | E5: =IF(WEEKDAY(E4)=1,"CN",IF(WEEKDAY(E4)=2,"T2",IF(WEEKDAY(E4)=3,"T3",IF(WEEKDAY(E4)=4,"T4",IF(WEEKDAY(E4)=5,"T5",IF(WEEKDAY(E4)=6,"T6","T7")))))) -> T3 | F5: =IF(WEEKDAY(F4)=1,"CN",IF(WEEKDAY(F4)=2,"T2",IF(WEEKDAY(F4)=3,"T3",IF(WEEKDAY(F4)=4,"T4",IF(WEEKDAY(F4)=5,"T5",IF(WEEKDAY(F4)=6,"T6","T7")))))) -> T4 | G5: =IF(WEEKDAY(G4)=1,"CN",IF(WEEKDAY(G4)=2,"T2",IF(WEEKDAY(G4)=3,"T3",IF(WEEKDAY(G4)=4,"T4",IF(WEEKDAY(G4)=5,"T5",IF(WEEKDAY(G4)=6,"T6","T7")))))) -> T5 | H5: =IF(WEEKDAY(H4)=1,"CN",IF(WEEKDAY(H4)=2,"T2",IF(WEEKDAY(H4)=3,"T3",IF(WEEKDAY(H4)=4,"T4",IF(WEEKDAY(H4)=5,"T5",IF(WEEKDAY(H4)=6,"T6","T7")))))) -> T6 | I5: =IF(WEEKDAY(I4)=1,"CN",IF(WEEKDAY(I4)=2,"T2",IF(WEEKDAY(I4)=3,"T3",IF(WEEKDAY(I4)=4,"T4",IF(WEEKDAY(I4)=5,"T5",IF(WEEKDAY(I4)=6,"T6","T7")))))) -> T7 | J5: =IF(WEEKDAY(J4)=1,"CN",IF(WEEKDAY(J4)=2,"T2",IF(WEEKDAY(J4)=3,"T3",IF(WEEKDAY(J4)=4,"T4",IF(WEEKDAY(J4)=5,"T5",IF(WEEKDAY(J4)=6,"T6","T7")))))) -> CN | K5: =IF(WEEKDAY(K4)=1,"CN",IF(WEEKDAY(K4)=2,"T2",IF(WEEKDAY(K4)=3,"T3",IF(WEEKDAY(K4)=4,"T4",IF(WEEKDAY(K4)=5,"T5",IF(WEEKDAY(K4)=6,"T6","T7")))))) -> T2 | ... AH5: =IF(WEEKDAY(AH4)=1,"CN",IF(WEEKDAY(AH4)=2,"T2",IF(WEEKDAY(AH4)=3,"T3",IF(WEEKDAY(AH4)=4,"T4",IF(WEEKDAY(AH4)=5,"T5",IF(WEEKDAY(AH4)=6,"T6","T7")))))) -> T4
A6: =IF(B6="",1,SUBTOTAL(3,$B6:B$6)) -> 1 | B6: HÀ PHƯỚC | C6: TUẤN | D6: X | E6: X | F6: X | G6: X | H6: X | K6: P | L6: P | M6: P | N6: P | O6: P | R6: P | S6: X | T6: P | U6: X | V6: X | Y6: X | Z6: X | AA6: X | AB6: X | AC6: P | AF6: X | AG6: X | AH6: X | AI6: =COUNTIF(D6:AH6,"X")+COUNTIF(D6:AH6,"Tr")+COUNTIF(D6:AH6,"BL") -> 15
A7: =IF(B7="",1,SUBTOTAL(3,$B$6:B7)) -> 2 | B7: VÕ THỊ ANH | C7: ĐÀO | D7: X | E7: X | F7: X | G7: X | H7: X | K7: X | L7: X | M7: P | N7: P | O7: P | P7: X | R7: X | S7: X | T7: X | U7: X | V7: X | Y7: P | Z7: P | AA7: P | AB7: P | AC7: P | AD7: X | AF7: X | AG7: X | AH7: X | AI7: =COUNTIF(D7:AH7,"X")+COUNTIF(D7:AH7,"Tr")+COUNTIF(D7:AH7,"BL") -> 17
A8: =IF(B8="",1,SUBTOTAL(3,$B$6:B8)) -> 3 | B8: NGUYỄN VĂN | C8: SƠN | D8: P | E8: P | F8: P | G8: P | H8: P | K8: P | L8: P | M8: X | N8: X | O8: X | R8: X | S8: X | T8: X | U8: X | V8: X | Y8: X | Z8: X | AA8: X | AB8: X | AC8: X | AD8: X | AF8: X | AG8: X | AH8: X | AI8: =COUNTIF(D8:AH8,"X")+COUNTIF(D8:AH8,"Tr")+COUNTIF(D8:AH8,"BL") -> 17
A9: =IF(B9="",1,SUBTOTAL(3,$B$6:B9)) -> 4 | B9: NGUYỄN THANH | C9: SƠN B | D9: X | E9: X | F9: X | G9: X | H9: X | K9: X | L9: X | M9: X | N9: X | O9: X | R9: X | S9: X | T9: X | U9: X | V9: X | Y9: P | Z9: P | AA9: P | AB9: P | AC9: P | AD9: X | AF9: P | AG9: P | AH9: P | AI9: =COUNTIF(D9:AH9,"X")+COUNTIF(D9:AH9,"Tr")+COUNTIF(D9:AH9,"BL") -> 16
A10: =IF(B10="",1,SUBTOTAL(3,$B$6:B10)) -> 5 | B10: NGUYỄN YẾN | C10: NHI | D10: X | E10: X | F10: X | G10: X | H10: X | I10: P | K10: X | L10: X | M10: X | N10: X | O10: X | P10: X | R10: X | S10: X | T10: X | U10: X | V10: X | W10: X | Y10: X | Z10: X | AA10: X | AB10: P | AC10: X | AD10: X | AF10: P | AG10: P | AH10: P | AI10: =COUNTIF(D10:AH10,"X")+COUNTIF(D10:AH10,"Tr")+COUNTIF(D10:AH10,"BL") -> 22
A11: =IF(B11="",1,SUBTOTAL(3,$B$6:B11)) -> 6 | B11: NGUYỄN CHÍ | C11: NHÂN | D11: X | E11: X | F11: X | G11: X | H11: X | I11: X | K11: P | L11: P | M11: X | N11: X | O11: X | R11: P | S11: X | T11: P | U11: P | V11: P | W11: X | Y11: X | Z11: X | AA11: P | AB11: X | AC11: X | AD11: X | AF11: X | AG11: X | AH11: X | AI11: =COUNTIF(D11:AH11,"X")+COUNTIF(D11:AH11,"Tr")+COUNTIF(D11:AH11,"BL") -> 19
A12: =IF(B12="",1,SUBTOTAL(3,$B$6:B12)) -> 7 | B12: VŨ THỊ THU | C12: THUỶ | D12: X | E12: X | F12: P | G12: X | H12: X | I12: X | K12: X | L12: X | M12: X | N12: X | O12: P | R12: X | S12: X | T12: X | U12: X | V12: X | Y12: X | Z12: P | AA12: X | AB12: X | AC12: P | AD12: X | AF12: X | AG12: X | AH12: P | AI12: =COUNTIF(D12:AH12,"X")+COUNTIF(D12:AH12,"Tr")+COUNTIF(D12:AH12,"BL") -> 20
B14: KÝ HIỆU: | C14: LÀM VIỆC | I14: X | L14: NGHỈ PHÉP | R14: P | U14: NGHỈ CON ỐM | AB14: CÔ | AE14: NGHỈ KHÔNG LƯƠNG Ro
C15: TRỰC TRƯỜNG | I15: Tr | L15: NGHỈ TAI NẠN LĐ | R15: T | U15: NGHỈ VIỆC RIÊNG | AB15: R | AE15: NGHỈ KHÔNG PHÉP KP
C16: ĐI HỌC | I16: Ho | L16: NGHỈ ỐM | R16: Ô | U16: NGHỈ LỄ , TẾT | AB16: L | AE16: NGHỈ THAI SẢN S
C17: Chủ nhật | L17: NGHỈ LÀM BÙ T7 | R17: B7 | U17: NGHỈ CHẾ ĐỘ | AB17: CĐ
B18: T.Tuấn: ngày 26/8 nghỉ phép thay ngày 29/7 | V18: ="Ngày "&DAY(EOMONTH(D4,P2))-0&" tháng "&MONTH(P2)&" năm "&YEAR(T2) -> Ngày 31 tháng 8 năm 2016
C19: TRƯỞNG ĐƠN VỊ | W19: NGƯỜI CHẤM CÔNG
C23: HÀ PHƯỚC TUẤN | W23: HÀ PHƯỚC TUẤN

Sheet ĐK Phép 2016
A1: TRƯỜNG CĐKT LÝ TƯ TRỌNG TP.HCM | I1: PHIẾU ĐĂNG KÝ NGHỈ PHÉP NĂM
A2: ĐƠN VỊ : PHÒNG KT&KĐCLGD
D3: THÁNG 07 NĂM 2016
A4: STT | B4: HỌ VÀ TÊN | D4: 42552 | E4: =D4+1 -> 42553 | F4: =E4+1 -> 42554 | G4: =F4+1 -> 42555 | H4: =G4+1 -> 42556 | I4: =H4+1 -> 42557 | J4: =I4+1 -> 42558 | K4: =J4+1 -> 42559 | L4: =K4+1 -> 42560 | ... AH4: =AG4+1 -> 42582
C5: THỨ | D5: =IF(WEEKDAY(D4)=1,"CN",IF(WEEKDAY(D4)=2,"T2",IF(WEEKDAY(D4)=3,"T3",IF(WEEKDAY(D4)=4,"T4",IF(WEEKDAY(D4)=5,"T5",IF(WEEKDAY(D4)=6,"T6","T7")))))) -> T6 | E5: =IF(WEEKDAY(E4)=1,"CN",IF(WEEKDAY(E4)=2,"T2",IF(WEEKDAY(E4)=3,"T3",IF(WEEKDAY(E4)=4,"T4",IF(WEEKDAY(E4)=5,"T5",IF(WEEKDAY(E4)=6,"T6","T7")))))) -> T7 | F5: =IF(WEEKDAY(F4)=1,"CN",IF(WEEKDAY(F4)=2,"T2",IF(WEEKDAY(F4)=3,"T3",IF(WEEKDAY(F4)=4,"T4",IF(WEEKDAY(F4)=5,"T5",IF(WEEKDAY(F4)=6,"T6","T7")))))) -> CN | G5: =IF(WEEKDAY(G4)=1,"CN",IF(WEEKDAY(G4)=2,"T2",IF(WEEKDAY(G4)=3,"T3",IF(WEEKDAY(G4)=4,"T4",IF(WEEKDAY(G4)=5,"T5",IF(WEEKDAY(G4)=6,"T6","T7")))))) -> T2 | H5: =IF(WEEKDAY(H4)=1,"CN",IF(WEEKDAY(H4)=2,"T2",IF(WEEKDAY(H4)=3,"T3",IF(WEEKDAY(H4)=4,"T4",IF(WEEKDAY(H4)=5,"T5",IF(WEEKDAY(H4)=6,"T6","T7")))))) -> T3 | I5: =IF(WEEKDAY(I4)=1,"CN",IF(WEEKDAY(I4)=2,"T2",IF(WEEKDAY(I4)=3,"T3",IF(WEEKDAY(I4)=4,"T4",IF(WEEKDAY(I4)=5,"T5",IF(WEEKDAY(I4)=6,"T6","T7")))))) -> T4 | J5: =IF(WEEKDAY(J4)=1,"CN",IF(WEEKDAY(J4)=2,"T2",IF(WEEKDAY(J4)=3,"T3",IF(WEEKDAY(J4)=4,"T4",IF(WEEKDAY(J4)=5,"T5",IF(WEEKDAY(J4)=6,"T6","T7")))))) -> T5 | K5: =IF(WEEKDAY(K4)=1,"CN",IF(WEEKDAY(K4)=2,"T2",IF(WEEKDAY(K4)=3,"T3",IF(WEEKDAY(K4)=4,"T4",IF(WEEKDAY(K4)=5,"T5",IF(WEEKDAY(K4)=6,"T6","T7")))))) -> T6 | ... AH5: =IF(WEEKDAY(AH4)=1,"CN",IF(WEEKDAY(AH4)=2,"T2",IF(WEEKDAY(AH4)=3,"T3",IF(WEEKDAY(AH4)=4,"T4",IF(WEEKDAY(AH4)=5,"T5",IF(WEEKDAY(AH4)=6,"T6","T7")))))) -> CN
A6: 1 | B6: HÀ PHƯỚC | C6: TUẤN | D6: =IF('T07-2016'!D6="P","P","") | E6: =IF('T07-2016'!E6="P","P","") | G6: =IF('T07-2016'!G6="P","P","") | H6: =IF('T07-2016'!H6="P","P","") | I6: =IF('T07-2016'!I6="P","P","") | J6: =IF('T07-2016'!J6="P","P","") | K6: =IF('T07-2016'!K6="P","P","") | L6: =IF('T07-2016'!L6="P","P","") | N6: =IF('T07-2016'!N6="P","P","") -> P | O6: =IF('T07-2016'!O6="P","P","") -> P | P6: =IF('T07-2016'!P6="P","P","") -> P | Q6: =IF('T07-2016'!Q6="P","P","") -> P | R6: =IF('T07-2016'!R6="P","P","") -> P | S6: =IF('T07-2016'!S6="P","P","") | U6: =IF('T07-2016'!U6="P","P","") | V6: =IF('T07-2016'!V6="P","P","") | W6: =IF('T07-2016'!W6="P","P","") -> P | X6: =IF('T07-2016'!X6="P","P","") -> P | Y6: =IF('T07-2016'!Y6="P","P","") | Z6: =IF('T07-2016'!Z6="P","P","") | AB6: =IF('T07-2016'!AB6="P","P","") | AC6: =IF('T07-2016'!AC6="P","P","") -> P | AD6: =IF('T07-2016'!AD6="P","P","") -> P | AE6: =IF('T07-2016'!AE6="P","P","") | AF6: =IF('T07-2016'!AF6="P","P","") | AG6: =IF('T07-2016'!AG6="P","P","")
A7: 2 | B7: VÕ THỊ ANH | C7: ĐÀO | D7: =IF('T07-2016'!D7="P","P","") | E7: =IF('T07-2016'!E7="P","P","") | G7: =IF('T07-2016'!G7="P","P","") | H7: =IF('T07-2016'!H7="P","P","") | I7: =IF('T07-2016'!I7="P","P","") | J7: =IF('T07-2016'!J7="P","P","") | K7: =IF('T07-2016'!K7="P","P","") | L7: =IF('T07-2016'!L7="P","P","") | N7: =IF('T07-2016'!N7="P","P","") | O7: =IF('T07-2016'!O7="P","P","") | P7: =IF('T07-2016'!P7="P","P","") | Q7: =IF('T07-2016'!Q7="P","P","") | R7: =IF('T07-2016'!R7="P","P","") | S7: =IF('T07-2016'!S7="P","P","") | U7: DL | V7: DL | W7: =IF('T07-2016'!W7="P","P","") | X7: =IF('T07-2016'!X7="P","P","") | Y7: =IF('T07-2016'!Y7="P","P","") | Z7: =IF('T07-2016'!Z7="P","P","") | AB7: =IF('T07-2016'!AB7="P","P","") | AC7: =IF('T07-2016'!AC7="P","P","") | AD7: =IF('T07-2016'!AD7="P","P","") | AE7: =IF('T07-2016'!AE7="P","P","") | AF7: =IF('T07-2016'!AF7="P","P","") | AG7: =IF('T07-2016'!AG7="P","P","")
A8: 3 | B8: NGUYỄN VĂN | C8: SƠN | D8: =IF('T07-2016'!D8="P","P","") | E8: =IF('T07-2016'!E8="P","P","") | G8: =IF('T07-2016'!G8="P","P","") | H8: =IF('T07-2016'!H8="P","P","") | I8: =IF('T07-2016'!I8="P","P","") | J8: =IF('T07-2016'!J8="P","P","") -> P | K8: =IF('T07-2016'!K8="P","P","") -> P | L8: =IF('T07-2016'!L8="P","P","") | N8: =IF('T07-2016'!N8="P","P","") -> P | O8: =IF('T07-2016'!O8="P","P","") -> P | P8: =IF('T07-2016'!P8="P","P","") -> P | Q8: =IF('T07-2016'!Q8="P","P","") -> P | R8: =IF('T07-2016'!R8="P","P","") -> P | S8: =IF('T07-2016'!S8="P","P","") | U8: =IF('T07-2016'!U8="P","P","") | V8: =IF('T07-2016'!V8="P","P","") | W8: =IF('T07-2016'!W8="P","P","") | X8: =IF('T07-2016'!X8="P","P","") | Y8: =IF('T07-2016'!Y8="P","P","") | Z8: =IF('T07-2016'!Z8="P","P","") | AB8: =IF('T07-2016'!AB8="P","P","") | AC8: =IF('T07-2016'!AC8="P","P","") | AD8: =IF('T07-2016'!AD8="P","P","") | AE8: =IF('T07-2016'!AE8="P","P","") | AF8: =IF('T07-2016'!AF8="P","P","") | AG8: =IF('T07-2016'!AG8="P","P","")
A9: 4 | B9: NGUYỄN THANH | C9: SƠN B | D9: =IF('T07-2016'!D9="P","P","") | E9: =IF('T07-2016'!E9="P","P","") | G9: =IF('T07-2016'!G9="P","P","") | H9: =IF('T07-2016'!H9="P","P","") | I9: =IF('T07-2016'!I9="P","P","") | J9: =IF('T07-2016'!J9="P","P","") | K9: =IF('T07-2016'!K9="P","P","") | L9: =IF('T07-2016'!L9="P","P","") | N9: =IF('T07-2016'!N9="P","P","") | O9: =IF('T07-2016'!O9="P","P","") | P9: =IF('T07-2016'!P9="P","P","") | Q9: =IF('T07-2016'!Q9="P","P","") -> P | R9: =IF('T07-2016'!R9="P","P","") | S9: =IF('T07-2016'!S9="P","P","") | U9: =IF('T07-2016'!U9="P","P","") -> P | V9: =IF('T07-2016'!V9="P","P","") -> P | W9: =IF('T07-2016'!W9="P","P","") -> P | X9: =IF('T07-2016'!X9="P","P","") -> P | Y9: =IF('T07-2016'!Y9="P","P","") -> P | Z9: =IF('T07-2016'!Z9="P","P","") | AB9: =IF('T07-2016'!AB9="P","P","") | AC9: =IF('T07-2016'!AC9="P","P","") | AD9: =IF('T07-2016'!AD9="P","P","") | AE9: =IF('T07-2016'!AE9="P","P","") | AF9: =IF('T07-2016'!AF9="P","P","") | AG9: =IF('T07-2016'!AG9="P","P","")
A10: 5 | B10: NGUYỄN YẾN | C10: NHI | D10: =IF('T07-2016'!D10="P","P","") | E10: =IF('T07-2016'!E10="P","P","") | G10: =IF('T07-2016'!G10="P","P","") | H10: =IF('T07-2016'!H10="P","P","") | I10: =IF('T07-2016'!I10="P","P","") | J10: =IF('T07-2016'!J10="P","P","") | K10: =IF('T07-2016'!K10="P","P","") | L10: =IF('T07-2016'!L10="P","P","") | N10: =IF('T07-2016'!N10="P","P","") | O10: =IF('T07-2016'!O10="P","P","") | P10: =IF('T07-2016'!P10="P","P","") | Q10: =IF('T07-2016'!Q10="P","P","") | R10: =IF('T07-2016'!R10="P","P","") | S10: =IF('T07-2016'!S10="P","P","") | U10: DL | V10: DL | W10: =IF('T07-2016'!W10="P","P","") | X10: =IF('T07-2016'!X10="P","P","") | Y10: =IF('T07-2016'!Y10="P","P","") | Z10: =IF('T07-2016'!Z10="P","P","") | AB10: =IF('T07-2016'!AB10="P","P","") | AC10: =IF('T07-2016'!AC10="P","P","") | AD10: =IF('T07-2016'!AD10="P","P","") | AE10: =IF('T07-2016'!AE10="P","P","") | AF10: =IF('T07-2016'!AF10="P","P","") | AG10: =IF('T07-2016'!AG10="P","P","")
A11: 6 | B11: NGUYỄN CHÍ | C11: NHÂN | D11: =IF('T07-2016'!D11="P","P","") | E11: =IF('T07-2016'!E11="P","P","") | G11: =IF('T07-2016'!G11="P","P","") | H11: =IF('T07-2016'!H11="P","P","") | I11: =IF('T07-2016'!I11="P","P","") | J11: =IF('T07-2016'!J11="P","P","") | K11: =IF('T07-2016'!K11="P","P","") | L11: =IF('T07-2016'!L11="P","P","") | N11: =IF('T07-2016'!N11="P","P","") | O11: =IF('T07-2016'!O11="P","P","") | P11: =IF('T07-2016'!P11="P","P","") | Q11: =IF('T07-2016'!Q11="P","P","") | R11: =IF('T07-2016'!R11="P","P","") | S11: =IF('T07-2016'!S11="P","P","") | U11: DL | V11: DL | W11: =IF('T07-2016'!W11="P","P","") | X11: =IF('T07-2016'!X11="P","P","") | Y11: =IF('T07-2016'!Y11="P","P","") | Z11: =IF('T07-2016'!Z11="P","P","") | AB11: =IF('T07-2016'!AB11="P","P","") | AC11: =IF('T07-2016'!AC11="P","P","") | AD11: =IF('T07-2016'!AD11="P","P","") | AE11: =IF('T07-2016'!AE11="P","P","") | AF11: =IF('T07-2016'!AF11="P","P","") | AG11: =IF('T07-2016'!AG11="P","P","")
A12: 7 | B12: VŨ THỊ THU | C12: THUỶ | D12: =IF('T07-2016'!D12="P","P","") | E12: =IF('T07-2016'!E12="P","P","") | G12: =IF('T07-2016'!G12="P","P","") | H12: =IF('T07-2016'!H12="P","P","") | I12: =IF('T07-2016'!I12="P","P","") | J12: =IF('T07-2016'!J12="P","P","") | K12: =IF('T07-2016'!K12="P","P","") | L12: =IF('T07-2016'!L12="P","P","") | N12: =IF('T07-2016'!N12="P","P","") | O12: =IF('T07-2016'!O12="P","P","") | P12: =IF('T07-2016'!P12="P","P","") | Q12: =IF('T07-2016'!Q12="P","P","") | R12: =IF('T07-2016'!R12="P","P","") | S12: =IF('T07-2016'!S12="P","P","") | U12: =IF('T07-2016'!U12="P","P","") | V12: =IF('T07-2016'!V12="P","P","") | W12: =IF('T07-2016'!W12="P","P","") | X12: =IF('T07-2016'!X12="P","P","") | Y12: =IF('T07-2016'!Y12="P","P","") | Z12: =IF('T07-2016'!Z12="P","P","") | AB12: =IF('T07-2016'!AB12="P","P","") | AC12: =IF('T07-2016'!AC12="P","P","") | AD12: =IF('T07-2016'!AD12="P","P","") | AE12: =IF('T07-2016'!AE12="P","P","") | AF12: =IF('T07-2016'!AF12="P","P","") | AG12: =IF('T07-2016'!AG12="P","P","")
D15: THÁNG 08 NĂM 2016
A16: STT | B16: HỌ VÀ TÊN | D16: 42583 | E16: =D16+1 -> 42584 | F16: =E16+1 -> 42585 | G16: =F16+1 -> 42586 | H16: =G16+1 -> 42587 | I16: =H16+1 -> 42588 | J16: =I16+1 -> 42589 | K16: =J16+1 -> 42590 | L16: =K16+1 -> 42591 | ... AH16: =AG16+1 -> 42613
C17: THỨ | D17: =IF(WEEKDAY(D16)=1,"CN",IF(WEEKDAY(D16)=2,"T2",IF(WEEKDAY(D16)=3,"T3",IF(WEEKDAY(D16)=4,"T4",IF(WEEKDAY(D16)=5,"T5",IF(WEEKDAY(D16)=6,"T6","T7")))))) -> T2 | E17: =IF(WEEKDAY(E16)=1,"CN",IF(WEEKDAY(E16)=2,"T2",IF(WEEKDAY(E16)=3,"T3",IF(WEEKDAY(E16)=4,"T4",IF(WEEKDAY(E16)=5,"T5",IF(WEEKDAY(E16)=6,"T6","T7")))))) -> T3 | F17: =IF(WEEKDAY(F16)=1,"CN",IF(WEEKDAY(F16)=2,"T2",IF(WEEKDAY(F16)=3,"T3",IF(WEEKDAY(F16)=4,"T4",IF(WEEKDAY(F16)=5,"T5",IF(WEEKDAY(F16)=6,"T6","T7")))))) -> T4 | G17: =IF(WEEKDAY(G16)=1,"CN",IF(WEEKDAY(G16)=2,"T2",IF(WEEKDAY(G16)=3,"T3",IF(WEEKDAY(G16)=4,"T4",IF(WEEKDAY(G16)=5,"T5",IF(WEEKDAY(G16)=6,"T6","T7")))))) -> T5 | H17: =IF(WEEKDAY(H16)=1,"CN",IF(WEEKDAY(H16)=2,"T2",IF(WEEKDAY(H16)=3,"T3",IF(WEEKDAY(H16)=4,"T4",IF(WEEKDAY(H16)=5,"T5",IF(WEEKDAY(H16)=6,"T6","T7")))))) -> T6 | I17: =IF(WEEKDAY(I16)=1,"CN",IF(WEEKDAY(I16)=2,"T2",IF(WEEKDAY(I16)=3,"T3",IF(WEEKDAY(I16)=4,"T4",IF(WEEKDAY(I16)=5,"T5",IF(WEEKDAY(I16)=6,"T6","T7")))))) -> T7 | J17: =IF(WEEKDAY(J16)=1,"CN",IF(WEEKDAY(J16)=2,"T2",IF(WEEKDAY(J16)=3,"T3",IF(WEEKDAY(J16)=4,"T4",IF(WEEKDAY(J16)=5,"T5",IF(WEEKDAY(J16)=6,"T6","T7")))))) -> CN | K17: =IF(WEEKDAY(K16)=1,"CN",IF(WEEKDAY(K16)=2,"T2",IF(WEEKDAY(K16)=3,"T3",IF(WEEKDAY(K16)=4,"T4",IF(WEEKDAY(K16)=5,"T5",IF(WEEKDAY(K16)=6,"T6","T7")))))) -> T2 | ... AH17: =IF(WEEKDAY(AH16)=1,"CN",IF(WEEKDAY(AH16)=2,"T2",IF(WEEKDAY(AH16)=3,"T3",IF(WEEKDAY(AH16)=4,"T4",IF(WEEKDAY(AH16)=5,"T5",IF(WEEKDAY(AH16)=6,"T6","T7")))))) -> T4
A18: 1 | B18: HÀ PHƯỚC | C18: TUẤN | D18: =IF('T08-2016'!D6="P","P","") | E18: =IF('T08-2016'!E6="P","P","") | F18: =IF('T08-2016'!F6="P","P","") | G18: =IF('T08-2016'!G6="P","P","") | H18: =IF('T08-2016'!H6="P","P","") | I18: =IF('T08-2016'!I6="P","P","") | K18: =IF('T08-2016'!K6="P","P","") -> P | L18: =IF('T08-2016'!L6="P","P","") -> P | M18: =IF('T08-2016'!M6="P","P","") -> P | N18: =IF('T08-2016'!N6="P","P","") -> P | O18: =IF('T08-2016'!O6="P","P","") -> P | P18: =IF('T08-2016'!P6="P","P","") | R18: =IF('T08-2016'!R6="P","P","") -> P | S18: =IF('T08-2016'!S6="P","P","") | T18: =IF('T08-2016'!T6="P","P","") -> P | U18: =IF('T08-2016'!U6="P","P","") | V18: =IF('T08-2016'!V6="P","P","") | W18: =IF('T08-2016'!W6="P","P","") | Y18: =IF('T08-2016'!Y6="P","P","") | Z18: =IF('T08-2016'!Z6="P","P","") | AA18: =IF('T08-2016'!AA6="P","P","") | AB18: =IF('T08-2016'!AB6="P","P","") | AC18: =IF('T08-2016'!AC6="P","P","") -> P | AD18: =IF('T08-2016'!AD6="P","P","") | AF18: =IF('T08-2016'!AF6="P","P","") | AG18: =IF('T08-2016'!AG6="P","P","") | AH18: =IF('T08-2016'!AH6="P","P","")
A19: 2 | B19: VÕ THỊ ANH | C19: ĐÀO | D19: =IF('T08-2016'!D7="P","P","") | E19: =IF('T08-2016'!E7="P","P","") | F19: =IF('T08-2016'!F7="P","P","") | G19: =IF('T08-2016'!G7="P","P","") | H19: =IF('T08-2016'!H7="P","P","") | I19: =IF('T08-2016'!I7="P","P","") | K19: =IF('T08-2016'!K7="P","P","") | L19: =IF('T08-2016'!L7="P","P","") | M19: =IF('T08-2016'!M7="P","P","") -> P | N19: =IF('T08-2016'!N7="P","P","") -> P | O19: =IF('T08-2016'!O7="P","P","") -> P | P19: =IF('T08-2016'!P7="P","P","") | R19: =IF('T08-2016'!R7="P","P","") | S19: =IF('T08-2016'!S7="P","P","") | T19: =IF('T08-2016'!T7="P","P","") | U19: =IF('T08-2016'!U7="P","P","") | V19: =IF('T08-2016'!V7="P","P","") | W19: =IF('T08-2016'!W7="P","P","") | Y19: =IF('T08-2016'!Y7="P","P","") -> P | Z19: =IF('T08-2016'!Z7="P","P","") -> P | AA19: =IF('T08-2016'!AA7="P","P","") -> P | AB19: =IF('T08-2016'!AB7="P","P","") -> P | AC19: =IF('T08-2016'!AC7="P","P","") -> P | AD19: =IF('T08-2016'!AD7="P","P","") | AF19: =IF('T08-2016'!AF7="P","P","") | AG19: =IF('T08-2016'!AG7="P","P","") | AH19: =IF('T08-2016'!AH7="P","P","")
A20: 3 | B20: NGUYỄN VĂN | C20: SƠN | D20: =IF('T08-2016'!D8="P","P","") -> P | E20: =IF('T08-2016'!E8="P","P","") -> P | F20: =IF('T08-2016'!F8="P","P","") -> P | G20: =IF('T08-2016'!G8="P","P","") -> P | H20: =IF('T08-2016'!H8="P","P","") -> P | I20: =IF('T08-2016'!I8="P","P","") | K20: =IF('T08-2016'!K8="P","P","") -> P | L20: =IF('T08-2016'!L8="P","P","") -> P | M20: =IF('T08-2016'!M8="P","P","") | N20: =IF('T08-2016'!N8="P","P","") | O20: =IF('T08-2016'!O8="P","P","") | P20: =IF('T08-2016'!P8="P","P","") | R20: =IF('T08-2016'!R8="P","P","") | S20: =IF('T08-2016'!S8="P","P","") | T20: =IF('T08-2016'!T8="P","P","") | U20: =IF('T08-2016'!U8="P","P","") | V20: =IF('T08-2016'!V8="P","P","") | W20: =IF('T08-2016'!W8="P","P","") | Y20: =IF('T08-2016'!Y8="P","P","") | Z20: =IF('T08-2016'!Z8="P","P","") | AA20: =IF('T08-2016'!AA8="P","P","") | AB20: =IF('T08-2016'!AB8="P","P","") | AC20: =IF('T08-2016'!AC8="P","P","") | AD20: =IF('T08-2016'!AD8="P","P","") | AF20: =IF('T08-2016'!AF8="P","P","") | AG20: =IF('T08-2016'!AG8="P","P","") | AH20: =IF('T08-2016'!AH8="P","P","")
A21: 4 | B21: NGUYỄN THANH | C21: SƠN B | D21: =IF('T08-2016'!D9="P","P","") | E21: =IF('T08-2016'!E9="P","P","") | F21: =IF('T08-2016'!F9="P","P","") | G21: =IF('T08-2016'!G9="P","P","") | H21: =IF('T08-2016'!H9="P","P","") | I21: =IF('T08-2016'!I9="P","P","") | K21: =IF('T08-2016'!K9="P","P","") | L21: =IF('T08-2016'!L9="P","P","") | M21: =IF('T08-2016'!M9="P","P","") | N21: =IF('T08-2016'!N9="P","P","") | O21: =IF('T08-2016'!O9="P","P","") | P21: =IF('T08-2016'!P9="P","P","") | R21: =IF('T08-2016'!R9="P","P","") | S21: =IF('T08-2016'!S9="P","P","") | T21: =IF('T08-2016'!T9="P","P","") | U21: =IF('T08-2016'!U9="P","P","") | V21: =IF('T08-2016'!V9="P","P","") | W21: =IF('T08-2016'!W9="P","P","") | Y21: =IF('T08-2016'!Y9="P","P","") -> P | Z21: =IF('T08-2016'!Z9="P","P","") -> P | AA21: =IF('T08-2016'!AA9="P","P","") -> P | AB21: =IF('T08-2016'!AB9="P","P","") -> P | AC21: =IF('T08-2016'!AC9="P","P","") -> P | AD21: =IF('T08-2016'!AD9="P","P","") | AF21: =IF('T08-2016'!AF9="P","P","") -> P | AG21: =IF('T08-2016'!AG9="P","P","") -> P | AH21: =IF('T08-2016'!AH9="P","P","") -> P
A22: 5 | B22: NGUYỄN YẾN | C22: NHI | D22: =IF('T08-2016'!D10="P","P","") | E22: =IF('T08-2016'!E10="P","P","") | F22: =IF('T08-2016'!F10="P","P","") | G22: =IF('T08-2016'!G10="P","P","") | H22: =IF('T08-2016'!H10="P","P","") | I22: =IF('T08-2016'!I10="P","P","") -> P | K22: =IF('T08-2016'!K10="P","P","") | L22: =IF('T08-2016'!L10="P","P","") | M22: =IF('T08-2016'!M10="P","P","") | N22: =IF('T08-2016'!N10="P","P","") | O22: =IF('T08-2016'!O10="P","P","") | P22: =IF('T08-2016'!P10="P","P","") | R22: =IF('T08-2016'!R10="P","P","") | S22: =IF('T08-2016'!S10="P","P","") | T22: =IF('T08-2016'!T10="P","P","") | U22: =IF('T08-2016'!U10="P","P","") | V22: =IF('T08-2016'!V10="P","P","") | W22: =IF('T08-2016'!W10="P","P","") | Y22: =IF('T08-2016'!Y10="P","P","") | Z22: =IF('T08-2016'!Z10="P","P","") | AA22: =IF('T08-2016'!AA10="P","P","") | AB22: =IF('T08-2016'!AB10="P","P","") -> P | AC22: =IF('T08-2016'!AC10="P","P","") | AD22: =IF('T08-2016'!AD10="P","P","") | AF22: =IF('T08-2016'!AF10="P","P","") -> P | AG22: =IF('T08-2016'!AG10="P","P","") -> P | AH22: =IF('T08-2016'!AH10="P","P","") -> P
A23: 6 | B23: NGUYỄN CHÍ | C23: NHÂN | D23: =IF('T08-2016'!D11="P","P","") | E23: =IF('T08-2016'!E11="P","P","") | F23: =IF('T08-2016'!F11="P","P","") | G23: =IF('T08-2016'!G11="P","P","") | H23: =IF('T08-2016'!H11="P","P","") | I23: =IF('T08-2016'!I11="P","P","") | K23: =IF('T08-2016'!K11="P","P","") -> P | L23: =IF('T08-2016'!L11="P","P","") -> P | M23: =IF('T08-2016'!M11="P","P","") | N23: =IF('T08-2016'!N11="P","P","") | O23: =IF('T08-2016'!O11="P","P","") | P23: =IF('T08-2016'!P11="P","P","") | R23: =IF('T08-2016'!R11="P","P","") -> P | S23: =IF('T08-2016'!S11="P","P","") | T23: =IF('T08-2016'!T11="P","P","") -> P | U23: =IF('T08-2016'!U11="P","P","") -> P | V23: =IF('T08-2016'!V11="P","P","") -> P | W23: =IF('T08-2016'!W11="P","P","") | Y23: =IF('T08-2016'!Y11="P","P","") | Z23: =IF('T08-2016'!Z11="P","P","") | AA23: =IF('T08-2016'!AA11="P","P","") -> P | AB23: =IF('T08-2016'!AB11="P","P","") | AC23: =IF('T08-2016'!AC11="P","P","") | AD23: =IF('T08-2016'!AD11="P","P","") | AF23: =IF('T08-2016'!AF11="P","P","") | AG23: =IF('T08-2016'!AG11="P","P","") | AH23: =IF('T08-2016'!AH11="P","P","")
A24: 7 | B24: VŨ THỊ THU | C24: THUỶ | D24: =IF('T08-2016'!D12="P","P","") | E24: =IF('T08-2016'!E12="P","P","") | F24: =IF('T08-2016'!F12="P","P","") -> P | G24: =IF('T08-2016'!G12="P","P","") | H24: =IF('T08-2016'!H12="P","P","") | I24: =IF('T08-2016'!I12="P","P","") | K24: =IF('T08-2016'!K12="P","P","") | L24: =IF('T08-2016'!L12="P","P","") | M24: =IF('T08-2016'!M12="P","P","") | N24: =IF('T08-2016'!N12="P","P","") | O24: =IF('T08-2016'!O12="P","P","") -> P | P24: =IF('T08-2016'!P12="P","P","") | R24: =IF('T08-2016'!R12="P","P","") | S24: =IF('T08-2016'!S12="P","P","") | T24: =IF('T08-2016'!T12="P","P","") | U24: =IF('T08-2016'!U12="P","P","") | V24: =IF('T08-2016'!V12="P","P","") | W24: =IF('T08-2016'!W12="P","P","") | Y24: =IF('T08-2016'!Y12="P","P","") | Z24: =IF('T08-2016'!Z12="P","P","") -> P | AA24: =IF('T08-2016'!AA12="P","P","") | AB24: =IF('T08-2016'!AB12="P","P","") | AC24: =IF('T08-2016'!AC12="P","P","") -> P | AD24: =IF('T08-2016'!AD12="P","P","") | AF24: =IF('T08-2016'!AF12="P","P","") | AG24: =IF('T08-2016'!AG12="P","P","") | AH24: =IF('T08-2016'!AH12="P","P","") -> P
N26: 01/7 đến 30/7 thi học kỳ 2 (chính và phụ) các khóa: Cả phòng
A27: STT | B27: Tên | C27: CÒN LẠI | E27: 15-16 | F27: ĐK | N27: 23 đến 28 tháng 7 coi thi TN 14TC: Cả phòng
N28: 01/8 đến 06/8: chấm thi tốt nghiệp: T. VSơn, T Nhân, T Tuấn
A29: 1 | B29: TUẤN | C29: =D29+E29-F29 -> 0 | E29: 17 | F29: =COUNTIF($D$6:$AH$6,"P")+COUNTIF($D$18:$AH$18,"P") -> 17 | N29: 08/8 đến 09/8: công bố điểm thi tốt nghiệp: C. Đào
A30: 2 | B30: ĐÀO | C30: =D30+E30-F30 -> 1 | E30: 9 | F30: =COUNTIF($D$7:$AH$7,"P")+COUNTIF($D$19:$AH$19,"P") -> 8 | N30: 10 đến 19/8: phúc khảo thi tốt nghiệp 14TC: Cả phòng
A31: 3 | B31: SƠN | C31: =D31+E31-F31 -> 0 | E31: 14 | F31: =COUNTIF($D$8:$AH$8,"P")+COUNTIF($D$20:$AH$20,"P") -> 14
A32: 4 | B32: SƠN B | C32: =D32+E32-F32 -> 0 | E32: 14 | F32: =COUNTIF($D$9:$AH$9,"P")+COUNTIF($D$21:$AH$21,"P") -> 14
A33: 5 | B33: NHI | C33: =D33+E33-F33 -> 0 | E33: 5 | F33: =COUNTIF($D$10:$AH$10,"P")+COUNTIF($D$22:$AH$22,"P") -> 5
A34: 6 | B34: NHÂN | C34: =D34+E34-F34 -> 7 | E34: 14 | F34: =COUNTIF($D$11:$AH$11,"P")+COUNTIF($D$23:$AH$23,"P") -> 7
A35: 7 | B35: THUỶ | C35: =D35+E35-F35 -> 0 | E35: 5 | F35: =COUNTIF($D$12:$AH$12,"P")+COUNTIF($D$24:$AH$24,"P") -> 5

Sheet PHEP NH 2015-2016
A1: ỦY BAN NHÂN DÂN TP.HỒ CHÍ MINH | H1: CỘNG HÒA XÃ HỘI CHỦ NGHĨA VIỆT NAM
A2: TRƯỜNG CAO ĐẲNG KỸ THUẬT LÝ TỰ TRỌNG TP.HỒ CHÍ MINH | H2: Độc lập - Tự do - Hạnh phúc
H3: Thành phố Hồ Chí Minh, ngày 13 tháng 6 năm 2016
A4: BẢNG THỐNG KÊ
A5: SỐ NGÀY NGHỈ PHÉP CỦA CÁN BỘ - NHÂN VIÊN KHỐI CHUYÊN NGHIỆP NĂM HỌC 2015 - 2016
A6: (Tính từ ngày 01/9/2015 đến ngày 31/5/2016)
A9: STT | B9: HỌ TÊN | D9: Đơn vị công tác | E9: Năm công tác | F9: Số ngày phép năm học 2015 - 2016 | K9: Ngày nghỉ cụ thể trong năm học 2015 - 2016 | L9: Ngày nghỉ không trừ phép trong năm học 2015 - 2016 | M9: Ghi chú
F10: Phép năm | G10: Theo LLĐ | H10: Số ngày đã nghỉ trong NH 2014-2015 | I10: Số ngày đã nghỉ trong NH 2015-2016 | J10: Số ngày còn được nghỉ
A11: A | B11: B | D11: C | E11: 1 | F11: 2 | G11: 3 | H11: 4 | I11: 5 | J11: 6 | K11: 7 | L11: 8 | M11: 9
A12: 01 | B12: Hà Phước | C12: TUẤN | D12: P. KT và ĐBCL | E12: 1987 | F12: 12 | G12: 5 | J12: =(F12+G12)-(H12+I12) -> 17 | M12: 17 | O12: =ROUNDDOWN((2017-E12)/5,0) -> 6 | P12: =O12+F12 -> 18
A13: 02 | B13: Võ Thị Anh | C13: ĐÀO | E13: 1989 | F13: 12 | G13: 5 | I13: 8 | J13: =(F13+G13)-(H13+I13) -> 9 | K13: Nghỉ: 13, 16, 17/11/2015 (3) Nghỉ: 14, 16, 17/12/2015 (3) Nghỉ: 25, 26/01/2016 (2) | M13: 9 | O13: =ROUNDDOWN((2017-E13)/5,0) -> 5 | P13: =O13+F13 -> 17
A14: 03 | B14: Nguyễn Chí | C14: NHÂN | E14: 2003 | F14: 12 | G14: 2 | J14: =(F14+G14)-(H14+I14) -> 14 | M14: 14 | O14: =ROUNDDOWN((2017-E14)/5,0) -> 2 | P14: =O14+F14 -> 14
A15: 04 | B15: Nguyễn Thanh | C15: SƠN | E15: 1982 | F15: 12 | G15: 6 | I15: 4 | J15: =(F15+G15)-(H15+I15) -> 14 | K15: Nghỉ: 11, 12/11/2015 (2) Nghỉ: 02, 03/02/2016 (2) | M15: 14 | O15: =ROUNDDOWN((2017-E15)/5,0) -> 7 | P15: =O15+F15 -> 19
A16: 05 | B16: Nguyễn Văn | C16: SƠN | E16: 1989 | F16: 12 | G16: 5 | I16: 3 | J16: =(F16+G16)-(H16+I16) -> 14 | K16: Nghỉ: 24, 25/12/2015 (2) Nghỉ: 11/5/2016 | M16: 14 | O16: =ROUNDDOWN((2017-E16)/5,0) -> 5 | P16: =O16+F16 -> 17
A17: 06 | B17: Vũ Thị Thu | C17: THỦY | E17: 2006 | F17: 12 | G17: 2 | I17: 6 | J17: =(F17+G17)-(H17+I17) -> 8 | K17: Nghỉ: 22, 28/10/2015 (2) Nghỉ: 24, 25/3/2016 (2) Nghỉ: 30, 31/5/2016 (2) | M17: 6 | O17: =ROUNDDOWN((2017-E17)/5,0) -> 2 | P17: =O17+F17 -> 14
